BEGIN:VCALENDAR
VERSION:2.0
PRODID:-//Hallet Oak Foundation Inc - ECPv6.15.20//NONSGML v1.0//EN
CALSCALE:GREGORIAN
METHOD:PUBLISH
X-ORIGINAL-URL:https://halletoakgallery.com
X-WR-CALDESC:Events for Hallet Oak Foundation Inc
REFRESH-INTERVAL;VALUE=DURATION:PT1H
X-Robots-Tag:noindex
X-PUBLISHED-TTL:PT1H
BEGIN:VTIMEZONE
TZID:UTC
BEGIN:STANDARD
TZOFFSETFROM:+0000
TZOFFSETTO:+0000
TZNAME:UTC
DTSTART:20190101T000000
END:STANDARD
END:VTIMEZONE
BEGIN:VTIMEZONE
TZID:America/Chicago
BEGIN:DAYLIGHT
TZOFFSETFROM:-0600
TZOFFSETTO:-0500
TZNAME:CDT
DTSTART:20190310T080000
END:DAYLIGHT
BEGIN:STANDARD
TZOFFSETFROM:-0500
TZOFFSETTO:-0600
TZNAME:CST
DTSTART:20191103T070000
END:STANDARD
BEGIN:DAYLIGHT
TZOFFSETFROM:-0600
TZOFFSETTO:-0500
TZNAME:CDT
DTSTART:20200308T080000
END:DAYLIGHT
BEGIN:STANDARD
TZOFFSETFROM:-0500
TZOFFSETTO:-0600
TZNAME:CST
DTSTART:20201101T070000
END:STANDARD
BEGIN:DAYLIGHT
TZOFFSETFROM:-0600
TZOFFSETTO:-0500
TZNAME:CDT
DTSTART:20210314T080000
END:DAYLIGHT
BEGIN:STANDARD
TZOFFSETFROM:-0500
TZOFFSETTO:-0600
TZNAME:CST
DTSTART:20211107T070000
END:STANDARD
END:VTIMEZONE
BEGIN:VEVENT
DTSTART;TZID=UTC:20200201T093000
DTEND;TZID=UTC:20200201T170000
DTSTAMP:20260425T182521
CREATED:20200118T170114Z
LAST-MODIFIED:20200118T170204Z
UID:10000535-1580549400-1580576400@halletoakgallery.com
SUMMARY:Beautification Day! All are welcome\, RSVP 361-217-7030
DESCRIPTION:Saturday\, February 1 \nHALLETTSVILLE: Hallet Oak Gallery Beautification Day 8:00 AM – 9:30 AM \nHallet Oak Gallery\, 115 N. Main St.\, Hallettsville\, TX 77964 \nRSVP 361-217-7030 for details \nChildren’s art projects will be inside \nOver 15 may pick up trash with adults\, must be prepared with proper clothing. \nFree and open to public \nShare this:\n				Share on Facebook (Opens in new window)\n				Facebook\n			\n				Share on X (Opens in new window)\n				X\n			\n				Share on LinkedIn (Opens in new window)\n				LinkedIn\n			\n				Share on Pinterest (Opens in new window)\n				Pinterest\n			More\n				Share on Reddit (Opens in new window)\n				Reddit\n			\n				Share on Tumblr (Opens in new window)\n				Tumblr\n			\n				Email a link to a friend (Opens in new window)\n				Email\n			\n				Print (Opens in new window)\n				Print
URL:https://halletoakgallery.com/event/beautification-day-all-are-welcome-rsvp-361-217-7030/
CATEGORIES:Adopt-a-Highway,Beautification,Beautification Day
ATTACH;FMTTYPE=image/jpeg:https://halletoakgallery.com/wp-content/uploads/2019/03/web_adopt_a_hwy_MG_8569-1.jpg
END:VEVENT
BEGIN:VEVENT
DTSTART;TZID=America/Chicago:20200204T163000
DTEND;TZID=America/Chicago:20200204T180000
DTSTAMP:20260425T182521
CREATED:20200119T153649Z
LAST-MODIFIED:20200119T153851Z
UID:10000544-1580833800-1580839200@halletoakgallery.com
SUMMARY:River Committee Meeting
DESCRIPTION:February 4\, 2020\, First Tuesday of Every Month  \nHALLETTSVILLE: Friends of Hallettsville Downtown Revitalization (FHDR) \n4:30 PM to 6 PM Topic: Friends of the River Committee Meeting \nDress: Casual. Refreshments will be served. Cash Bar. \nEl Vaquero Mexican Restaurant\, Downtown Hallettsville \nwww.halletoakgallery.com 361-217-7030 \nFree. Membership not required \n  \nShare this:\n				Share on Facebook (Opens in new window)\n				Facebook\n			\n				Share on X (Opens in new window)\n				X\n			\n				Share on LinkedIn (Opens in new window)\n				LinkedIn\n			\n				Share on Pinterest (Opens in new window)\n				Pinterest\n			More\n				Share on Reddit (Opens in new window)\n				Reddit\n			\n				Share on Tumblr (Opens in new window)\n				Tumblr\n			\n				Email a link to a friend (Opens in new window)\n				Email\n			\n				Print (Opens in new window)\n				Print
URL:https://halletoakgallery.com/event/river-committee-meeting/
LOCATION:Ell Vaquero Mexican Restaurant\, 114 N. La Grange St.\, Hallettsivlle\, TX\, 77964
CATEGORIES:Beautification
ATTACH;FMTTYPE=image/jpeg:https://halletoakgallery.com/wp-content/uploads/2018/09/school_project_still_art_by_linda_cejka.jpeg
END:VEVENT
BEGIN:VEVENT
DTSTART;TZID=America/Chicago:20200208T140000
DTEND;TZID=America/Chicago:20200208T160000
DTSTAMP:20260425T182521
CREATED:20200119T145414Z
LAST-MODIFIED:20200119T145414Z
UID:10000538-1581170400-1581177600@halletoakgallery.com
SUMMARY:Open-House Reception! Meet the 2020 Artists!
DESCRIPTION:Saturday\, February 8 Open House Meet the 2020 Artists!  \nHALLETTSVILLE: Painting\, sculpture\, photography\, collage\, mixed media\, carvings\, drawing\, and jewelry artists\, include: Moses Adams\, Dianne Appelt\, Blanche Cavarretta\, Roy Cavarretta\, Linda Cejka\, Larry Charles\, Erica Estrada\, Mary Gullette\, Debbie Halling\, Ken Kopacki\, Mieko Mahi\, Paula Patterson\, Dennis Pesek\, James Phillips\, Steven Pituch\, Georgia Pohl\, Phyllis Rivera\, Timothy Sadler\, Lois Weiss\, Michael Windberg\, and Bria Woods.  \nRefreshments will be served from 2 PM to 4 PM. Doors open at 11 AM. All artists will be present. Hallet Oak Gallery\, 115 N. Main St.\, Hallettsville\, TX 77964 www.halletoakgallery.com 361-217-7030 Free Admission \nShare this:\n				Share on Facebook (Opens in new window)\n				Facebook\n			\n				Share on X (Opens in new window)\n				X\n			\n				Share on LinkedIn (Opens in new window)\n				LinkedIn\n			\n				Share on Pinterest (Opens in new window)\n				Pinterest\n			More\n				Share on Reddit (Opens in new window)\n				Reddit\n			\n				Share on Tumblr (Opens in new window)\n				Tumblr\n			\n				Email a link to a friend (Opens in new window)\n				Email\n			\n				Print (Opens in new window)\n				Print
URL:https://halletoakgallery.com/event/open-house-reception-meet-the-2020-artists/
LOCATION:Hallet Oak Gallery
CATEGORIES:art,Art Exhibit & Reception
ATTACH;FMTTYPE=image/jpeg:https://halletoakgallery.com/wp-content/uploads/2020/01/5x7hallet_oak_gallery_-2.jpg
ORGANIZER;CN="Hallet Oak Gallery":MAILTO:venue@halletoakgallery.com
END:VEVENT
BEGIN:VEVENT
DTSTART;TZID=America/Chicago:20200212T080000
DTEND;TZID=America/Chicago:20200212T170000
DTSTAMP:20260425T182521
CREATED:20200119T152654Z
LAST-MODIFIED:20200119T152654Z
UID:10000543-1581494400-1581526800@halletoakgallery.com
SUMMARY:South Central Texas Art League Art Presentation
DESCRIPTION:South Central Texas Art League Art Presentation. Refreshments will be served. Following event is the SCTAL meeting. \nShare this:\n				Share on Facebook (Opens in new window)\n				Facebook\n			\n				Share on X (Opens in new window)\n				X\n			\n				Share on LinkedIn (Opens in new window)\n				LinkedIn\n			\n				Share on Pinterest (Opens in new window)\n				Pinterest\n			More\n				Share on Reddit (Opens in new window)\n				Reddit\n			\n				Share on Tumblr (Opens in new window)\n				Tumblr\n			\n				Email a link to a friend (Opens in new window)\n				Email\n			\n				Print (Opens in new window)\n				Print
URL:https://halletoakgallery.com/event/south-central-texas-art-league-art-presentation/
ATTACH;FMTTYPE=image/jpeg:https://halletoakgallery.com/wp-content/uploads/2016/10/14046045_1371549192859811_4741156120691733003_n.jpg
END:VEVENT
BEGIN:VEVENT
DTSTART;TZID=America/Chicago:20200213T180000
DTEND;TZID=America/Chicago:20200213T180000
DTSTAMP:20260425T182521
CREATED:20200213T193439Z
LAST-MODIFIED:20200207T133156Z
UID:10000602-1581616800-1581616800@halletoakgallery.com
SUMMARY:Moulton American Heritage Girls\, private booking
DESCRIPTION:6 PM Art Badge project. Contact Erica Baker. \nShare this:\n				Share on Facebook (Opens in new window)\n				Facebook\n			\n				Share on X (Opens in new window)\n				X\n			\n				Share on LinkedIn (Opens in new window)\n				LinkedIn\n			\n				Share on Pinterest (Opens in new window)\n				Pinterest\n			More\n				Share on Reddit (Opens in new window)\n				Reddit\n			\n				Share on Tumblr (Opens in new window)\n				Tumblr\n			\n				Email a link to a friend (Opens in new window)\n				Email\n			\n				Print (Opens in new window)\n				Print
URL:https://halletoakgallery.com/event/moulton-american-heritage-girls-private-booking/
LOCATION:Hallet Oak Gallery
ATTACH;FMTTYPE=image/jpeg:https://halletoakgallery.com/wp-content/uploads/2020/01/t_500x300.jpg
END:VEVENT
BEGIN:VEVENT
DTSTART;TZID=America/Chicago:20200213T180000
DTEND;TZID=America/Chicago:20200213T200000
DTSTAMP:20260425T182521
CREATED:20200207T133524Z
LAST-MODIFIED:20200207T133524Z
UID:10000601-1581616800-1581624000@halletoakgallery.com
SUMMARY:Moulton American Heritage Girls\, private booking
DESCRIPTION:Art badge project for Moulton American Girls\, starts at 6:00 OM. Contact Erica Baker 361-401-3216 \nShare this:\n				Share on Facebook (Opens in new window)\n				Facebook\n			\n				Share on X (Opens in new window)\n				X\n			\n				Share on LinkedIn (Opens in new window)\n				LinkedIn\n			\n				Share on Pinterest (Opens in new window)\n				Pinterest\n			More\n				Share on Reddit (Opens in new window)\n				Reddit\n			\n				Share on Tumblr (Opens in new window)\n				Tumblr\n			\n				Email a link to a friend (Opens in new window)\n				Email\n			\n				Print (Opens in new window)\n				Print
URL:https://halletoakgallery.com/event/moulton-american-heritage-girls-private-booking-2/
LOCATION:Hallet Oak Gallery
ATTACH;FMTTYPE=image/jpeg:https://halletoakgallery.com/wp-content/uploads/2020/01/t_500x300.jpg
END:VEVENT
BEGIN:VEVENT
DTSTART;TZID=America/Chicago:20200215T110000
DTEND;TZID=America/Chicago:20200215T150000
DTSTAMP:20260425T182521
CREATED:20200119T150738Z
LAST-MODIFIED:20200120T032823Z
UID:10000539-1581764400-1581778800@halletoakgallery.com
SUMMARY:Hallet Oak Gallery Doors are Open!
DESCRIPTION:Every Saturday\, February 15 – 29 Doors are open Saturdays for viewing the works of the 2020 Artists  \nHALLETTSVILLE: Hallet Oak Gallery is now showing the 2020 Artists Exhibit featuring over twenty artists: Moses Adams\, Dianne Appelt\, Blanche Cavarretta\, Roy Cavarretta\, Linda Cejka\, Larry Charles\, Erica Estrada\, Mary Gullette\, Debbie Halling\, Ken Kopacki\, Mieko Mahi\, Paula Patterson\, Dennis Pesek\, James Phillips\, Steven Pituch\, Georgia Pohl\, Phyllis Rivera\, Timothy Sadler\, Lois Weiss\, Michael Windberg\, and Bria Woods.  Local oil painter artist\, Dianne Appelt will be present.  \nOpen hours Saturdays 11:00 AM – 3:00 PM. \nHallet Oak Gallery\, 115 N. Main St.\, Hallettsville\, TX 77964 www.halletoakgallery.com 361-217-7030 \nFree admission. Adult and children scavenger hunts and Gallery tours are available to visitors. \nShare this:\n				Share on Facebook (Opens in new window)\n				Facebook\n			\n				Share on X (Opens in new window)\n				X\n			\n				Share on LinkedIn (Opens in new window)\n				LinkedIn\n			\n				Share on Pinterest (Opens in new window)\n				Pinterest\n			More\n				Share on Reddit (Opens in new window)\n				Reddit\n			\n				Share on Tumblr (Opens in new window)\n				Tumblr\n			\n				Email a link to a friend (Opens in new window)\n				Email\n			\n				Print (Opens in new window)\n				Print
URL:https://halletoakgallery.com/event/hallet-oak-gallery-doors-are-open/2020-02-15/
LOCATION:Hallet Oak Gallery
CATEGORIES:Architecture,art,Art Center with Exhibit
ATTACH;FMTTYPE=image/jpeg:https://halletoakgallery.com/wp-content/uploads/2020/01/web_opening_IMG_1378.jpg
ORGANIZER;CN="Hallet Oak Gallery":MAILTO:venue@halletoakgallery.com
END:VEVENT
BEGIN:VEVENT
DTSTART;TZID=America/Chicago:20200221T113000
DTEND;TZID=America/Chicago:20200221T130000
DTSTAMP:20260425T182521
CREATED:20200119T151849Z
LAST-MODIFIED:20200119T151849Z
UID:10000542-1582284600-1582290000@halletoakgallery.com
SUMMARY:Free for Seniors:  Lunch & Music 11:30 – 1 PM
DESCRIPTION:Friday\, February 21 \nHALLETTSVILLE: Hallet Oak Gallery Seniors Lunch & Music 11:30 – 1 PM \nOld time mountain music with Carolyn Arrington. \nHallet Oak Gallery\, 115 N. Main St.\, Hallettsville\, TX 77964   www.halletoakgallery.com \nRSVP for free senior lunch 361-217-7030. Donations appreciated. \nWalk-ins welcome\, bring own lunch. \nShare this:\n				Share on Facebook (Opens in new window)\n				Facebook\n			\n				Share on X (Opens in new window)\n				X\n			\n				Share on LinkedIn (Opens in new window)\n				LinkedIn\n			\n				Share on Pinterest (Opens in new window)\n				Pinterest\n			More\n				Share on Reddit (Opens in new window)\n				Reddit\n			\n				Share on Tumblr (Opens in new window)\n				Tumblr\n			\n				Email a link to a friend (Opens in new window)\n				Email\n			\n				Print (Opens in new window)\n				Print
URL:https://halletoakgallery.com/event/free-for-seniors-lunch-music-1130-1-pm/
LOCATION:Hallet Oak Gallery
CATEGORIES:Live Music,Senior Lunch & Music
ATTACH;FMTTYPE=image/jpeg:https://halletoakgallery.com/wp-content/uploads/2020/01/5x7_hallet_oak_gallery_IMG_6729.jpg
ORGANIZER;CN="Hallet Oak Gallery":MAILTO:venue@halletoakgallery.com
END:VEVENT
BEGIN:VEVENT
DTSTART;TZID=America/Chicago:20200222T110000
DTEND;TZID=America/Chicago:20200222T150000
DTSTAMP:20260425T182521
CREATED:20200119T150738Z
LAST-MODIFIED:20200120T032823Z
UID:10000540-1582369200-1582383600@halletoakgallery.com
SUMMARY:Hallet Oak Gallery Doors are Open!
DESCRIPTION:Every Saturday\, February 15 – 29 Doors are open Saturdays for viewing the works of the 2020 Artists  \nHALLETTSVILLE: Hallet Oak Gallery is now showing the 2020 Artists Exhibit featuring over twenty artists: Moses Adams\, Dianne Appelt\, Blanche Cavarretta\, Roy Cavarretta\, Linda Cejka\, Larry Charles\, Erica Estrada\, Mary Gullette\, Debbie Halling\, Ken Kopacki\, Mieko Mahi\, Paula Patterson\, Dennis Pesek\, James Phillips\, Steven Pituch\, Georgia Pohl\, Phyllis Rivera\, Timothy Sadler\, Lois Weiss\, Michael Windberg\, and Bria Woods.  Local oil painter artist\, Dianne Appelt will be present.  \nOpen hours Saturdays 11:00 AM – 3:00 PM. \nHallet Oak Gallery\, 115 N. Main St.\, Hallettsville\, TX 77964 www.halletoakgallery.com 361-217-7030 \nFree admission. Adult and children scavenger hunts and Gallery tours are available to visitors. \nShare this:\n				Share on Facebook (Opens in new window)\n				Facebook\n			\n				Share on X (Opens in new window)\n				X\n			\n				Share on LinkedIn (Opens in new window)\n				LinkedIn\n			\n				Share on Pinterest (Opens in new window)\n				Pinterest\n			More\n				Share on Reddit (Opens in new window)\n				Reddit\n			\n				Share on Tumblr (Opens in new window)\n				Tumblr\n			\n				Email a link to a friend (Opens in new window)\n				Email\n			\n				Print (Opens in new window)\n				Print
URL:https://halletoakgallery.com/event/hallet-oak-gallery-doors-are-open/2020-02-22/
LOCATION:Hallet Oak Gallery
CATEGORIES:Architecture,art,Art Center with Exhibit
ATTACH;FMTTYPE=image/jpeg:https://halletoakgallery.com/wp-content/uploads/2020/01/web_opening_IMG_1378.jpg
ORGANIZER;CN="Hallet Oak Gallery":MAILTO:venue@halletoakgallery.com
END:VEVENT
BEGIN:VEVENT
DTSTART;TZID=America/Chicago:20200229T110000
DTEND;TZID=America/Chicago:20200229T150000
DTSTAMP:20260425T182521
CREATED:20200119T150738Z
LAST-MODIFIED:20200120T032823Z
UID:10000541-1582974000-1582988400@halletoakgallery.com
SUMMARY:Hallet Oak Gallery Doors are Open!
DESCRIPTION:Every Saturday\, February 15 – 29 Doors are open Saturdays for viewing the works of the 2020 Artists  \nHALLETTSVILLE: Hallet Oak Gallery is now showing the 2020 Artists Exhibit featuring over twenty artists: Moses Adams\, Dianne Appelt\, Blanche Cavarretta\, Roy Cavarretta\, Linda Cejka\, Larry Charles\, Erica Estrada\, Mary Gullette\, Debbie Halling\, Ken Kopacki\, Mieko Mahi\, Paula Patterson\, Dennis Pesek\, James Phillips\, Steven Pituch\, Georgia Pohl\, Phyllis Rivera\, Timothy Sadler\, Lois Weiss\, Michael Windberg\, and Bria Woods.  Local oil painter artist\, Dianne Appelt will be present.  \nOpen hours Saturdays 11:00 AM – 3:00 PM. \nHallet Oak Gallery\, 115 N. Main St.\, Hallettsville\, TX 77964 www.halletoakgallery.com 361-217-7030 \nFree admission. Adult and children scavenger hunts and Gallery tours are available to visitors. \nShare this:\n				Share on Facebook (Opens in new window)\n				Facebook\n			\n				Share on X (Opens in new window)\n				X\n			\n				Share on LinkedIn (Opens in new window)\n				LinkedIn\n			\n				Share on Pinterest (Opens in new window)\n				Pinterest\n			More\n				Share on Reddit (Opens in new window)\n				Reddit\n			\n				Share on Tumblr (Opens in new window)\n				Tumblr\n			\n				Email a link to a friend (Opens in new window)\n				Email\n			\n				Print (Opens in new window)\n				Print
URL:https://halletoakgallery.com/event/hallet-oak-gallery-doors-are-open/2020-02-29/
LOCATION:Hallet Oak Gallery
CATEGORIES:Architecture,art,Art Center with Exhibit
ATTACH;FMTTYPE=image/jpeg:https://halletoakgallery.com/wp-content/uploads/2020/01/web_opening_IMG_1378.jpg
ORGANIZER;CN="Hallet Oak Gallery":MAILTO:venue@halletoakgallery.com
END:VEVENT
END:VCALENDAR