BEGIN:VCALENDAR
VERSION:2.0
PRODID:-//Hallet Oak Foundation Inc - ECPv6.15.20//NONSGML v1.0//EN
CALSCALE:GREGORIAN
METHOD:PUBLISH
X-ORIGINAL-URL:https://halletoakgallery.com
X-WR-CALDESC:Events for Hallet Oak Foundation Inc
REFRESH-INTERVAL;VALUE=DURATION:PT1H
X-Robots-Tag:noindex
X-PUBLISHED-TTL:PT1H
BEGIN:VTIMEZONE
TZID:UTC
BEGIN:STANDARD
TZOFFSETFROM:+0000
TZOFFSETTO:+0000
TZNAME:UTC
DTSTART:20180101T000000
END:STANDARD
END:VTIMEZONE
BEGIN:VEVENT
DTSTART;TZID=UTC:20190503T080000
DTEND;TZID=UTC:20190503T170000
DTSTAMP:20260423T131207
CREATED:20190128T010239Z
LAST-MODIFIED:20190128T010347Z
UID:10000475-1556870400-1556902800@halletoakgallery.com
SUMMARY:Seniors Lunch & Old Time Mountain Music
DESCRIPTION:Friday\, May 3 \nHALLETTSVILLE: Hallet Oak Gallery Seniors Lunch & Music 11:30 – 1 PM \nOld Time Mountain Music: Carolyn Arrington\, Curtis Braeswell & Darrell Ferguson \nHallet Oak Gallery\, 115 N. Main St.\, Hallettsville\, TX 77964   www.halletoakgallery.com \nFree or Donation only. RSVP: 361-217-7030 \nShare this:\n				Share on Facebook (Opens in new window)\n				Facebook\n			\n				Share on X (Opens in new window)\n				X\n			\n				Share on LinkedIn (Opens in new window)\n				LinkedIn\n			\n				Share on Pinterest (Opens in new window)\n				Pinterest\n			More\n				Share on Reddit (Opens in new window)\n				Reddit\n			\n				Share on Tumblr (Opens in new window)\n				Tumblr\n			\n				Email a link to a friend (Opens in new window)\n				Email\n			\n				Print (Opens in new window)\n				Print
URL:https://halletoakgallery.com/event/seniors-lunch-old-time-mountain-music/
LOCATION:Hallet Oak Gallery
CATEGORIES:Live Music,Lunch & Learn,Senior Lunch & Music
ATTACH;FMTTYPE=image/jpeg:https://halletoakgallery.com/wp-content/uploads/2019/01/web5x7_carolyn_arlington_MG_3265.jpg
ORGANIZER;CN="Hallet Oak Gallery":MAILTO:venue@halletoakgallery.com
END:VEVENT
BEGIN:VEVENT
DTSTART;TZID=UTC:20190507T130000
DTEND;TZID=UTC:20190507T200000
DTSTAMP:20260423T131207
CREATED:20190128T043722Z
LAST-MODIFIED:20190128T043722Z
UID:10000282-1557234000-1557259200@halletoakgallery.com
SUMMARY:Every Tuesday\, May 7th through 28th\, Michael Windberg Workshops
DESCRIPTION:Every Tuesday\, May 7th through 28th \nHALLETTSVILLE: Michael Windberg Oil Painting Workshops \n1:00 PM – 4:00 PM & 5:00 PM – 8:00 PM $35 \nHallet Oak Gallery\, 115 N. Main St.\, Hallettsville\, TX 77964 \nwww.halletoakgallery.com 361-217-7030 \nShare this:\n				Share on Facebook (Opens in new window)\n				Facebook\n			\n				Share on X (Opens in new window)\n				X\n			\n				Share on LinkedIn (Opens in new window)\n				LinkedIn\n			\n				Share on Pinterest (Opens in new window)\n				Pinterest\n			More\n				Share on Reddit (Opens in new window)\n				Reddit\n			\n				Share on Tumblr (Opens in new window)\n				Tumblr\n			\n				Email a link to a friend (Opens in new window)\n				Email\n			\n				Print (Opens in new window)\n				Print
URL:https://halletoakgallery.com/event/every-tuesday-may-7th-through-28th-michael-windberg-workshops/
LOCATION:Hallet Oak Gallery
CATEGORIES:art,Art Lessons,Michael Windberg Oil Painting Workshop
ATTACH;FMTTYPE=image/jpeg:https://halletoakgallery.com/wp-content/uploads/2018/02/webIMG_2050-1.jpg
ORGANIZER;CN="Michael Windberg - Artist":MAILTO:mnwindberg@gmail.com
END:VEVENT
BEGIN:VEVENT
DTSTART;TZID=UTC:20190507T163000
DTEND;TZID=UTC:20190507T180000
DTSTAMP:20260423T131207
CREATED:20190128T043439Z
LAST-MODIFIED:20190128T043439Z
UID:10000280-1557246600-1557252000@halletoakgallery.com
SUMMARY:FHDR MEETING
DESCRIPTION:May 7\, 2019\, First Tuesday of Every Month  \nHALLETTSVILLE: Friends of Hallettsville Downtown Revitalization (FHDR) \nDress: Casual. Refreshments will be served. \n4:30 PM to 6 PM \nHallet Oak Gallery\, 115 N. Main St.\, Hallettsville\, TX 77964 www.halletoakgallery.com 361-217-7030 \nFree. Membership not required. \nShare this:\n				Share on Facebook (Opens in new window)\n				Facebook\n			\n				Share on X (Opens in new window)\n				X\n			\n				Share on LinkedIn (Opens in new window)\n				LinkedIn\n			\n				Share on Pinterest (Opens in new window)\n				Pinterest\n			More\n				Share on Reddit (Opens in new window)\n				Reddit\n			\n				Share on Tumblr (Opens in new window)\n				Tumblr\n			\n				Email a link to a friend (Opens in new window)\n				Email\n			\n				Print (Opens in new window)\n				Print
URL:https://halletoakgallery.com/event/fhdr-meeting-2/
LOCATION:Hallet Oak Gallery
ATTACH;FMTTYPE=image/jpeg:https://halletoakgallery.com/wp-content/uploads/2017/01/foundation_seal_small.jpg
END:VEVENT
BEGIN:VEVENT
DTSTART;TZID=UTC:20190511T140000
DTEND;TZID=UTC:20190511T160000
DTSTAMP:20260423T131207
CREATED:20190128T010859Z
LAST-MODIFIED:20190501T233636Z
UID:10000476-1557583200-1557590400@halletoakgallery.com
SUMMARY:Octogenarian Art Exhibit
DESCRIPTION:Saturday\, May 11 \nHALLETTSVILLE: Art Opening: Octogenarian Art Exhibit featuring photography from Rita Cejka Wachel\, 89 yrs. Old\, and Abdon Stanley Cejka\, 88 yrs. old\, 1948 and 1950 graduates of Hallettsville High School. And quilting from Ollie Haikenwaelder\, 83 yrs. old\, born in Komensky\, TX. \nReception 2 – 4 PM \nExhibit ends May 25th. Hallet Oak Gallery\, 115 N. Main St.\, Hallettsville\, TX 77964 \nOpen Daily: 11 AM – 3 PM Mon. – Sat. \n361-217-7030 www.halletoakgallery.com \nFree \nShare this:\n				Share on Facebook (Opens in new window)\n				Facebook\n			\n				Share on X (Opens in new window)\n				X\n			\n				Share on LinkedIn (Opens in new window)\n				LinkedIn\n			\n				Share on Pinterest (Opens in new window)\n				Pinterest\n			More\n				Share on Reddit (Opens in new window)\n				Reddit\n			\n				Share on Tumblr (Opens in new window)\n				Tumblr\n			\n				Email a link to a friend (Opens in new window)\n				Email\n			\n				Print (Opens in new window)\n				Print
URL:https://halletoakgallery.com/event/octogenarian-art-exhibit/
LOCATION:Hallet Oak Gallery
CATEGORIES:art,Art Exhibit & Reception,Spotlight on the Arts
ATTACH;FMTTYPE=image/jpeg:https://halletoakgallery.com/wp-content/uploads/2019/01/web5x7_hog_art_exhibit_IMG_8620.jpg
ORGANIZER;CN="Hallet Oak Gallery":MAILTO:venue@halletoakgallery.com
END:VEVENT
BEGIN:VEVENT
DTSTART;TZID=UTC:20190523T113000
DTEND;TZID=UTC:20190523T130000
DTSTAMP:20260423T131207
CREATED:20190515T015657Z
LAST-MODIFIED:20190515T015657Z
UID:10000517-1558611000-1558616400@halletoakgallery.com
SUMMARY:Red Hats Luncheon\, RSVP required for lunch
DESCRIPTION:RSVP: 361-217-7030 for lunch coordinated by Rita Wachel\, lunch is $10. \nEnjoy viewing Rita’s artwork on display! \nShare this:\n				Share on Facebook (Opens in new window)\n				Facebook\n			\n				Share on X (Opens in new window)\n				X\n			\n				Share on LinkedIn (Opens in new window)\n				LinkedIn\n			\n				Share on Pinterest (Opens in new window)\n				Pinterest\n			More\n				Share on Reddit (Opens in new window)\n				Reddit\n			\n				Share on Tumblr (Opens in new window)\n				Tumblr\n			\n				Email a link to a friend (Opens in new window)\n				Email\n			\n				Print (Opens in new window)\n				Print
URL:https://halletoakgallery.com/event/red-hats-luncheon-rsvp-required-for-lunch/
END:VEVENT
END:VCALENDAR