BEGIN:VCALENDAR
VERSION:2.0
PRODID:-//Hallet Oak Foundation Inc - ECPv6.15.20//NONSGML v1.0//EN
CALSCALE:GREGORIAN
METHOD:PUBLISH
X-ORIGINAL-URL:https://halletoakgallery.com
X-WR-CALDESC:Events for Hallet Oak Foundation Inc
REFRESH-INTERVAL;VALUE=DURATION:PT1H
X-Robots-Tag:noindex
X-PUBLISHED-TTL:PT1H
BEGIN:VTIMEZONE
TZID:UTC
BEGIN:STANDARD
TZOFFSETFROM:+0000
TZOFFSETTO:+0000
TZNAME:UTC
DTSTART:20170101T000000
END:STANDARD
END:VTIMEZONE
BEGIN:VEVENT
DTSTART;TZID=UTC:20181201T090000
DTEND;TZID=UTC:20181201T210000
DTSTAMP:20260423T224926
CREATED:20171031T180003Z
LAST-MODIFIED:20180908T063557Z
UID:10000365-1543654800-1543698000@halletoakgallery.com
SUMMARY:Christkindlmart: Live Music featuring Das Ist Lustig 1 to 5 p.m. Docents: G. Bundy\, A. Vickers\, A. Riske\, M. Mahi. Baking: Gwen Bundy
DESCRIPTION:4th Annual Christkindlmarkt Downtown Hallettsville: \nDecember 1 @ 9:00 am – 9:00 pm Sweets\, hot chocolate\, and hot cider will be served all day and evening while supplies last. Artworks will be for sale with new Christmas market items. Live music featuring Das Ist Lustig will be performing from 1 pm to 5 pm. Local School’s Art Trees on display. The live music is sponsored by Dr. Betty J. Edwards. \nShare this:\n				Share on Facebook (Opens in new window)\n				Facebook\n			\n				Share on X (Opens in new window)\n				X\n			\n				Share on LinkedIn (Opens in new window)\n				LinkedIn\n			\n				Share on Pinterest (Opens in new window)\n				Pinterest\n			More\n				Share on Reddit (Opens in new window)\n				Reddit\n			\n				Share on Tumblr (Opens in new window)\n				Tumblr\n			\n				Email a link to a friend (Opens in new window)\n				Email\n			\n				Print (Opens in new window)\n				Print
URL:https://halletoakgallery.com/event/christkindlmart-das-ist-lustig-1-to-5-p-m-docents-g-bundy-a-vickers-a-riske-m-mahi-baking-gwen-bundy/
CATEGORIES:Annual Event - Free,Chriskindlmart
ATTACH;FMTTYPE=image/jpeg:https://halletoakgallery.com/wp-content/uploads/2015/04/IMG_3083.jpg
ORGANIZER;CN="Hallet Oak Gallery":MAILTO:venue@halletoakgallery.com
END:VEVENT
BEGIN:VEVENT
DTSTART;TZID=UTC:20181201T100000
DTEND;TZID=UTC:20181201T113000
DTSTAMP:20260423T224926
CREATED:20181004T184141Z
LAST-MODIFIED:20181004T184141Z
UID:10000230-1543658400-1543663800@halletoakgallery.com
SUMMARY:FREE STEAM FOR YOUTH AND TEENS ACTIVITY
DESCRIPTION:December 1\, 2018 \nStudents and Home Students may participate in STEAM for free! \nSTEAM Youth (Pre K to 4 Grade) 10:00 am to 11:00 am. Sponge Painting. Open Studio with crayons and coloring books. \nSTEAM Teens (5th to 8th Grade) 11:00 am to noon. Sponge Painting.  Open Studio with color pencils and drawing paper. \nWalk-ins are always welcomed. RSVP to help us have a count for supplies–  by leaving voice message at 361-217-7030 or email linda@halletoakgallery.com. \nShare this:\n				Share on Facebook (Opens in new window)\n				Facebook\n			\n				Share on X (Opens in new window)\n				X\n			\n				Share on LinkedIn (Opens in new window)\n				LinkedIn\n			\n				Share on Pinterest (Opens in new window)\n				Pinterest\n			More\n				Share on Reddit (Opens in new window)\n				Reddit\n			\n				Share on Tumblr (Opens in new window)\n				Tumblr\n			\n				Email a link to a friend (Opens in new window)\n				Email\n			\n				Print (Opens in new window)\n				Print
URL:https://halletoakgallery.com/event/free-steam-for-youth-and-teens-activity/
LOCATION:Hallet Oak Gallery
CATEGORIES:art,STEAM Art Activity
ATTACH;FMTTYPE=image/jpeg:https://halletoakgallery.com/wp-content/uploads/2017/11/Sponge-wreath-e1511901939890.jpg
ORGANIZER;CN="Hallet Oak Gallery":MAILTO:venue@halletoakgallery.com
END:VEVENT
BEGIN:VEVENT
DTSTART;TZID=UTC:20181203T180000
DTEND;TZID=UTC:20181203T200000
DTSTAMP:20260423T224926
CREATED:20180829T224803Z
LAST-MODIFIED:20180908T052404Z
UID:10000225-1543860000-1543867200@halletoakgallery.com
SUMMARY:Private Meeting: Cub Scouts Pack 223 of Hallettsville Christmas
DESCRIPTION:Private Meeting: Cub Scouts Pack 223 of Hallettsville Christmas Party for Cubs and Parents.Parents & Siblings will be present. \nFor more information contact: \nChristopher Freytag\, D.C.\, Cub Master\nLavaca County Chiropractic\, PLLC\n1400 N. Texana\, Suite A\nHallettsville\, TX 77964\nPh: (361) 798-4300 \n\nCell: (361) 772-6454\n\nShare this:\n				Share on Facebook (Opens in new window)\n				Facebook\n			\n				Share on X (Opens in new window)\n				X\n			\n				Share on LinkedIn (Opens in new window)\n				LinkedIn\n			\n				Share on Pinterest (Opens in new window)\n				Pinterest\n			More\n				Share on Reddit (Opens in new window)\n				Reddit\n			\n				Share on Tumblr (Opens in new window)\n				Tumblr\n			\n				Email a link to a friend (Opens in new window)\n				Email\n			\n				Print (Opens in new window)\n				Print
URL:https://halletoakgallery.com/event/cub-scouts-pack-223-of-hallettsville/
LOCATION:Hallet Oak Gallery
ATTACH;FMTTYPE=image/jpeg:https://halletoakgallery.com/wp-content/uploads/2018/08/cubscouts_hallettsville.jpeg
END:VEVENT
BEGIN:VEVENT
DTSTART;TZID=UTC:20181204T080000
DTEND;TZID=UTC:20181204T120000
DTSTAMP:20260423T224926
CREATED:20180522T173252Z
LAST-MODIFIED:20180522T173252Z
UID:10000217-1543910400-1543924800@halletoakgallery.com
SUMMARY:8 a.m. to noon: reserved for Gayle B. private meeting
DESCRIPTION:Share this:\n				Share on Facebook (Opens in new window)\n				Facebook\n			\n				Share on X (Opens in new window)\n				X\n			\n				Share on LinkedIn (Opens in new window)\n				LinkedIn\n			\n				Share on Pinterest (Opens in new window)\n				Pinterest\n			More\n				Share on Reddit (Opens in new window)\n				Reddit\n			\n				Share on Tumblr (Opens in new window)\n				Tumblr\n			\n				Email a link to a friend (Opens in new window)\n				Email\n			\n				Print (Opens in new window)\n				Print
URL:https://halletoakgallery.com/event/8-a-m-to-noon-reserved-for-gayle-b-private-meeting/
END:VEVENT
BEGIN:VEVENT
DTSTART;TZID=UTC:20181204T130000
DTEND;TZID=UTC:20181204T200000
DTSTAMP:20260423T224926
CREATED:20181129T053724Z
LAST-MODIFIED:20181129T053724Z
UID:10000244-1543928400-1543953600@halletoakgallery.com
SUMMARY:Every Tuesday Michael Windberg Oil Painting Class 1 to 4 and 5 to 8
DESCRIPTION:Share this:\n				Share on Facebook (Opens in new window)\n				Facebook\n			\n				Share on X (Opens in new window)\n				X\n			\n				Share on LinkedIn (Opens in new window)\n				LinkedIn\n			\n				Share on Pinterest (Opens in new window)\n				Pinterest\n			More\n				Share on Reddit (Opens in new window)\n				Reddit\n			\n				Share on Tumblr (Opens in new window)\n				Tumblr\n			\n				Email a link to a friend (Opens in new window)\n				Email\n			\n				Print (Opens in new window)\n				Print
URL:https://halletoakgallery.com/event/every-tuesday-michael-windberg-oil-painting-class-1-to-4-and-5-to-8/
CATEGORIES:Art Lessons
ATTACH;FMTTYPE=image/jpeg:https://halletoakgallery.com/wp-content/uploads/2018/08/3x4smIMG_2758.jpg
ORGANIZER;CN="Michael Windberg - Artist":MAILTO:mnwindberg@gmail.com
END:VEVENT
BEGIN:VEVENT
DTSTART;TZID=UTC:20181207T190000
DTEND;TZID=UTC:20181207T210000
DTSTAMP:20260423T224926
CREATED:20180829T003613Z
LAST-MODIFIED:20180829T222640Z
UID:10000223-1544209200-1544216400@halletoakgallery.com
SUMMARY:Paint & Sip with Linda Cejka
DESCRIPTION:  \n\nSIP & PAINT AT THE GALLERY: Friday\, December 7\, 2018\, 7 – 9 PM \nOPEN TO THE PUBLIC:  $25 RSVP by phone & pay at the door   \nOn Friday\, December 7\, 2018\, Linda Cejka\, the Gallery’s Outreach Director\, will be demonstrating live techniques creating “Ornaments” for a “Sip & Paint at the Gallery” event.  Join us for a fun night of painting. Doors open at 6:30 and painting begins at 7:00 PM to 9:00 PM. \nMake this a family outing – children welcome!  Plan a Girls or Guys night out and invite your friends! The cost is $25 for adults and free for children under 14 years old. Children must be accompanied by a family member. Paints\, brushes and canvas will be supplied. RSVP 361-217-7030.  Last minute walk-ins are always welcome. \nLinda Cejka has an MBA from Our Lady of the Lake University and enjoys teaching arts and crafts to all ages from children to adults. Hallet Oak Gallery is located in the famous Kahn & Stanzel Bldg.\, 115 N. Main St.\, Hallettsville\, TX\, 77964. See other calendar-of-events at www.halletoakgallery.com. \nShare this:\n				Share on Facebook (Opens in new window)\n				Facebook\n			\n				Share on X (Opens in new window)\n				X\n			\n				Share on LinkedIn (Opens in new window)\n				LinkedIn\n			\n				Share on Pinterest (Opens in new window)\n				Pinterest\n			More\n				Share on Reddit (Opens in new window)\n				Reddit\n			\n				Share on Tumblr (Opens in new window)\n				Tumblr\n			\n				Email a link to a friend (Opens in new window)\n				Email\n			\n				Print (Opens in new window)\n				Print
URL:https://halletoakgallery.com/event/paint-sip-with-linda-cejka-2/
LOCATION:Hallet Oak Gallery
CATEGORIES:Sip & Paint,Sip & Paint - A Night at the Gallery
ATTACH;FMTTYPE=image/jpeg:https://halletoakgallery.com/wp-content/uploads/2018/08/weblinda_cekca_5X6Sip-and-Paint-ornaments.jpg
ORGANIZER;CN="Hallet Oak Gallery":MAILTO:venue@halletoakgallery.com
END:VEVENT
BEGIN:VEVENT
DTSTART;TZID=UTC:20181208T090000
DTEND;TZID=UTC:20181208T210000
DTSTAMP:20260423T224926
CREATED:20171031T180645Z
LAST-MODIFIED:20181129T053439Z
UID:10000196-1544259600-1544302800@halletoakgallery.com
SUMMARY:Christkindlmart\, Downtown Hallettsville -  Ameera York -- Live Music & Christmas Market Docents: G. Bundy\, A. Vickers\, M. Mahi\, Harley Fisk\, Baking: Gwen Bundy.
DESCRIPTION:4th Annual Christkindlmarkt Downtown Hallettsville: \nDecember 8 @ 9:00 am – 9:00 pm Sweets\, hot chocolate\, and hot cider will be served all day and evening while supplies last. Artworks will be for sale with new Christmas market items. Ameera York\, Contemporary Music recording artist\, will be performing from 1 pm to 5 pm. Local School’s Art Trees will be on display. The live music is sponsored by Dr. Betty J. Edwards & Mary Ann Defibaugh. \nShare this:\n				Share on Facebook (Opens in new window)\n				Facebook\n			\n				Share on X (Opens in new window)\n				X\n			\n				Share on LinkedIn (Opens in new window)\n				LinkedIn\n			\n				Share on Pinterest (Opens in new window)\n				Pinterest\n			More\n				Share on Reddit (Opens in new window)\n				Reddit\n			\n				Share on Tumblr (Opens in new window)\n				Tumblr\n			\n				Email a link to a friend (Opens in new window)\n				Email\n			\n				Print (Opens in new window)\n				Print
URL:https://halletoakgallery.com/event/christkindlmarkt-live-music-1-to-5-tba-docents-g-bundy-a-vickers-m-mahi-a-riske-baking-gwen-bundy/
CATEGORIES:Annual Event - Free
ATTACH;FMTTYPE=image/jpeg:https://halletoakgallery.com/wp-content/uploads/2015/04/IMG_2501.jpg
ORGANIZER;CN="Hallet Oak Gallery":MAILTO:venue@halletoakgallery.com
END:VEVENT
BEGIN:VEVENT
DTSTART;TZID=UTC:20181208T100000
DTEND;TZID=UTC:20181208T113000
DTSTAMP:20260423T224926
CREATED:20181004T184406Z
LAST-MODIFIED:20181004T184450Z
UID:10000232-1544263200-1544268600@halletoakgallery.com
SUMMARY:FREE STEAM YOUTH AND TEENS ACTIVITY
DESCRIPTION:December 8 \,2018 \nStudents and Home Students may participate in STEAM for free! \nSTEAM Youth (Pre K to 4 Grade) 10:00 am to 11:00 am. Sponge Painting or Open Studio with crayons and coloring books. \nSTEAM Teens (5th to 8th Grade) 11:00 am to noon. Sponge Painting or Open Studio with color pencils and drawing paper. \nWalk-ins are always welcomed. RSVP to help us have a count for supplies–  by leaving voice message at 361-217-7030 or email linda@halletoakgallery.com. \nShare this:\n				Share on Facebook (Opens in new window)\n				Facebook\n			\n				Share on X (Opens in new window)\n				X\n			\n				Share on LinkedIn (Opens in new window)\n				LinkedIn\n			\n				Share on Pinterest (Opens in new window)\n				Pinterest\n			More\n				Share on Reddit (Opens in new window)\n				Reddit\n			\n				Share on Tumblr (Opens in new window)\n				Tumblr\n			\n				Email a link to a friend (Opens in new window)\n				Email\n			\n				Print (Opens in new window)\n				Print
URL:https://halletoakgallery.com/event/free-steam-youth-and-teens-activity/
LOCATION:Hallet Oak Gallery
CATEGORIES:STEAM Art Activity
ATTACH;FMTTYPE=image/jpeg:https://halletoakgallery.com/wp-content/uploads/2017/11/Sponge-wreath-e1511901939890.jpg
ORGANIZER;CN="Hallet Oak Gallery":MAILTO:venue@halletoakgallery.com
END:VEVENT
BEGIN:VEVENT
DTSTART;TZID=UTC:20181212T100000
DTEND;TZID=UTC:20181212T120000
DTSTAMP:20260423T224926
CREATED:20181112T042819Z
LAST-MODIFIED:20181204T193043Z
UID:10000240-1544608800-1544616000@halletoakgallery.com
SUMMARY:Texas A&M AgriLife Extension District 11 FCH Meeting
DESCRIPTION:Contact Gayle Bludau for more information on meeting: 361-798-2221 \nShare this:\n				Share on Facebook (Opens in new window)\n				Facebook\n			\n				Share on X (Opens in new window)\n				X\n			\n				Share on LinkedIn (Opens in new window)\n				LinkedIn\n			\n				Share on Pinterest (Opens in new window)\n				Pinterest\n			More\n				Share on Reddit (Opens in new window)\n				Reddit\n			\n				Share on Tumblr (Opens in new window)\n				Tumblr\n			\n				Email a link to a friend (Opens in new window)\n				Email\n			\n				Print (Opens in new window)\n				Print
URL:https://halletoakgallery.com/event/texas-am-agrilife-extension-district-11-fch-meeting/
LOCATION:Hallet Oak Gallery
ATTACH;FMTTYPE=image/jpeg:https://halletoakgallery.com/wp-content/uploads/2018/11/AgriLife_logo.jpg
END:VEVENT
BEGIN:VEVENT
DTSTART;TZID=UTC:20181212T180000
DTEND;TZID=UTC:20181212T200000
DTSTAMP:20260423T224926
CREATED:20181130T075156Z
LAST-MODIFIED:20181130T075156Z
UID:10000454-1544637600-1544644800@halletoakgallery.com
SUMMARY:SCTAL Meeting
DESCRIPTION:Christmas party coordinated by SCTAL\, contact Lois Weiss at lswbreslau@gmail.com for more information. \nShare this:\n				Share on Facebook (Opens in new window)\n				Facebook\n			\n				Share on X (Opens in new window)\n				X\n			\n				Share on LinkedIn (Opens in new window)\n				LinkedIn\n			\n				Share on Pinterest (Opens in new window)\n				Pinterest\n			More\n				Share on Reddit (Opens in new window)\n				Reddit\n			\n				Share on Tumblr (Opens in new window)\n				Tumblr\n			\n				Email a link to a friend (Opens in new window)\n				Email\n			\n				Print (Opens in new window)\n				Print
URL:https://halletoakgallery.com/event/sctal-meeting/
ATTACH;FMTTYPE=image/jpeg:https://halletoakgallery.com/wp-content/uploads/2016/10/14046045_1371549192859811_4741156120691733003_n.jpg
END:VEVENT
BEGIN:VEVENT
DTSTART;TZID=UTC:20181213T170000
DTEND;TZID=UTC:20181213T183000
DTSTAMP:20260423T224926
CREATED:20181107T092549Z
LAST-MODIFIED:20181107T093255Z
UID:10000236-1544720400-1544725800@halletoakgallery.com
SUMMARY:Girl Scout Meeting - Christmas Party - Private Event
DESCRIPTION:For more information\, contact Darlene Immekus. Acrylic on canvas Christmas Tree painting activity. \nShare this:\n				Share on Facebook (Opens in new window)\n				Facebook\n			\n				Share on X (Opens in new window)\n				X\n			\n				Share on LinkedIn (Opens in new window)\n				LinkedIn\n			\n				Share on Pinterest (Opens in new window)\n				Pinterest\n			More\n				Share on Reddit (Opens in new window)\n				Reddit\n			\n				Share on Tumblr (Opens in new window)\n				Tumblr\n			\n				Email a link to a friend (Opens in new window)\n				Email\n			\n				Print (Opens in new window)\n				Print
URL:https://halletoakgallery.com/event/girl-scout-meeting-art-activity/
LOCATION:Hallet Oak Gallery
CATEGORIES:Girl Scouts
ATTACH;FMTTYPE=image/jpeg:https://halletoakgallery.com/wp-content/uploads/2016/10/girlscounts.jpg
END:VEVENT
BEGIN:VEVENT
DTSTART;TZID=UTC:20181215T080000
DTEND;TZID=UTC:20181215T170000
DTSTAMP:20260423T224926
CREATED:20171031T181040Z
LAST-MODIFIED:20171031T181040Z
UID:10000197-1544860800-1544893200@halletoakgallery.com
SUMMARY:Christkindlmarkt: School Carolers 1 to 2 Ruth Rouse and Densie Drozd. Docents: G. Bundy\, A. Vickers\, M. Mahi. Baking: Gwen Bundy
DESCRIPTION:4th Annual Christkindlmarkt Downtown Hallettsville: \nLive Music 1 p.m to 5 p.m\, Doors Open 9:00 a.m. to 9:00 p.m * \nShare this:\n				Share on Facebook (Opens in new window)\n				Facebook\n			\n				Share on X (Opens in new window)\n				X\n			\n				Share on LinkedIn (Opens in new window)\n				LinkedIn\n			\n				Share on Pinterest (Opens in new window)\n				Pinterest\n			More\n				Share on Reddit (Opens in new window)\n				Reddit\n			\n				Share on Tumblr (Opens in new window)\n				Tumblr\n			\n				Email a link to a friend (Opens in new window)\n				Email\n			\n				Print (Opens in new window)\n				Print
URL:https://halletoakgallery.com/event/christkindlmarkt-school-carolers-1-to-2-ruth-rouse-and-densie-drozd-docents-g-bundy-a-vickers-m-mahi-baking-gwen-bundy/
CATEGORIES:Christkindlmarkt
ATTACH;FMTTYPE=image/jpeg:https://halletoakgallery.com/wp-content/uploads/2015/04/IMG_2477.jpg
END:VEVENT
BEGIN:VEVENT
DTSTART;TZID=UTC:20181215T090000
DTEND;TZID=UTC:20181215T210000
DTSTAMP:20260423T224926
CREATED:20180104T045606Z
LAST-MODIFIED:20180908T063254Z
UID:10000368-1544864400-1544907600@halletoakgallery.com
SUMMARY:Christkindlmarkt\, Downtown Hallettsville. Live Music featuring Ruth Rouse & Denise Drozd 6 pm to 8 pm
DESCRIPTION:  \nDecember 15 @ 9 am– 9:00 pm Sweets\, hot chocolate\, and hot cider will be served while supplies last. Artworks will be for sale with new Christmas market items. Local School’s Art Trees will be on display. Live music will be performing from 6 pm to 8 pm featuring Ruth Rouse\, vocals and Denise Drozd on piano. Their performance is titled: Czechmas: An Evening of Old World Czech Christmas Carols”. The live music is sponsored by Dr. Betty J. Edward and Angela & Bruce McConnell. \nShare this:\n				Share on Facebook (Opens in new window)\n				Facebook\n			\n				Share on X (Opens in new window)\n				X\n			\n				Share on LinkedIn (Opens in new window)\n				LinkedIn\n			\n				Share on Pinterest (Opens in new window)\n				Pinterest\n			More\n				Share on Reddit (Opens in new window)\n				Reddit\n			\n				Share on Tumblr (Opens in new window)\n				Tumblr\n			\n				Email a link to a friend (Opens in new window)\n				Email\n			\n				Print (Opens in new window)\n				Print
URL:https://halletoakgallery.com/event/czechmas-an-evening-of-old-world-czech-christmas-carols/
CATEGORIES:Christkindlmarkt,Live Music
ATTACH;FMTTYPE=image/jpeg:https://halletoakgallery.com/wp-content/uploads/2016/12/ruth_rouse_denise_drozd_4x5sm_7600_1.jpg
ORGANIZER;CN="Hallet Oak Gallery":MAILTO:venue@halletoakgallery.com
END:VEVENT
BEGIN:VEVENT
DTSTART;TZID=UTC:20181215T100000
DTEND;TZID=UTC:20181215T110000
DTSTAMP:20260423T224926
CREATED:20181004T184619Z
LAST-MODIFIED:20181004T184759Z
UID:10000234-1544868000-1544871600@halletoakgallery.com
SUMMARY:FREE STEAM FOR YOUTHS AND TEENS ACTIVITY
DESCRIPTION:December 15\, 2018 \nStudents and Home Students may participate in STEAM for free! \nSTEAM Youth (Pre K to 4 Grade) 10:00 am to 11:00 am. Paint with acrylics on rocks or Open Studio with crayons and coloring books. \nSTEAM Teens (5th to 8th Grade) 11:00 am to noon. Paint with acrylics on rocks or Open Studio with color pencils and drawing paper. \nWalk-ins are always welcomed. RSVP to help us have a count for supplies–  by leaving voice message at 361-217-7030 or email linda@halletoakgallery.com. \nShare this:\n				Share on Facebook (Opens in new window)\n				Facebook\n			\n				Share on X (Opens in new window)\n				X\n			\n				Share on LinkedIn (Opens in new window)\n				LinkedIn\n			\n				Share on Pinterest (Opens in new window)\n				Pinterest\n			More\n				Share on Reddit (Opens in new window)\n				Reddit\n			\n				Share on Tumblr (Opens in new window)\n				Tumblr\n			\n				Email a link to a friend (Opens in new window)\n				Email\n			\n				Print (Opens in new window)\n				Print
URL:https://halletoakgallery.com/event/4426/
LOCATION:Hallet Oak Gallery
CATEGORIES:art,STEAM Art Activity
ATTACH;FMTTYPE=image/jpeg:https://halletoakgallery.com/wp-content/uploads/2017/11/Sponge-wreath-e1511901939890.jpg
ORGANIZER;CN="Hallet Oak Gallery":MAILTO:venue@halletoakgallery.com
END:VEVENT
BEGIN:VEVENT
DTSTART;TZID=UTC:20181221T170000
DTEND;TZID=UTC:20181221T210000
DTSTAMP:20260423T224926
CREATED:20181115T231918Z
LAST-MODIFIED:20181115T231918Z
UID:10000242-1545411600-1545426000@halletoakgallery.com
SUMMARY:Private Rental: M.R.
DESCRIPTION:Private Rental: M.R. \nShare this:\n				Share on Facebook (Opens in new window)\n				Facebook\n			\n				Share on X (Opens in new window)\n				X\n			\n				Share on LinkedIn (Opens in new window)\n				LinkedIn\n			\n				Share on Pinterest (Opens in new window)\n				Pinterest\n			More\n				Share on Reddit (Opens in new window)\n				Reddit\n			\n				Share on Tumblr (Opens in new window)\n				Tumblr\n			\n				Email a link to a friend (Opens in new window)\n				Email\n			\n				Print (Opens in new window)\n				Print
URL:https://halletoakgallery.com/event/private-rental-m-r/
LOCATION:Hallet Oak Gallery
END:VEVENT
BEGIN:VEVENT
DTSTART;TZID=UTC:20181230T170000
DTEND;TZID=UTC:20181230T210000
DTSTAMP:20260423T224926
CREATED:20180719T072746Z
LAST-MODIFIED:20180719T072756Z
UID:10000219-1546189200-1546203600@halletoakgallery.com
SUMMARY:Private Rental: SJ
DESCRIPTION:Private Rental: SJ \nShare this:\n				Share on Facebook (Opens in new window)\n				Facebook\n			\n				Share on X (Opens in new window)\n				X\n			\n				Share on LinkedIn (Opens in new window)\n				LinkedIn\n			\n				Share on Pinterest (Opens in new window)\n				Pinterest\n			More\n				Share on Reddit (Opens in new window)\n				Reddit\n			\n				Share on Tumblr (Opens in new window)\n				Tumblr\n			\n				Email a link to a friend (Opens in new window)\n				Email\n			\n				Print (Opens in new window)\n				Print
URL:https://halletoakgallery.com/event/private-rental-sj/
END:VEVENT
END:VCALENDAR