BEGIN:VCALENDAR
VERSION:2.0
PRODID:-//Hallet Oak Foundation Inc - ECPv6.15.20//NONSGML v1.0//EN
CALSCALE:GREGORIAN
METHOD:PUBLISH
X-ORIGINAL-URL:https://halletoakgallery.com
X-WR-CALDESC:Events for Hallet Oak Foundation Inc
REFRESH-INTERVAL;VALUE=DURATION:PT1H
X-Robots-Tag:noindex
X-PUBLISHED-TTL:PT1H
BEGIN:VTIMEZONE
TZID:UTC
BEGIN:STANDARD
TZOFFSETFROM:+0000
TZOFFSETTO:+0000
TZNAME:UTC
DTSTART:20170101T000000
END:STANDARD
END:VTIMEZONE
BEGIN:VEVENT
DTSTART;TZID=UTC:20181103T100000
DTEND;TZID=UTC:20181103T233000
DTSTAMP:20260423T224926
CREATED:20181004T182913Z
LAST-MODIFIED:20181004T182926Z
UID:10000452-1541239200-1541287800@halletoakgallery.com
SUMMARY:FREE STEAM FOR YOUTHS AND TEENS ACTIVITY
DESCRIPTION:November 3\, 2018 \nStudents and Home Students may participate in STEAM for free! \nSTEAM Youth (Pre K to 4 Grade) 10:00 am to 11:00 am. Paint with acrylics on rocks or Open Studio with crayons and coloring books. \nSTEAM Teens (5th to 8th Grade) 11:00 am to noon. Paint with acrylics on rocks or Open Studio with color pencils and drawing paper. \nWalk-ins are always welcomed. RSVP to help us have a count for supplies–  by leaving voice message at 361-217-7030 or email linda@halletoakgallery.com. \nShare this:\n				Share on Facebook (Opens in new window)\n				Facebook\n			\n				Share on X (Opens in new window)\n				X\n			\n				Share on LinkedIn (Opens in new window)\n				LinkedIn\n			\n				Share on Pinterest (Opens in new window)\n				Pinterest\n			More\n				Share on Reddit (Opens in new window)\n				Reddit\n			\n				Share on Tumblr (Opens in new window)\n				Tumblr\n			\n				Email a link to a friend (Opens in new window)\n				Email\n			\n				Print (Opens in new window)\n				Print
URL:https://halletoakgallery.com/event/free-steam-for-youths-and-teens-activity/
LOCATION:Hallet Oak Gallery
CATEGORIES:art,STEAM Art Activity
ATTACH;FMTTYPE=image/jpeg:https://halletoakgallery.com/wp-content/uploads/2018/09/school_project_still_art_by_linda_cejka.jpeg
ORGANIZER;CN="Hallet Oak Gallery":MAILTO:venue@halletoakgallery.com
END:VEVENT
BEGIN:VEVENT
DTSTART;TZID=UTC:20181105T180000
DTEND;TZID=UTC:20181105T193000
DTSTAMP:20260423T224926
CREATED:20180829T224056Z
LAST-MODIFIED:20180908T052551Z
UID:10000224-1541440800-1541446200@halletoakgallery.com
SUMMARY:Private Meeting: Cub Scouts Pack 223 of Hallettsville & Art Activity
DESCRIPTION:Private Meeting for Cub Scouts. Hands-on art activity  provided by Hallet Oak Gallery. \nParents and siblings will be present. \nSupplies provided by Gallery: popsicle sticks\, decorative stamps & stickers. \nGoal:  200 hand-made gifts for two nursing homes to be distributed in December 2018 by Cub Scouts. \n  \nFor more information\, contact: \nChristopher Freytag\, D.C.\, Cub Master\nCub Scouts Pack 223 of Hallettsville \nPh: (361) 798-4300 \n\nCell: (361) 772-6454\n\nShare this:\n				Share on Facebook (Opens in new window)\n				Facebook\n			\n				Share on X (Opens in new window)\n				X\n			\n				Share on LinkedIn (Opens in new window)\n				LinkedIn\n			\n				Share on Pinterest (Opens in new window)\n				Pinterest\n			More\n				Share on Reddit (Opens in new window)\n				Reddit\n			\n				Share on Tumblr (Opens in new window)\n				Tumblr\n			\n				Email a link to a friend (Opens in new window)\n				Email\n			\n				Print (Opens in new window)\n				Print
URL:https://halletoakgallery.com/event/cub-scouts-pack-223-of-hallettsville-meeting-art-activity/
CATEGORIES:Cub Scouts
ATTACH;FMTTYPE=image/jpeg:https://halletoakgallery.com/wp-content/uploads/2018/08/cubscouts_hallettsville.jpeg
END:VEVENT
BEGIN:VEVENT
DTSTART;TZID=UTC:20181108T183000
DTEND;TZID=UTC:20181108T183000
DTSTAMP:20260423T224926
CREATED:20181107T093058Z
LAST-MODIFIED:20181107T093155Z
UID:10000238-1541701800-1541701800@halletoakgallery.com
SUMMARY:Girl Scout Meeting with Art Activity - Private Event
DESCRIPTION:For more information contact Darlene Immekus. Nativity Sets Gift Making Project. \nShare this:\n				Share on Facebook (Opens in new window)\n				Facebook\n			\n				Share on X (Opens in new window)\n				X\n			\n				Share on LinkedIn (Opens in new window)\n				LinkedIn\n			\n				Share on Pinterest (Opens in new window)\n				Pinterest\n			More\n				Share on Reddit (Opens in new window)\n				Reddit\n			\n				Share on Tumblr (Opens in new window)\n				Tumblr\n			\n				Email a link to a friend (Opens in new window)\n				Email\n			\n				Print (Opens in new window)\n				Print
URL:https://halletoakgallery.com/event/girl-scouts-christmas-party-with-art-activity-private-event/
CATEGORIES:Girl Scouts
ATTACH;FMTTYPE=image/jpeg:https://halletoakgallery.com/wp-content/uploads/2016/10/girlscounts.jpg
END:VEVENT
BEGIN:VEVENT
DTSTART;TZID=UTC:20181110T100000
DTEND;TZID=UTC:20181110T113000
DTSTAMP:20260423T224926
CREATED:20181004T183250Z
LAST-MODIFIED:20181004T183250Z
UID:10000226-1541844000-1541849400@halletoakgallery.com
SUMMARY:FREE STEAM YOUTHS AND TEENS ACTIVITY
DESCRIPTION:November 10\, 2018 \nStudents and Home Students may participate in STEAM for free! \nSTEAM Youth (Pre K to 4 Grade) 10:00 am to 11:00 am. Paint with acrylics on rocks or Open Studio with crayons and coloring books. \nSTEAM Teens (5th to 8th Grade) 11:00 am to noon. Paint with acrylics on rocks or Open Studio with color pencils and drawing paper. \nWalk-ins are always welcomed. RSVP to help us have a count for supplies–  by leaving voice message at 361-217-7030 or email linda@halletoakgallery.com. \nShare this:\n				Share on Facebook (Opens in new window)\n				Facebook\n			\n				Share on X (Opens in new window)\n				X\n			\n				Share on LinkedIn (Opens in new window)\n				LinkedIn\n			\n				Share on Pinterest (Opens in new window)\n				Pinterest\n			More\n				Share on Reddit (Opens in new window)\n				Reddit\n			\n				Share on Tumblr (Opens in new window)\n				Tumblr\n			\n				Email a link to a friend (Opens in new window)\n				Email\n			\n				Print (Opens in new window)\n				Print
URL:https://halletoakgallery.com/event/free-steam-youths-and-teens-activity/
LOCATION:Hallet Oak Gallery
CATEGORIES:art,STEAM Art Activity
ATTACH;FMTTYPE=image/jpeg:https://halletoakgallery.com/wp-content/uploads/2018/09/school_project_still_art_by_linda_cejka.jpeg
ORGANIZER;CN="Hallet Oak Gallery":MAILTO:venue@halletoakgallery.com
END:VEVENT
BEGIN:VEVENT
DTSTART;TZID=UTC:20181116T190000
DTEND;TZID=UTC:20181116T210000
DTSTAMP:20260423T224926
CREATED:20180818T095227Z
LAST-MODIFIED:20180818T095227Z
UID:10000222-1542394800-1542402000@halletoakgallery.com
SUMMARY:Sip & Paint with Linda Cejka
DESCRIPTION:Sip & Paint with Linda Cejka\n\nNovember 16 @ 7:00 pm – 9:00 pm\n$25.00 \n\nSIP & PAINT AT THE GALLERY: Friday\, November 16\, 2018\, 7 – 9 PM \nOPEN TO THE PUBLIC:  $25 RSVP by phone & pay at the door   \nOn Friday\, November 16\, 2018\, Linda Cejka\, the Gallery’s Outreach Director\, will be demonstrating live techniques creating “Boots” for a “Sip & Paint at the Gallery” event.  Join us for a fun night of painting. Doors open at 6:30 and painting begins at 7:00 PM to 9:00 PM. \nMake this a family outing – children welcome!  Plan a Girls or Guys night out and invite your friends! The cost is $25 for adults and free for children under 14 years old. Children must be accompanied by a family member. Paints\, brushes and canvas will be supplied. RSVP 361-217-7030.  Last minute walk-ins are always welcome. \nLinda Cejka has an MBA from Our Lady of the Lake University and enjoys teaching arts and crafts to all ages from children to adults. Hallet Oak Gallery is located in the famous Kahn & Stanzel Bldg.\, 115 N. Main St.\, Hallettsville\, TX\, 77964. See other calendar-of-events at www.halletoakgallery.com. \nShare this:\n				Share on Facebook (Opens in new window)\n				Facebook\n			\n				Share on X (Opens in new window)\n				X\n			\n				Share on LinkedIn (Opens in new window)\n				LinkedIn\n			\n				Share on Pinterest (Opens in new window)\n				Pinterest\n			More\n				Share on Reddit (Opens in new window)\n				Reddit\n			\n				Share on Tumblr (Opens in new window)\n				Tumblr\n			\n				Email a link to a friend (Opens in new window)\n				Email\n			\n				Print (Opens in new window)\n				Print
URL:https://halletoakgallery.com/event/sip-paint-with-linda-cejka-3/
LOCATION:Hallet Oak Gallery
CATEGORIES:Art Lessons,Sip & Paint,Sip & Paint - A Night at the Gallery
ATTACH;FMTTYPE=image/jpeg:https://halletoakgallery.com/wp-content/uploads/2018/08/webBoots-paint_linda_cejka.jpg
ORGANIZER;CN="Hallet Oak Gallery":MAILTO:venue@halletoakgallery.com
END:VEVENT
BEGIN:VEVENT
DTSTART;TZID=UTC:20181124T090000
DTEND;TZID=UTC:20181124T210000
DTSTAMP:20260423T224926
CREATED:20171031T175643Z
LAST-MODIFIED:20180908T062243Z
UID:10000364-1543050000-1543093200@halletoakgallery.com
SUMMARY:Christkindlmart: The TubaMeisters 1 to 5 p.m. Docents: G. Bundy\, A. Vickers\, A. Riske\, M. Mahi. Baking: Gwen Bundy
DESCRIPTION:4th Annual Christkindlmarkt Downtown Hallettsville: \nLive Music 1 p.m to 5 p.m\, Doors Open 9:00 a.m. to 9:00 p.m * \nNov 24: The TubaMeisters\, Traditional German Christmas Music:1 p.m to 5 p.m \nNovember 24 @ 9:00 am – 9:00 pm Sweets\, hot chocolate\, and hot cider will be served all day and evening while supplies last. Artworks will be for sale with new Christmas market items. Live music featuring The TubaMeisters will be performing from 1 pm to 5 pm. Local School’s Art Trees on display. The live music is sponsored by Dr. Betty J. Edwards. For details for the history and events listed for Festival of Lights visit: Hallettsville Chamber of Commerce & Agriculture’s web site: www.hallettsville.com    \n  \n  \nShare this:\n				Share on Facebook (Opens in new window)\n				Facebook\n			\n				Share on X (Opens in new window)\n				X\n			\n				Share on LinkedIn (Opens in new window)\n				LinkedIn\n			\n				Share on Pinterest (Opens in new window)\n				Pinterest\n			More\n				Share on Reddit (Opens in new window)\n				Reddit\n			\n				Share on Tumblr (Opens in new window)\n				Tumblr\n			\n				Email a link to a friend (Opens in new window)\n				Email\n			\n				Print (Opens in new window)\n				Print
URL:https://halletoakgallery.com/event/christkindlmart-the-tubameisters-1-to-5-p-m-docents-g-bundy-a-vickers-a-riske-m-mahi-baking-gwen-bundy/
CATEGORIES:Annual Event - Free
ATTACH;FMTTYPE=image/jpeg:https://halletoakgallery.com/wp-content/uploads/2015/04/IMG_2919-1.jpg
END:VEVENT
BEGIN:VEVENT
DTSTART;TZID=UTC:20181124T100000
DTEND;TZID=UTC:20181124T113000
DTSTAMP:20260423T224926
CREATED:20181004T183706Z
LAST-MODIFIED:20181004T183706Z
UID:10000228-1543053600-1543059000@halletoakgallery.com
SUMMARY:
DESCRIPTION:November 24\, 2018 \nStudents and Home Students may participate in STEAM for free! \nSTEAM Youth (Pre K to 4 Grade) 10:00 am to 11:00 am. Sponge Painting. \nSTEAM Teens (5th to 8th Grade) 11:00 am to noon. Sponge Painting. Walk-ins are always welcomed. RSVP to help us have a count for supplies–  by leaving voice message at 361-217-7030 or email linda@halletoakgallery.com.  \nShare this:\n				Share on Facebook (Opens in new window)\n				Facebook\n			\n				Share on X (Opens in new window)\n				X\n			\n				Share on LinkedIn (Opens in new window)\n				LinkedIn\n			\n				Share on Pinterest (Opens in new window)\n				Pinterest\n			More\n				Share on Reddit (Opens in new window)\n				Reddit\n			\n				Share on Tumblr (Opens in new window)\n				Tumblr\n			\n				Email a link to a friend (Opens in new window)\n				Email\n			\n				Print (Opens in new window)\n				Print
URL:https://halletoakgallery.com/event/4417/
LOCATION:Hallet Oak Gallery
CATEGORIES:STEAM Art Activity
ATTACH;FMTTYPE=image/jpeg:https://halletoakgallery.com/wp-content/uploads/2017/11/Sponge-wreath-e1511901939890.jpg
ORGANIZER;CN="Hallet Oak Gallery":MAILTO:venue@halletoakgallery.com
END:VEVENT
BEGIN:VEVENT
DTSTART;TZID=UTC:20181128T020000
DTEND;TZID=UTC:20181128T200000
DTSTAMP:20260423T224926
CREATED:20181129T072859Z
LAST-MODIFIED:20181129T073219Z
UID:10000453-1543370400-1543435200@halletoakgallery.com
SUMMARY:Wine Walk coordinated  through the Hallettsville Chamber of Commerce
DESCRIPTION:Hallet Oak Gallery will be serving wine donated by Moravia Vineyard & Winery! \nFree small gifts on Wine Walk – whiles supplies last. \nClick here for information from the Hallettsville Chamber of Commerce & Agriculture. \n  \nShare this:\n				Share on Facebook (Opens in new window)\n				Facebook\n			\n				Share on X (Opens in new window)\n				X\n			\n				Share on LinkedIn (Opens in new window)\n				LinkedIn\n			\n				Share on Pinterest (Opens in new window)\n				Pinterest\n			More\n				Share on Reddit (Opens in new window)\n				Reddit\n			\n				Share on Tumblr (Opens in new window)\n				Tumblr\n			\n				Email a link to a friend (Opens in new window)\n				Email\n			\n				Print (Opens in new window)\n				Print
URL:https://halletoakgallery.com/event/wine-walk-coordinated-through-the-hallettsville-chamber-of-commerce/
CATEGORIES:wine walk
ATTACH;FMTTYPE=image/jpeg:https://halletoakgallery.com/wp-content/uploads/2015/04/IMG_3077.jpg
END:VEVENT
END:VCALENDAR