BEGIN:VCALENDAR
VERSION:2.0
PRODID:-//Hallet Oak Foundation Inc - ECPv6.15.20//NONSGML v1.0//EN
CALSCALE:GREGORIAN
METHOD:PUBLISH
X-WR-CALNAME:Hallet Oak Foundation Inc
X-ORIGINAL-URL:https://halletoakgallery.com
X-WR-CALDESC:Events for Hallet Oak Foundation Inc
REFRESH-INTERVAL;VALUE=DURATION:PT1H
X-Robots-Tag:noindex
X-PUBLISHED-TTL:PT1H
BEGIN:VTIMEZONE
TZID:UTC
BEGIN:STANDARD
TZOFFSETFROM:+0000
TZOFFSETTO:+0000
TZNAME:UTC
DTSTART:20170101T000000
END:STANDARD
END:VTIMEZONE
BEGIN:VEVENT
DTSTART;TZID=UTC:20181005T160000
DTEND;TZID=UTC:20181005T170000
DTSTAMP:20260424T001138
CREATED:20181002T230045Z
LAST-MODIFIED:20181002T230157Z
UID:10000420-1538755200-1538758800@halletoakgallery.com
SUMMARY:Free Jewelry Making Class
DESCRIPTION:Harley Fisk\, a volunteer instructor\, will teach how to make jewelry in 5 minutes! There will be a one hour demonstration showing a variety of techniques\, including how to polish broken glass. RSVP by leaving message at 361-217-7030\, so we can have a count of attendees. If you have them\, bring jewelry parts or broken colorful bottles to share with class. We will have free supplies\, as well. This is a first time hands-on jewelry workshop and it’s free. Walk-ins are always welcomed to the Gallery. This is a family-friendly event\, all ages will enjoy this demonstration. See calendar of events at www.halletoakgallery.com \nShare this:\n				Share on Facebook (Opens in new window)\n				Facebook\n			\n				Share on X (Opens in new window)\n				X\n			\n				Share on LinkedIn (Opens in new window)\n				LinkedIn\n			\n				Share on Pinterest (Opens in new window)\n				Pinterest\n			More\n				Share on Reddit (Opens in new window)\n				Reddit\n			\n				Share on Tumblr (Opens in new window)\n				Tumblr\n			\n				Email a link to a friend (Opens in new window)\n				Email\n			\n				Print (Opens in new window)\n				Print
URL:https://halletoakgallery.com/event/free-jewerly-making-class/
LOCATION:Hallet Oak Gallery
CATEGORIES:art,Art Lessons
ATTACH;FMTTYPE=image/jpeg:https://halletoakgallery.com/wp-content/uploads/2018/10/webIMG_0532.jpg
ORGANIZER;CN="Hallet Oak Gallery":MAILTO:venue@halletoakgallery.com
END:VEVENT
BEGIN:VEVENT
DTSTART;TZID=UTC:20181006T040000
DTEND;TZID=UTC:20181006T163000
DTSTAMP:20260424T001139
CREATED:20181003T234208Z
LAST-MODIFIED:20181003T234209Z
UID:10000422-1538798400-1538843400@halletoakgallery.com
SUMMARY:Hallet Oak Gallery Winner's Choice Drawing
DESCRIPTION:Buy a ticket to support the Hallet Oak Gallery’s many free events and scholarships! The Hallet Oak Gallery stays open six days a week and has no entry fees unless we have a a planned program that requires a nominal fee or if we have a sublease private event. \nMany of our events are free and open to the public. The Gallery is part of the Hallet Oak Foundation which is a public charity for the arts and is a 501 (3) C non-profit.  We do not have paid staff and are all volunteers. Our donations go towards scholarships\, guest speakers\, art teachers\, musicians\, art supplies\, as well as\, to  pay for our air conditioning\, phone\, wi-fi and security and many other operation expenses\, such advertising for our events. To see our profit and loss\, visit Guidestar.org. \nThis is the last day to buy a $10 ticket to win either a James Phillips Owl Wood-Carving or Michael Windberg Landscape Oil Painting. \nFirst and Only Prize is Winner’s Choice which will be drawn and announced on October 6\, 2018 at 4:00 PM. Presence is not necessary to win! \nShare this:\n				Share on Facebook (Opens in new window)\n				Facebook\n			\n				Share on X (Opens in new window)\n				X\n			\n				Share on LinkedIn (Opens in new window)\n				LinkedIn\n			\n				Share on Pinterest (Opens in new window)\n				Pinterest\n			More\n				Share on Reddit (Opens in new window)\n				Reddit\n			\n				Share on Tumblr (Opens in new window)\n				Tumblr\n			\n				Email a link to a friend (Opens in new window)\n				Email\n			\n				Print (Opens in new window)\n				Print
URL:https://halletoakgallery.com/event/hallet-oak-gallery-winners-choice-drawing/
LOCATION:Hallet Oak Gallery
CATEGORIES:raffle
ATTACH;FMTTYPE=image/jpeg:https://halletoakgallery.com/wp-content/uploads/2018/10/raffleIMG_8780.jpg
ORGANIZER;CN="Hallet Oak Gallery":MAILTO:venue@halletoakgallery.com
END:VEVENT
BEGIN:VEVENT
DTSTART;TZID=UTC:20181006T140000
DTEND;TZID=UTC:20181006T160000
DTSTAMP:20260424T001139
CREATED:20180301T070722Z
LAST-MODIFIED:20180601T182700Z
UID:10000385-1538834400-1538841600@halletoakgallery.com
SUMMARY:Spotlight on the Arts featuring Harold Pharr\, contemporary photographer
DESCRIPTION:  \nSPOTLIGHT ON THE ARTS: Harold M. Pharr\, Contemporary Photographer \nFree reception: Sat. \, Oct. 6th 2:00 PM to 4:00 pm \n  \nThe Spotlight on the Arts at the Hallet Oak Gallery for February will be featuring contemporary photographer\, Harold Pharr. Harold’s opening reception will be Saturday\, October 6\, 2018\, 2:00 PM till 4:00 PM at the Hallet Oak Gallery\, 115 N. Main St.\, Hallettsville\, TX. All are welcome to attend the opening and meet Harold Pharr in person. \n  \nHarold Pharr studied photography at Sam Houston State University and honed in on his style of image making using what he learned in composition\, lighting and techniques. Pharr carries his camera with him frequently\, striving to capture moments in time that seize the viewers attention. Pharr images printed large and on canvas are suitable for display in businesses and homes. Harold was born and raised in Houston and currently Hallettsville is his home. \n  \nHarold’s exhibit will remain on display through October 31st. All Spotlight exhibits are free and open to the public. For more information visit www.halletoakgallery.com \nShare this:\n				Share on Facebook (Opens in new window)\n				Facebook\n			\n				Share on X (Opens in new window)\n				X\n			\n				Share on LinkedIn (Opens in new window)\n				LinkedIn\n			\n				Share on Pinterest (Opens in new window)\n				Pinterest\n			More\n				Share on Reddit (Opens in new window)\n				Reddit\n			\n				Share on Tumblr (Opens in new window)\n				Tumblr\n			\n				Email a link to a friend (Opens in new window)\n				Email\n			\n				Print (Opens in new window)\n				Print
URL:https://halletoakgallery.com/event/spotlight-on-the-arts-featuring-harold-pharr-contemporary-photographer/
CATEGORIES:Art Exhibit & Reception
ATTACH;FMTTYPE=image/jpeg:https://halletoakgallery.com/wp-content/uploads/2018/03/webIMG_5539.jpg
END:VEVENT
BEGIN:VEVENT
DTSTART;TZID=UTC:20181010T140000
DTEND;TZID=UTC:20181010T153000
DTSTAMP:20260424T001139
CREATED:20171031T174622Z
LAST-MODIFIED:20171031T174622Z
UID:10000360-1539180000-1539185400@halletoakgallery.com
SUMMARY:SHCS Tour
DESCRIPTION:SHCS Spooktacular Tunnel Decoration 2 to 3:30 \nShare this:\n				Share on Facebook (Opens in new window)\n				Facebook\n			\n				Share on X (Opens in new window)\n				X\n			\n				Share on LinkedIn (Opens in new window)\n				LinkedIn\n			\n				Share on Pinterest (Opens in new window)\n				Pinterest\n			More\n				Share on Reddit (Opens in new window)\n				Reddit\n			\n				Share on Tumblr (Opens in new window)\n				Tumblr\n			\n				Email a link to a friend (Opens in new window)\n				Email\n			\n				Print (Opens in new window)\n				Print
URL:https://halletoakgallery.com/event/shcs-tour/
CATEGORIES:School Tour and Demo
ATTACH;FMTTYPE=image/jpeg:https://halletoakgallery.com/wp-content/uploads/2015/04/IMG_1932-1.jpg
END:VEVENT
BEGIN:VEVENT
DTSTART;TZID=UTC:20181012T190000
DTEND;TZID=UTC:20181012T210000
DTSTAMP:20260424T001139
CREATED:20180118T103304Z
LAST-MODIFIED:20180908T061225Z
UID:10000211-1539370800-1539378000@halletoakgallery.com
SUMMARY:Sip & Paint with Linda Cejka - "Owl" Acrylic Painting
DESCRIPTION:Sip & Paint with Linda Cejka\n\nOctober 12 @ 7:00 pm – 9:00 pm\n$25.00 \n\nSIP & PAINT AT THE GALLERY: Friday\, October 12\, 2018\, 7 – 9 PM \nOPEN TO THE PUBLIC:  $25 RSVP by phone & pay at the door   \nOn Friday\, October 12\, 2018\, Linda Cejka\, the Gallery’s Outreach Director\, will be demonstrating live techniques creating “Owls” for a “Sip & Paint at the Gallery” event.  Join us for a fun night of painting. Doors open at 6:30 and painting begins at 7:00 PM to 9:00 PM. \nMake this a family outing – children welcome!  Plan a Girls or Guys night out and invite your friends! The cost is $25 for adults and free for children under 14 years old. Children must be accompanied by a family member. Paints\, brushes and canvas will be supplied. RSVP 361-217-7030.  Last minute walk-ins are always welcome. \nLinda Cejka has an MBA from Our Lady of the Lake University and enjoys teaching arts and crafts to all ages from children to adults. Hallet Oak Gallery is located in the famous Kahn & Stanzel Bldg.\, 115 N. Main St.\, Hallettsville\, TX\, 77964. See other calendar-of-events at www.halletoakgallery.com. \n  \n  \n  \n  \nShare this:\n				Share on Facebook (Opens in new window)\n				Facebook\n			\n				Share on X (Opens in new window)\n				X\n			\n				Share on LinkedIn (Opens in new window)\n				LinkedIn\n			\n				Share on Pinterest (Opens in new window)\n				Pinterest\n			More\n				Share on Reddit (Opens in new window)\n				Reddit\n			\n				Share on Tumblr (Opens in new window)\n				Tumblr\n			\n				Email a link to a friend (Opens in new window)\n				Email\n			\n				Print (Opens in new window)\n				Print
URL:https://halletoakgallery.com/event/sip-paint-with-linda-cejka-2/
LOCATION:Hallet Oak Gallery
CATEGORIES:Art Lessons,date night,Sip & Paint,Sip & Paint - A Night at the Gallery
ATTACH;FMTTYPE=image/jpeg:https://halletoakgallery.com/wp-content/uploads/2018/01/web_Linda_Cejka_owl-e1532671918615.jpg
ORGANIZER;CN="Hallet Oak Gallery":MAILTO:venue@halletoakgallery.com
END:VEVENT
BEGIN:VEVENT
DTSTART;TZID=UTC:20181013T100000
DTEND;TZID=UTC:20181013T113000
DTSTAMP:20260424T001139
CREATED:20181004T182111Z
LAST-MODIFIED:20181004T182111Z
UID:10000424-1539424800-1539430200@halletoakgallery.com
SUMMARY:FREE STEAM ACTIVITY FOR YOUTH AND TEENS
DESCRIPTION:October 13: \nStudents and Home Students may participate in STEAM for free! \nSTEAM Youth (Pre K to 4 Grade) 10:00 am to 11:00 am. Paint with acrylics on rocks or Open Studio with crayons and coloring books. \nSTEAM Teens (5th to 8th Grade) 11:00 am to noon. Paint with acrylics on rocks or Open Studio with color pencils and drawing paper. \nWalk-ins are always welcomed. RSVP to help us have a count for supplies–  by leaving voice message at 361-217-7030 or email linda@halletoakgallery.com. \nShare this:\n				Share on Facebook (Opens in new window)\n				Facebook\n			\n				Share on X (Opens in new window)\n				X\n			\n				Share on LinkedIn (Opens in new window)\n				LinkedIn\n			\n				Share on Pinterest (Opens in new window)\n				Pinterest\n			More\n				Share on Reddit (Opens in new window)\n				Reddit\n			\n				Share on Tumblr (Opens in new window)\n				Tumblr\n			\n				Email a link to a friend (Opens in new window)\n				Email\n			\n				Print (Opens in new window)\n				Print
URL:https://halletoakgallery.com/event/free-steam-activity-for-youth-and-teens/
LOCATION:Hallet Oak Gallery
CATEGORIES:Art Lessons,STEAM Art Activity
ATTACH;FMTTYPE=image/jpeg:https://halletoakgallery.com/wp-content/uploads/2018/09/school_project_still_art_by_linda_cejka.jpeg
ORGANIZER;CN="Hallet Oak Gallery":MAILTO:venue@halletoakgallery.com
END:VEVENT
BEGIN:VEVENT
DTSTART;TZID=UTC:20181019T163000
DTEND;TZID=UTC:20181019T180000
DTSTAMP:20260424T001139
CREATED:20171031T174912Z
LAST-MODIFIED:20180908T061442Z
UID:10000361-1539966600-1539972000@halletoakgallery.com
SUMMARY:Oct. 19: Pumpkin drop off\, remember to follow contest rules for design! $50 to winner - best of show.
DESCRIPTION:Pumpkin Contest Rules are listed below. Winners are announced on Oct. 20 at 5:30 pm. \n  \n \nShare this:\n				Share on Facebook (Opens in new window)\n				Facebook\n			\n				Share on X (Opens in new window)\n				X\n			\n				Share on LinkedIn (Opens in new window)\n				LinkedIn\n			\n				Share on Pinterest (Opens in new window)\n				Pinterest\n			More\n				Share on Reddit (Opens in new window)\n				Reddit\n			\n				Share on Tumblr (Opens in new window)\n				Tumblr\n			\n				Email a link to a friend (Opens in new window)\n				Email\n			\n				Print (Opens in new window)\n				Print
URL:https://halletoakgallery.com/event/oct-19-pumpkin-drop-off-remember-to-follow-contest-rules-for-design-50-to-winner-best-of-show/
ATTACH;FMTTYPE=image/jpeg:https://halletoakgallery.com/wp-content/uploads/2015/04/IMG_1914.jpg
END:VEVENT
BEGIN:VEVENT
DTSTART;TZID=UTC:20181020T160000
DTEND;TZID=UTC:20181020T180000
DTSTAMP:20260424T001139
CREATED:20171031T175126Z
LAST-MODIFIED:20181011T050632Z
UID:10000362-1540051200-1540058400@halletoakgallery.com
SUMMARY:Spooktacular Party and Pumpkin Contest. Docents: Eloise\, Heather\, Hayley\, G. Bundy\, A. Vickers\, A. Riske. Baking: Gwen Bundy
DESCRIPTION:Hallet Oak Gallery Pumpkin Contest and Open House:  \n “Spooktacular Afternoon Party” \n Saturday\, October 20\, 2018\, 4:00 pm – 6pm \n  \nPlease join in on the family Pumpkin Contest by dropping off decorated\, painted or carved pumpkins at the Hallet Oak Gallery on Friday\, October 19\, 2018 between 4:30 and 6 p.m.  Winners will be announced on Saturday\, October 20\, 2015 at 5:30 pm.  All ages are welcome. There will be prizes! \nJoin the artists for thrills and chills at the Hallet Oak Gallery “Spooktacular Afternoon Party.” Eat Screaming Hotdogs\, Dress up in your silliest costume and come trick or treat with us at 7 different candy stations.  Take a photo with some special guests with your smart phone\, take a crawl through the haunted tunnel\, visit an artist or two\, and more. \n  \nVoting will begin when the doors open at 9:00 a.m. and winners will be announced at 5:30 p.m.  It will be a hauntingly good time! \n  \nKid Monsters  Ages 6 yrs – 11 yrs –3 places – scariest\, cutest\, most creative \n  \nTeen Monsters Ages 12 to 14–3 places – scariest\, cutest\, most creative \n  \nAdult Monsters 15 & up–3 places – scariest\, cutest\, most creative \n  \nAll Around Favorite–People’s choice \n  \nAll divisions will receive gag prizes except All Around Favorite – which will receive a $50 cash prize. \n  \nRules for carved pumpkins: Opening must be on the bottom.  Only battery-operated lights may be used. No candles allowed! \n  \nPumpkins will be voted by the public.  The pumpkins will be numbered and votes cast. \n  \nDrop your pumpkins off at the gallery between 4:30 pm and 6:00 pm on Friday\, Oct. 19\, 2018. Voting will begin at 9:00 a.m. on Saturday when HOG opens and continue until 5:30 p.m. Prizes will be given out at 5:45 p.m. Costumes are encouraged! All pumpkins will be on display. \n  \nPlease keep subjects and dress code appropriate for children. Scary is A-okay\, just keep in mind this is a community event for families.   HOG reserves the right to deem appropriateness for entrance to building. \nShare this:\n				Share on Facebook (Opens in new window)\n				Facebook\n			\n				Share on X (Opens in new window)\n				X\n			\n				Share on LinkedIn (Opens in new window)\n				LinkedIn\n			\n				Share on Pinterest (Opens in new window)\n				Pinterest\n			More\n				Share on Reddit (Opens in new window)\n				Reddit\n			\n				Share on Tumblr (Opens in new window)\n				Tumblr\n			\n				Email a link to a friend (Opens in new window)\n				Email\n			\n				Print (Opens in new window)\n				Print
URL:https://halletoakgallery.com/event/spooktacular-party-and-pumpkin-contest-docents-g-bundy-a-vickers-a-riske-baking-gwen-bundy/
CATEGORIES:Annual Event - Free
ATTACH;FMTTYPE=image/jpeg:https://halletoakgallery.com/wp-content/uploads/2017/10/web_MG_3750.jpg
END:VEVENT
BEGIN:VEVENT
DTSTART;TZID=UTC:20181027T100000
DTEND;TZID=UTC:20181027T113000
DTSTAMP:20260424T001139
CREATED:20181004T182613Z
LAST-MODIFIED:20181004T182613Z
UID:10000425-1540634400-1540639800@halletoakgallery.com
SUMMARY:FREE STEAM ACTIVITY FOR YOUTHS AND TEENS
DESCRIPTION:October 27\, 2018: \nStudents and Home Students may participate in STEAM for free! \nSTEAM Youth (Pre K to 4 Grade) 10:00 am to 11:00 am. Paint with acrylics on rocks/gourds Open Studio with crayons and coloring books. \nSTEAM Teens (5th to 8th Grade) 11:00 am to noon. Paint with acrylics on rocks/gourds or Open Studio with color pencils and drawing paper. \nWalk-ins are always welcomed. RSVP to help us have a count for supplies–  by leaving voice message at 361-217-7030 or email linda@halletoakgallery.com. \nShare this:\n				Share on Facebook (Opens in new window)\n				Facebook\n			\n				Share on X (Opens in new window)\n				X\n			\n				Share on LinkedIn (Opens in new window)\n				LinkedIn\n			\n				Share on Pinterest (Opens in new window)\n				Pinterest\n			More\n				Share on Reddit (Opens in new window)\n				Reddit\n			\n				Share on Tumblr (Opens in new window)\n				Tumblr\n			\n				Email a link to a friend (Opens in new window)\n				Email\n			\n				Print (Opens in new window)\n				Print
URL:https://halletoakgallery.com/event/free-steam-activity-for-youths-and-teens/
CATEGORIES:STEAM Art Activity
ATTACH;FMTTYPE=image/jpeg:https://halletoakgallery.com/wp-content/uploads/2018/09/school_project_still_art_by_linda_cejka.jpeg
ORGANIZER;CN="Hallet Oak Gallery":MAILTO:venue@halletoakgallery.com
END:VEVENT
BEGIN:VEVENT
DTSTART;TZID=UTC:20181031T170000
DTEND;TZID=UTC:20181031T210000
DTSTAMP:20260424T001139
CREATED:20171031T175404Z
LAST-MODIFIED:20180908T061615Z
UID:10000363-1541005200-1541019600@halletoakgallery.com
SUMMARY:Haunted Tunnel will be Open on Halloween Night!
DESCRIPTION:October 31 @ 5:00 pm – 9:00 pm Come dressed in family-friendly costumes. Haunted Tunnel will be open. Hotdogs and treats are provided. \nShare this:\n				Share on Facebook (Opens in new window)\n				Facebook\n			\n				Share on X (Opens in new window)\n				X\n			\n				Share on LinkedIn (Opens in new window)\n				LinkedIn\n			\n				Share on Pinterest (Opens in new window)\n				Pinterest\n			More\n				Share on Reddit (Opens in new window)\n				Reddit\n			\n				Share on Tumblr (Opens in new window)\n				Tumblr\n			\n				Email a link to a friend (Opens in new window)\n				Email\n			\n				Print (Opens in new window)\n				Print
URL:https://halletoakgallery.com/event/haunted-tunnel-art-or-treat/
CATEGORIES:Annual Event - Free
ATTACH;FMTTYPE=image/jpeg:https://halletoakgallery.com/wp-content/uploads/2015/04/IMG_1954.jpg
END:VEVENT
END:VCALENDAR