BEGIN:VCALENDAR
VERSION:2.0
PRODID:-//Hallet Oak Foundation Inc - ECPv6.15.20//NONSGML v1.0//EN
CALSCALE:GREGORIAN
METHOD:PUBLISH
X-WR-CALNAME:Hallet Oak Foundation Inc
X-ORIGINAL-URL:https://halletoakgallery.com
X-WR-CALDESC:Events for Hallet Oak Foundation Inc
REFRESH-INTERVAL;VALUE=DURATION:PT1H
X-Robots-Tag:noindex
X-PUBLISHED-TTL:PT1H
BEGIN:VTIMEZONE
TZID:UTC
BEGIN:STANDARD
TZOFFSETFROM:+0000
TZOFFSETTO:+0000
TZNAME:UTC
DTSTART:20170101T000000
END:STANDARD
END:VTIMEZONE
BEGIN:VEVENT
DTSTART;TZID=UTC:20180811T140000
DTEND;TZID=UTC:20180811T160000
DTSTAMP:20260425T090800
CREATED:20180118T102739Z
LAST-MODIFIED:20180726T023339Z
UID:10000210-1533996000-1534003200@halletoakgallery.com
SUMMARY:Spotlight on the Arts featuring Larry Charles
DESCRIPTION:SPOTLIGHT ON THE ARTS: Larry Charles\, Watercolor Artist \nFree reception – Open the Pubic on Saturday\, Aug 11th 2:00 – 4:00 pm \nThe Spotlight on the Arts at the Hallet Oak Gallery for August will be featuring watercolor artist\, Larry Charles. Larry’s opening reception will be Saturday\, August 11\, 2018\, 2:00 till 4:00 PM at the Hallet Oak Gallery\, 115 N. Main St.\, Hallettsville\, TX. All are welcome to attend the opening and meet Larry Charles in person. \n  \nLarry Charles’s watercolor artist\nLarry Charles bold color and strong imagery is what comes to mind when viewing his treasured works of all kinds of subjects\, from longhorn steers\, fruit and gardens. An award-winning artist\, he has paintings in private collections throughout the U.S.\, Canada\, and Europe. A native Coloradan who married a fifth generation Texan\, Larry now lives in Lavaca County. \n  \nLarry’s exhibit will remain on display through August 31st. All Spotlight exhibits are free and open to the public. His works will be for sale. For more information visit www.halletoakgallery.com. \nShare this:\n				Share on Facebook (Opens in new window)\n				Facebook\n			\n				Share on X (Opens in new window)\n				X\n			\n				Share on LinkedIn (Opens in new window)\n				LinkedIn\n			\n				Share on Pinterest (Opens in new window)\n				Pinterest\n			More\n				Share on Reddit (Opens in new window)\n				Reddit\n			\n				Share on Tumblr (Opens in new window)\n				Tumblr\n			\n				Email a link to a friend (Opens in new window)\n				Email\n			\n				Print (Opens in new window)\n				Print
URL:https://halletoakgallery.com/event/spotlight-on-the-arts-featuring-larry-charles/
LOCATION:Hallet Oak Gallery
CATEGORIES:Artist Reception - Free,Spotlight on the Arts
ATTACH;FMTTYPE=image/jpeg:https://halletoakgallery.com/wp-content/uploads/2018/01/3x3larry_charles_MG_8141.jpg
ORGANIZER;CN="Hallet Oak Gallery":MAILTO:venue@halletoakgallery.com
END:VEVENT
END:VCALENDAR