BEGIN:VCALENDAR
VERSION:2.0
PRODID:-//Hallet Oak Foundation Inc - ECPv6.15.20//NONSGML v1.0//EN
CALSCALE:GREGORIAN
METHOD:PUBLISH
X-WR-CALNAME:Hallet Oak Foundation Inc
X-ORIGINAL-URL:https://halletoakgallery.com
X-WR-CALDESC:Events for Hallet Oak Foundation Inc
REFRESH-INTERVAL;VALUE=DURATION:PT1H
X-Robots-Tag:noindex
X-PUBLISHED-TTL:PT1H
BEGIN:VTIMEZONE
TZID:UTC
BEGIN:STANDARD
TZOFFSETFROM:+0000
TZOFFSETTO:+0000
TZNAME:UTC
DTSTART:20170101T000000
END:STANDARD
END:VTIMEZONE
BEGIN:VEVENT
DTSTART;TZID=UTC:20180407T080000
DTEND;TZID=UTC:20180407T093000
DTSTAMP:20260425T201540
CREATED:20180406T233041Z
LAST-MODIFIED:20180406T233041Z
UID:10000387-1523088000-1523093400@halletoakgallery.com
SUMMARY:Friends Beautification Day
DESCRIPTION:Saturday\, April 7\, 2018 \n8 AM to 9: 30 AM \n  \nMeet at the Gallery to volunteer! \nBring work gloves\, wear jeans\, and work shoes. \nDon’t forget a hat\, sunglasses\, and wear sunscreen. \nChildren under 14 may stay at the Gallery and work on beautification projects in the Gallery\, we will have free projects they can enjoy doing under and receive a community service certificate. At least one parent needs to stay with their child for their supervision. \nShare this:\n				Share on Facebook (Opens in new window)\n				Facebook\n			\n				Share on X (Opens in new window)\n				X\n			\n				Share on LinkedIn (Opens in new window)\n				LinkedIn\n			\n				Share on Pinterest (Opens in new window)\n				Pinterest\n			More\n				Share on Reddit (Opens in new window)\n				Reddit\n			\n				Share on Tumblr (Opens in new window)\n				Tumblr\n			\n				Email a link to a friend (Opens in new window)\n				Email\n			\n				Print (Opens in new window)\n				Print
URL:https://halletoakgallery.com/event/friends-beautification-day/
CATEGORIES:Beautification Day
ATTACH;FMTTYPE=image/jpeg:https://halletoakgallery.com/wp-content/uploads/2018/04/web_beautification_day_6463.jpg
END:VEVENT
BEGIN:VEVENT
DTSTART;TZID=UTC:20180409T183000
DTEND;TZID=UTC:20180409T210000
DTSTAMP:20260425T201540
CREATED:20180301T065711Z
LAST-MODIFIED:20180406T233830Z
UID:10000383-1523298600-1523307600@halletoakgallery.com
SUMMARY:2nd Monday Night Music at the HOG featuring Enzian Baum
DESCRIPTION:2nd Monday Night Music at the HOG featuring Enzian Baum \n$15\, bring your own drinks \nDoors open at 6:30 \n  \nShare this:\n				Share on Facebook (Opens in new window)\n				Facebook\n			\n				Share on X (Opens in new window)\n				X\n			\n				Share on LinkedIn (Opens in new window)\n				LinkedIn\n			\n				Share on Pinterest (Opens in new window)\n				Pinterest\n			More\n				Share on Reddit (Opens in new window)\n				Reddit\n			\n				Share on Tumblr (Opens in new window)\n				Tumblr\n			\n				Email a link to a friend (Opens in new window)\n				Email\n			\n				Print (Opens in new window)\n				Print
URL:https://halletoakgallery.com/event/2nd-monday-night-music-at-the-hog-featuring-enzian-baum/
LOCATION:Hallet Oak Gallery
CATEGORIES:Music Night at the HOG
ATTACH;FMTTYPE=image/jpeg:https://halletoakgallery.com/wp-content/uploads/2018/03/web_jason_keepers_MG_5765_.jpg
ORGANIZER;CN="Hallet Oak Gallery":MAILTO:venue@halletoakgallery.com
END:VEVENT
BEGIN:VEVENT
DTSTART;TZID=UTC:20180411T140000
DTEND;TZID=UTC:20180411T153000
DTSTAMP:20260425T201540
CREATED:20171031T090846Z
LAST-MODIFIED:20171031T090846Z
UID:10000195-1523455200-1523460600@halletoakgallery.com
SUMMARY:SHCS Tour\, TBA Lesson
DESCRIPTION:Share this:\n				Share on Facebook (Opens in new window)\n				Facebook\n			\n				Share on X (Opens in new window)\n				X\n			\n				Share on LinkedIn (Opens in new window)\n				LinkedIn\n			\n				Share on Pinterest (Opens in new window)\n				Pinterest\n			More\n				Share on Reddit (Opens in new window)\n				Reddit\n			\n				Share on Tumblr (Opens in new window)\n				Tumblr\n			\n				Email a link to a friend (Opens in new window)\n				Email\n			\n				Print (Opens in new window)\n				Print
URL:https://halletoakgallery.com/event/shcs-tour-tba-lesson/
CATEGORIES:Art Lessons,School Tour and Demo
ATTACH;FMTTYPE=image/jpeg:https://halletoakgallery.com/wp-content/uploads/2017/09/cropped-Hallet-Oak-Gallery-logo-2-X-2-2.jpg
ORGANIZER;CN="Hallet Oak Gallery":MAILTO:venue@halletoakgallery.com
END:VEVENT
BEGIN:VEVENT
DTSTART;TZID=UTC:20180413T190000
DTEND;TZID=UTC:20180413T210000
DTSTAMP:20260425T201540
CREATED:20180118T095958Z
LAST-MODIFIED:20180118T100146Z
UID:10000208-1523646000-1523653200@halletoakgallery.com
SUMMARY:Sip & Paint with Linda Cejka
DESCRIPTION:LINDA CEJKA\, ACRYLIC ART INSTRUCTOR \nSIP & PAINT AT THE GALLERY: Friday\, April 13\, 2018\, 7 – 9 PM \nOPEN TO THE PUBLIC:  $25 RSVP by phone & pay at the door   \nOn Friday\, April 13\, 2018\, Linda Cejka\, the Gallery’s Co-Director\, will be demonstrating live techniques creating “Lily Pads” for a “Sip & Paint at the Gallery” event.  Join us for a fun night of painting. Doors open at 6:30 and painting begins at 7:00 PM to 9:00 PM. \nMake this a family outing – children welcome!  Plan a Girls or Guys night out and invite your friends! The cost is $25 for adults and free for children under 14 years old. Children must be accompanied by a family member. Paints\, brushes and canvas will be supplied. RSVP 361-217-7030.  Last minute walk-ins are always welcome. \nLinda Cejka has an MBA from Our Lady of the Lake University and enjoys teaching arts and crafts to all ages from children to adults. Hallet Oak Gallery is located in the famous Kahn & Stanzel Bldg.\, 115 N. Main St.\, Hallettsville\, TX\, 77964. See the calendar of events at www.halletoakgallery.com. \n  \n  \n  \n  \n  \nShare this:\n				Share on Facebook (Opens in new window)\n				Facebook\n			\n				Share on X (Opens in new window)\n				X\n			\n				Share on LinkedIn (Opens in new window)\n				LinkedIn\n			\n				Share on Pinterest (Opens in new window)\n				Pinterest\n			More\n				Share on Reddit (Opens in new window)\n				Reddit\n			\n				Share on Tumblr (Opens in new window)\n				Tumblr\n			\n				Email a link to a friend (Opens in new window)\n				Email\n			\n				Print (Opens in new window)\n				Print
URL:https://halletoakgallery.com/event/sip-paint-with-linda-cejka/
CATEGORIES:Sip & Paint,Sip & Paint - A Night at the Gallery
ATTACH;FMTTYPE=image/jpeg:https://halletoakgallery.com/wp-content/uploads/2018/01/webLilys_by_Linda_Cejka.jpg
ORGANIZER;CN="Hallet Oak Gallery":MAILTO:venue@halletoakgallery.com
END:VEVENT
BEGIN:VEVENT
DTSTART;TZID=UTC:20180414T113000
DTEND;TZID=UTC:20180414T130000
DTSTAMP:20260425T201540
CREATED:20180118T083920Z
LAST-MODIFIED:20180407T000222Z
UID:10000206-1523705400-1523710800@halletoakgallery.com
SUMMARY:Lunch & Learn with Michael Windberg Demonstration
DESCRIPTION:Registration is at 11:30 PM $15 door fee \nLunch begins promptly at Noon until 1:00 PM. \nMust RSVP by leaving a message at 361-217-7030 — to receive a lunch. Walk-ins are welcome\, and bring own lunch. \nDessert will be served to the public for a free public reception 1 PM to 3 PM. \nShare this:\n				Share on Facebook (Opens in new window)\n				Facebook\n			\n				Share on X (Opens in new window)\n				X\n			\n				Share on LinkedIn (Opens in new window)\n				LinkedIn\n			\n				Share on Pinterest (Opens in new window)\n				Pinterest\n			More\n				Share on Reddit (Opens in new window)\n				Reddit\n			\n				Share on Tumblr (Opens in new window)\n				Tumblr\n			\n				Email a link to a friend (Opens in new window)\n				Email\n			\n				Print (Opens in new window)\n				Print
URL:https://halletoakgallery.com/event/lunch-learn-with-michael-windberg-demonstration/
CATEGORIES:art,Lunch & Learn,Spotlight on the Arts
ATTACH;FMTTYPE=image/jpeg:https://halletoakgallery.com/wp-content/uploads/2016/12/sm4x4michael_windberg_IMG_9683-e1516243404174.jpg
END:VEVENT
BEGIN:VEVENT
DTSTART;TZID=UTC:20180414T130000
DTEND;TZID=UTC:20180414T150000
DTSTAMP:20260425T201540
CREATED:20180118T091912Z
LAST-MODIFIED:20180118T091912Z
UID:10000207-1523710800-1523718000@halletoakgallery.com
SUMMARY:Spotlight on the Arts featuring Michael Windberg\, Master Oil Painter
DESCRIPTION:Free reception honoring the works of Michael Windberg: \n1 PM to 3 PM \nShare this:\n				Share on Facebook (Opens in new window)\n				Facebook\n			\n				Share on X (Opens in new window)\n				X\n			\n				Share on LinkedIn (Opens in new window)\n				LinkedIn\n			\n				Share on Pinterest (Opens in new window)\n				Pinterest\n			More\n				Share on Reddit (Opens in new window)\n				Reddit\n			\n				Share on Tumblr (Opens in new window)\n				Tumblr\n			\n				Email a link to a friend (Opens in new window)\n				Email\n			\n				Print (Opens in new window)\n				Print
URL:https://halletoakgallery.com/event/spotlight-on-the-arts-featuring-michael-windberg-master-oil-painter/
CATEGORIES:Art Exhibit & Reception
ATTACH;FMTTYPE=image/jpeg:https://halletoakgallery.com/wp-content/uploads/2015/10/michael_windberg_artist_image_1417.jpg
ORGANIZER;CN="Hallet Oak Gallery":MAILTO:venue@halletoakgallery.com
END:VEVENT
BEGIN:VEVENT
DTSTART;TZID=UTC:20180420T180000
DTEND;TZID=UTC:20180420T220000
DTSTAMP:20260425T201540
CREATED:20170825T001635Z
LAST-MODIFIED:20170825T001745Z
UID:10000350-1524247200-1524261600@halletoakgallery.com
SUMMARY:Private Booking: G.N. 6 p.m. to 10:00 p.m.
DESCRIPTION:Closed from 6 p.m. to 10 p.m. for private event. G. N. \nShare this:\n				Share on Facebook (Opens in new window)\n				Facebook\n			\n				Share on X (Opens in new window)\n				X\n			\n				Share on LinkedIn (Opens in new window)\n				LinkedIn\n			\n				Share on Pinterest (Opens in new window)\n				Pinterest\n			More\n				Share on Reddit (Opens in new window)\n				Reddit\n			\n				Share on Tumblr (Opens in new window)\n				Tumblr\n			\n				Email a link to a friend (Opens in new window)\n				Email\n			\n				Print (Opens in new window)\n				Print
URL:https://halletoakgallery.com/event/private-booking-g-n-6-p-m-to-1000-p-m/
END:VEVENT
END:VCALENDAR