BEGIN:VCALENDAR
VERSION:2.0
PRODID:-//Hallet Oak Foundation Inc - ECPv6.15.20//NONSGML v1.0//EN
CALSCALE:GREGORIAN
METHOD:PUBLISH
X-WR-CALNAME:Hallet Oak Foundation Inc
X-ORIGINAL-URL:https://halletoakgallery.com
X-WR-CALDESC:Events for Hallet Oak Foundation Inc
REFRESH-INTERVAL;VALUE=DURATION:PT1H
X-Robots-Tag:noindex
X-PUBLISHED-TTL:PT1H
BEGIN:VTIMEZONE
TZID:America/Chicago
BEGIN:DAYLIGHT
TZOFFSETFROM:-0600
TZOFFSETTO:-0500
TZNAME:CDT
DTSTART:20190310T080000
END:DAYLIGHT
BEGIN:STANDARD
TZOFFSETFROM:-0500
TZOFFSETTO:-0600
TZNAME:CST
DTSTART:20191103T070000
END:STANDARD
BEGIN:DAYLIGHT
TZOFFSETFROM:-0600
TZOFFSETTO:-0500
TZNAME:CDT
DTSTART:20200308T080000
END:DAYLIGHT
BEGIN:STANDARD
TZOFFSETFROM:-0500
TZOFFSETTO:-0600
TZNAME:CST
DTSTART:20201101T070000
END:STANDARD
BEGIN:DAYLIGHT
TZOFFSETFROM:-0600
TZOFFSETTO:-0500
TZNAME:CDT
DTSTART:20210314T080000
END:DAYLIGHT
BEGIN:STANDARD
TZOFFSETFROM:-0500
TZOFFSETTO:-0600
TZNAME:CST
DTSTART:20211107T070000
END:STANDARD
END:VTIMEZONE
BEGIN:VEVENT
DTSTART;TZID=America/Chicago:20200829T110000
DTEND;TZID=America/Chicago:20200829T150000
DTSTAMP:20260424T021239
CREATED:20200123T150518Z
LAST-MODIFIED:20200123T150518Z
UID:10000563-1598698800-1598713200@halletoakgallery.com
SUMMARY:Gallery is Open! Meet the artists! Free tours and entry!
DESCRIPTION:Saturday\, August 1 – 29 2020 Artists Exhibit  \nEvery Saturday 11 AM to 3 PM \nHALLETTSVILLE: Hallet Oak Gallery 2020 Exhibit features over twenty artists! \nEnjoy a Gallery tour of the historic timeline about Hallettsville. Afterwards\, take the scavenger hunt challenge and win a prize! No admission Fee. Exhibits include Moses Adams\, Dianne Appelt\, Blanche Cavarretta\, Roy Cavarretta\, Linda Cejka\, Larry Charles\, Erica Estrada\, Mary Gullette\, Debbie Halling\, Ken Kopacki\, Mieko Mahi\, Paula Patterson\, Dennis Pesek\, James Phillips\, Steven Pituch\, Georgia Pohl\, Phyllis Rivera\, Timothy Sadler\, Lois Weiss\, Michael Windberg\, and Bria Woods.  \nHallet Oak Gallery\, 115 N. Main St.\, Hallettsville\, TX 77964 www.halletoakgallery.com 361-217-7030 \nFree \nTimothy Sadler\, wildlife and landscape photographer\, will be present in Gallery throughout August. \nShare this:\n				Share on Facebook (Opens in new window)\n				Facebook\n			\n				Share on X (Opens in new window)\n				X\n			\n				Share on LinkedIn (Opens in new window)\n				LinkedIn\n			\n				Share on Pinterest (Opens in new window)\n				Pinterest\n			More\n				Share on Reddit (Opens in new window)\n				Reddit\n			\n				Share on Tumblr (Opens in new window)\n				Tumblr\n			\n				Email a link to a friend (Opens in new window)\n				Email\n			\n				Print (Opens in new window)\n				Print
URL:https://halletoakgallery.com/event/gallery-is-open-meet-the-artists-free-tours-and-entry/2020-08-29/
LOCATION:Hallet Oak Gallery
CATEGORIES:Art Center with Exhibit,Space Tunnel
ATTACH;FMTTYPE=image/jpeg:https://halletoakgallery.com/wp-content/uploads/2020/01/web_opening_IMG_1378.jpg
END:VEVENT
BEGIN:VEVENT
DTSTART;TZID=America/Chicago:20200627T110000
DTEND;TZID=America/Chicago:20200627T150000
DTSTAMP:20260424T021239
CREATED:20200120T120902Z
LAST-MODIFIED:20200120T121204Z
UID:10000340-1593255600-1593270000@halletoakgallery.com
SUMMARY:Gallery is Open! See sculptures\, photography\, collage\, mixed media\, carvings\, drawing\, and jewelry for sale! Meet the artists!
DESCRIPTION:Every Saturday\, June 6 – 27 2020 Artists Exhibit and Scavenger Hunts for Children. Space Tunnel will be open. \n11 AM to 3 PM \nHALLETTSVILLE: Painting\, sculpture\, photography\, collage\, mixed media\, carvings\, drawing\, and jewelry artists include: Moses Adams\, Dianne Appelt\, Blanche Cavarretta\, Roy Cavarretta\, Linda Cejka\, Larry Charles\, Erica Estrada\, Mary Gullette\, Debbie Halling\, Ken Kopacki\, Mieko Mahi\, Paula Patterson\, Dennis Pesek\, James Phillips\, Steven Pituch\, Georgia Pohl\, Phyllis Rivera\, Timothy Sadler\, Lois Weiss\, Michael Windberg\, and Bria Woods. \nLois Weiss\, oil painter\, Paula Patterson\, acrylic painter and Steven Pituch\, oil painter and photographer\, will be present throughout June \nHallet Oak Gallery\, 115 N. Main St.\, Hallettsville\, TX 77964 www.halletoakgallery.com 361-217-7030 \nFree \nShare this:\n				Share on Facebook (Opens in new window)\n				Facebook\n			\n				Share on X (Opens in new window)\n				X\n			\n				Share on LinkedIn (Opens in new window)\n				LinkedIn\n			\n				Share on Pinterest (Opens in new window)\n				Pinterest\n			More\n				Share on Reddit (Opens in new window)\n				Reddit\n			\n				Share on Tumblr (Opens in new window)\n				Tumblr\n			\n				Email a link to a friend (Opens in new window)\n				Email\n			\n				Print (Opens in new window)\n				Print
URL:https://halletoakgallery.com/event/gallery-is-open-see-sculptures-photography-collage-mixed-media-carvings-drawing-and-jewelry-for-sale/2020-06-27/
LOCATION:Hallet Oak Gallery
CATEGORIES:Art Center with Exhibit,Gallery is Open,Historical,Historical Building,Space Tunnel
ATTACH;FMTTYPE=image/jpeg:https://halletoakgallery.com/wp-content/uploads/2020/01/web_opening_MG_8206.jpg
ORGANIZER;CN="Hallet Oak Gallery":MAILTO:venue@halletoakgallery.com
END:VEVENT
BEGIN:VEVENT
DTSTART;TZID=America/Chicago:20200530T080000
DTEND;TZID=America/Chicago:20200530T170000
DTSTAMP:20260424T021239
CREATED:20200120T122846Z
LAST-MODIFIED:20200120T122846Z
UID:10000346-1590825600-1590858000@halletoakgallery.com
SUMMARY:Gallery is Open! Space Tunnel is Open! Art to buy! Come in to browse!
DESCRIPTION:Saturday\, May 2 – 30 2020 Artists Exhibit  \nEvery Saturday 11 AM to 3 PM \nHALLETTSVILLE: Hallet Oak Gallery 2020 Artists will display painting\, sculpture\, photography\, collage\, mixed media\, carvings\, drawing\, and jewelry. The artists include: Moses Adams\, Dianne Appelt\, Blanche Cavarretta\, Roy Cavarretta\, Linda Cejka\, Larry Charles\, Erica Estrada\, Mary Gullette\, Debbie Halling\, Ken Kopacki\, Mieko Mahi\, Paula Patterson\, Dennis Pesek\, James Phillips\, Steven Pituch\, Georgia Pohl\, Phyllis Rivera\, Timothy Sadler\, Lois Weiss\, Michael Windberg\, and Bria Woods.  \nHallet Oak Gallery\, 115 N. Main St.\, Hallettsville\, TX 77964 www.halletoakgallery.com 361-217-7030. Free. \nLois Weiss\, oil painter\, Mary Gullette\, mixed-media and Ken Kopacki\, landscape photographer\, Michael Windberg\, oil painter instructor\, and Blanche & Roy Cavarretta\, gourd artists will be present throughout May. \nShare this:\n				Share on Facebook (Opens in new window)\n				Facebook\n			\n				Share on X (Opens in new window)\n				X\n			\n				Share on LinkedIn (Opens in new window)\n				LinkedIn\n			\n				Share on Pinterest (Opens in new window)\n				Pinterest\n			More\n				Share on Reddit (Opens in new window)\n				Reddit\n			\n				Share on Tumblr (Opens in new window)\n				Tumblr\n			\n				Email a link to a friend (Opens in new window)\n				Email\n			\n				Print (Opens in new window)\n				Print
URL:https://halletoakgallery.com/event/gallery-is-open-space-tunnel-is-open-art-to-buy-come-in-to-browse/2020-05-30/
CATEGORIES:Art Center with Exhibit,Space Tunnel
ATTACH;FMTTYPE=image/jpeg:https://halletoakgallery.com/wp-content/uploads/2020/01/3x2_art_market_roy_cavarretta_gourd_IMG_0050.jpg
END:VEVENT
BEGIN:VEVENT
DTSTART;TZID=America/Chicago:20200425T110000
DTEND;TZID=America/Chicago:20200425T150000
DTSTAMP:20260424T021239
CREATED:20200120T040249Z
LAST-MODIFIED:20200120T040249Z
UID:10000327-1587812400-1587826800@halletoakgallery.com
SUMMARY:Gallery is open! Art for Sale! Enjoy Scavenger Hunts & Space Tunnel!
DESCRIPTION:Saturday\, April 4 – 25 2020 Artists Exhibit  \nEvery Saturday 11 AM – 3 PM Space Tunnel will be open & Scavenge Hunts for Children! 2020 Exhibit is on display! \nHALLETTSVILLE: Painting\, sculpture\, photography\, collage\, mixed media\, carvings\, drawing\, and jewelry artists\, include: Moses Adams\, Dianne Appelt\, Blanche Cavarretta\, Roy Cavarretta\, Linda Cejka\, Larry Charles\, Erica Estrada\, Mary Gullette\, Debbie Halling\, Ken Kopacki\, Mieko Mahi\, Paula Patterson\, Dennis Pesek\, James Phillips\, Steven Pituch\, Georgia Pohl\, Phyllis Rivera\, Timothy Sadler\, Lois Weiss\, Michael Windberg\, and Bria Woods.  \nLois Weiss\, oil painter\, Debbie Halling\, oil and watercolor painter\, and Bria Woods\, portrait photographer will greet visitors in April. \nHallet Oak Gallery\, 115 N. Main St.\, Hallettsville\, TX 77964 www.halletoakgallery.com 361-217-7030 \nFree \nShare this:\n				Share on Facebook (Opens in new window)\n				Facebook\n			\n				Share on X (Opens in new window)\n				X\n			\n				Share on LinkedIn (Opens in new window)\n				LinkedIn\n			\n				Share on Pinterest (Opens in new window)\n				Pinterest\n			More\n				Share on Reddit (Opens in new window)\n				Reddit\n			\n				Share on Tumblr (Opens in new window)\n				Tumblr\n			\n				Email a link to a friend (Opens in new window)\n				Email\n			\n				Print (Opens in new window)\n				Print
URL:https://halletoakgallery.com/event/gallery-is-open-art-for-sale-enjoy-scavenger-hunts-space-tunnel/2020-04-25/
LOCATION:Hallet Oak Gallery
CATEGORIES:art,Art Center with Exhibit,Space Tunnel
ATTACH;FMTTYPE=image/jpeg:https://halletoakgallery.com/wp-content/uploads/2020/01/web__space_station_opens-in-spring_IMG_8377.jpg
ORGANIZER;CN="Hallet Oak Gallery":MAILTO:venue@halletoakgallery.com
END:VEVENT
END:VCALENDAR