BEGIN:VCALENDAR
VERSION:2.0
PRODID:-//Hallet Oak Foundation Inc - ECPv6.15.20//NONSGML v1.0//EN
CALSCALE:GREGORIAN
METHOD:PUBLISH
X-WR-CALNAME:Hallet Oak Foundation Inc
X-ORIGINAL-URL:https://halletoakgallery.com
X-WR-CALDESC:Events for Hallet Oak Foundation Inc
REFRESH-INTERVAL;VALUE=DURATION:PT1H
X-Robots-Tag:noindex
X-PUBLISHED-TTL:PT1H
BEGIN:VTIMEZONE
TZID:UTC
BEGIN:STANDARD
TZOFFSETFROM:+0000
TZOFFSETTO:+0000
TZNAME:UTC
DTSTART:20170101T000000
END:STANDARD
END:VTIMEZONE
BEGIN:VEVENT
DTSTART;TZID=UTC:20180929T080000
DTEND;TZID=UTC:20180929T100000
DTSTAMP:20260423T165219
CREATED:20180908T055843Z
LAST-MODIFIED:20180908T060743Z
UID:10000418-1538208000-1538215200@halletoakgallery.com
SUMMARY:Kolache Fest Pre-Parade Party
DESCRIPTION:  \nHallet Oak Gallery is having a Kolache Fest Pre-Parade Party from 8:00 am to 10:00 am on Saturday\, September 29\, 2018. \nVisit the Gallery before the parade and have Coffee and Kolaches. This would be a great time to purchase a Raffle Ticket for $10 for winner’s choice of a Michael Windberg – Landscape Oil painting or a James Phillips – Owl Wood Carving. The drawing will be on October 6\, 2018 at 4:00pm. Presence not Necessary to Win! \nAlso sign up for upcoming classes and events. \nDuring the pre-parade party we will have balloons for children. \nBring your chairs and set them up right outside the Gallery for a great view of the parade \nThe Hallet Oak Gallery balloons and kolaches are  sponsored by Abdon Standley Cejka. \nParade begins at 10 am — for Kolache Fest event details visit: www.hallettsville.com for the Hallettsville Chamber of Commerce & Agriculture web site. \n  \nHallet Oak Gallery \n115 N. Main Street \nHallettsville\, Texas 77964 \nShare this:\n				Share on Facebook (Opens in new window)\n				Facebook\n			\n				Share on X (Opens in new window)\n				X\n			\n				Share on LinkedIn (Opens in new window)\n				LinkedIn\n			\n				Share on Pinterest (Opens in new window)\n				Pinterest\n			More\n				Share on Reddit (Opens in new window)\n				Reddit\n			\n				Share on Tumblr (Opens in new window)\n				Tumblr\n			\n				Email a link to a friend (Opens in new window)\n				Email\n			\n				Print (Opens in new window)\n				Print
URL:https://halletoakgallery.com/event/kolache-fest-pre-parade-party/
LOCATION:Hallet Oak Gallery
CATEGORIES:Annual Event - Free,Open House,Party
ATTACH;FMTTYPE=image/jpeg:https://halletoakgallery.com/wp-content/uploads/2018/09/Untitled.jpeg
ORGANIZER;CN="Hallet Oak Gallery":MAILTO:venue@halletoakgallery.com
END:VEVENT
END:VCALENDAR