BEGIN:VCALENDAR
VERSION:2.0
PRODID:-//Hallet Oak Foundation Inc - ECPv6.15.20//NONSGML v1.0//EN
CALSCALE:GREGORIAN
METHOD:PUBLISH
X-ORIGINAL-URL:https://halletoakgallery.com
X-WR-CALDESC:Events for Hallet Oak Foundation Inc
REFRESH-INTERVAL;VALUE=DURATION:PT1H
X-Robots-Tag:noindex
X-PUBLISHED-TTL:PT1H
BEGIN:VTIMEZONE
TZID:UTC
BEGIN:STANDARD
TZOFFSETFROM:+0000
TZOFFSETTO:+0000
TZNAME:UTC
DTSTART:20160101T000000
END:STANDARD
END:VTIMEZONE
BEGIN:VEVENT
DTSTART;TZID=UTC:20170225T180000
DTEND;TZID=UTC:20170225T190000
DTSTAMP:20260424T001243
CREATED:20161226T105529Z
LAST-MODIFIED:20170204T115851Z
UID:10000155-1488045600-1488049200@halletoakgallery.com
SUMMARY:Vic’s Saturday Open Mic at the HOG! 6 p.m. to 9 p.m.
DESCRIPTION:Vic’s Open Mic Night – Blues Rock at the HOG  \nFeaturing Rhythm\, Blues\, and Classic Rock \nDiscounts for “under 30 years in age” crowd & those that perform \nSaturday\, January 28 \n6 PM to 9 PM \nVic Dyer\, an electric guitar instructor\, will lead live performances for “Vic’s Open Mic Night – Blues Rock at the HOG” on Saturday\, January 28\, 2017 from 6 to 9 PM. “Vic’s Open Mic Night” will be featuring a variety of electronic guitar blues\, rock and country. Doors open at 6:00 PM. General admission is $10 and is discounted to $5 for anyone from the ages of 21 to 29 years old. Attendees that bring a guitar or plan to sing on stage — get in free. A PA system and two amps will be supplied and all are welcomed to bring own music gear. Vic says “Come ready to sing along and play!” Light snacks provided. All proceeds benefit the Hallet Oak Foundation\, a non-profit organization. For more information\, visit halletoakgallery.com or call 361-217-7030. Hallet Oak Gallery is located in the historic Kahn & Stanzel Bldg.\, 115 N. Main Street\, Hallettsville\, TX 77964. \nShare this:\n				Share on Facebook (Opens in new window)\n				Facebook\n			\n				Share on X (Opens in new window)\n				X\n			\n				Share on LinkedIn (Opens in new window)\n				LinkedIn\n			\n				Share on Pinterest (Opens in new window)\n				Pinterest\n			More\n				Share on Reddit (Opens in new window)\n				Reddit\n			\n				Share on Tumblr (Opens in new window)\n				Tumblr\n			\n				Email a link to a friend (Opens in new window)\n				Email\n			\n				Print (Opens in new window)\n				Print
URL:https://halletoakgallery.com/event/vics-saturday-open-mic-at-the-hog-7-p-m-to-9-p-m-2/
LOCATION:Hallet Oak Gallery
CATEGORIES:Open Mic
ATTACH;FMTTYPE=image/jpeg:https://halletoakgallery.com/wp-content/uploads/2016/10/bwsmvic_dyer.jpg
ORGANIZER;CN="Hallet Oak Gallery":MAILTO:venue@halletoakgallery.com
END:VEVENT
END:VCALENDAR