BEGIN:VCALENDAR
VERSION:2.0
PRODID:-//Hallet Oak Foundation Inc - ECPv6.15.20//NONSGML v1.0//EN
CALSCALE:GREGORIAN
METHOD:PUBLISH
X-WR-CALNAME:Hallet Oak Foundation Inc
X-ORIGINAL-URL:https://halletoakgallery.com
X-WR-CALDESC:Events for Hallet Oak Foundation Inc
REFRESH-INTERVAL;VALUE=DURATION:PT1H
X-Robots-Tag:noindex
X-PUBLISHED-TTL:PT1H
BEGIN:VTIMEZONE
TZID:UTC
BEGIN:STANDARD
TZOFFSETFROM:+0000
TZOFFSETTO:+0000
TZNAME:UTC
DTSTART:20160101T000000
END:STANDARD
END:VTIMEZONE
BEGIN:VTIMEZONE
TZID:America/Chicago
BEGIN:DAYLIGHT
TZOFFSETFROM:-0600
TZOFFSETTO:-0500
TZNAME:CDT
DTSTART:20190310T080000
END:DAYLIGHT
BEGIN:STANDARD
TZOFFSETFROM:-0500
TZOFFSETTO:-0600
TZNAME:CST
DTSTART:20191103T070000
END:STANDARD
BEGIN:DAYLIGHT
TZOFFSETFROM:-0600
TZOFFSETTO:-0500
TZNAME:CDT
DTSTART:20200308T080000
END:DAYLIGHT
BEGIN:STANDARD
TZOFFSETFROM:-0500
TZOFFSETTO:-0600
TZNAME:CST
DTSTART:20201101T070000
END:STANDARD
BEGIN:DAYLIGHT
TZOFFSETFROM:-0600
TZOFFSETTO:-0500
TZNAME:CDT
DTSTART:20210314T080000
END:DAYLIGHT
BEGIN:STANDARD
TZOFFSETFROM:-0500
TZOFFSETTO:-0600
TZNAME:CST
DTSTART:20211107T070000
END:STANDARD
END:VTIMEZONE
BEGIN:VEVENT
DTSTART;TZID=UTC:20170408T113000
DTEND;TZID=UTC:20170408T130000
DTSTAMP:20260423T180111
CREATED:20161226T195856Z
LAST-MODIFIED:20161226T195856Z
UID:10000156-1491651000-1491656400@halletoakgallery.com
SUMMARY:Lunch & Learn speaker: Marika Bordes\, Sculptor
DESCRIPTION:Hallet Oak Gallery Lunch & Learn 11:30 a.m. – 1:00 p.m with coffee reception following\n \nMarika the Path of Sculptor Book by Marika Bordes is an invitation to persevere in your quest for your full potential of a more creative life. \nTo order this book go to the Amazon link in the left column under the heading Marika Links.\nMARIKA BORDES\nThe Haitian child had a dream: To dance with the trees high in the clouds in their care-free world.\nMarika Bordes comes to us via Haiti\, then Canada\, then NYC\, then Sequin\,Texas. Her subtlety with the chisel makes the labor look as if one was cutting through butter. The resulting images are rich with the power of the wood\, the power of the spirit\, and the power of the love she places into her craft. Bordes’ considers her sculptures to be ambassadors— great seers witnessing and protecting the sacredness of life. They invite the inner sensations of joy and serenity. \nShare this:\n				Share on Facebook (Opens in new window)\n				Facebook\n			\n				Share on X (Opens in new window)\n				X\n			\n				Share on LinkedIn (Opens in new window)\n				LinkedIn\n			\n				Share on Pinterest (Opens in new window)\n				Pinterest\n			More\n				Share on Reddit (Opens in new window)\n				Reddit\n			\n				Share on Tumblr (Opens in new window)\n				Tumblr\n			\n				Email a link to a friend (Opens in new window)\n				Email\n			\n				Print (Opens in new window)\n				Print
URL:https://halletoakgallery.com/event/lunch-learn-speaker-marika-bordes-sculptor/
LOCATION:Hallet Oak Gallery
CATEGORIES:Lunch & Learn
ATTACH;FMTTYPE=image/jpeg:https://halletoakgallery.com/wp-content/uploads/2016/12/front-cover-amazon0011.jpg
ORGANIZER;CN="Hallet Oak Gallery":MAILTO:venue@halletoakgallery.com
END:VEVENT
BEGIN:VEVENT
DTSTART;TZID=UTC:20180414T113000
DTEND;TZID=UTC:20180414T130000
DTSTAMP:20260423T180111
CREATED:20180118T083920Z
LAST-MODIFIED:20180407T000222Z
UID:10000206-1523705400-1523710800@halletoakgallery.com
SUMMARY:Lunch & Learn with Michael Windberg Demonstration
DESCRIPTION:Registration is at 11:30 PM $15 door fee \nLunch begins promptly at Noon until 1:00 PM. \nMust RSVP by leaving a message at 361-217-7030 — to receive a lunch. Walk-ins are welcome\, and bring own lunch. \nDessert will be served to the public for a free public reception 1 PM to 3 PM. \nShare this:\n				Share on Facebook (Opens in new window)\n				Facebook\n			\n				Share on X (Opens in new window)\n				X\n			\n				Share on LinkedIn (Opens in new window)\n				LinkedIn\n			\n				Share on Pinterest (Opens in new window)\n				Pinterest\n			More\n				Share on Reddit (Opens in new window)\n				Reddit\n			\n				Share on Tumblr (Opens in new window)\n				Tumblr\n			\n				Email a link to a friend (Opens in new window)\n				Email\n			\n				Print (Opens in new window)\n				Print
URL:https://halletoakgallery.com/event/lunch-learn-with-michael-windberg-demonstration/
CATEGORIES:art,Lunch & Learn,Spotlight on the Arts
ATTACH;FMTTYPE=image/jpeg:https://halletoakgallery.com/wp-content/uploads/2016/12/sm4x4michael_windberg_IMG_9683-e1516243404174.jpg
END:VEVENT
BEGIN:VEVENT
DTSTART;TZID=UTC:20190302T113000
DTEND;TZID=UTC:20190302T113000
DTSTAMP:20260423T180111
CREATED:20190122T092544Z
LAST-MODIFIED:20190122T092849Z
UID:10000464-1551526200-1551526200@halletoakgallery.com
SUMMARY:Lunch & Learn "The Business of Art"
DESCRIPTION:Saturday\, March 2  \nHALLETTSVILLE: Hallet Oak Gallery Lunch & Learn 11:30 – 1 PM \n“The Business of Art” presented by Alec H. Horn\, Attorney (Retired.) \nHallet Oak Gallery\, 115 N. Main St.\, Hallettsville\, TX 77964 www.halletoakgallery.com \n$15 RSVP: 361-217-7030 includes lunch. Walk-ins welcome\, bring own lunch. \nShare this:\n				Share on Facebook (Opens in new window)\n				Facebook\n			\n				Share on X (Opens in new window)\n				X\n			\n				Share on LinkedIn (Opens in new window)\n				LinkedIn\n			\n				Share on Pinterest (Opens in new window)\n				Pinterest\n			More\n				Share on Reddit (Opens in new window)\n				Reddit\n			\n				Share on Tumblr (Opens in new window)\n				Tumblr\n			\n				Email a link to a friend (Opens in new window)\n				Email\n			\n				Print (Opens in new window)\n				Print
URL:https://halletoakgallery.com/event/lunch-learn-the-business-of-art/
LOCATION:Hallet Oak Gallery
CATEGORIES:Lunch & Learn
ATTACH;FMTTYPE=image/jpeg:https://halletoakgallery.com/wp-content/uploads/2019/01/webIMG_1414.jpg
ORGANIZER;CN="Hallet Oak Gallery":MAILTO:venue@halletoakgallery.com
END:VEVENT
BEGIN:VEVENT
DTSTART;TZID=UTC:20190503T080000
DTEND;TZID=UTC:20190503T170000
DTSTAMP:20260423T180111
CREATED:20190128T010239Z
LAST-MODIFIED:20190128T010347Z
UID:10000475-1556870400-1556902800@halletoakgallery.com
SUMMARY:Seniors Lunch & Old Time Mountain Music
DESCRIPTION:Friday\, May 3 \nHALLETTSVILLE: Hallet Oak Gallery Seniors Lunch & Music 11:30 – 1 PM \nOld Time Mountain Music: Carolyn Arrington\, Curtis Braeswell & Darrell Ferguson \nHallet Oak Gallery\, 115 N. Main St.\, Hallettsville\, TX 77964   www.halletoakgallery.com \nFree or Donation only. RSVP: 361-217-7030 \nShare this:\n				Share on Facebook (Opens in new window)\n				Facebook\n			\n				Share on X (Opens in new window)\n				X\n			\n				Share on LinkedIn (Opens in new window)\n				LinkedIn\n			\n				Share on Pinterest (Opens in new window)\n				Pinterest\n			More\n				Share on Reddit (Opens in new window)\n				Reddit\n			\n				Share on Tumblr (Opens in new window)\n				Tumblr\n			\n				Email a link to a friend (Opens in new window)\n				Email\n			\n				Print (Opens in new window)\n				Print
URL:https://halletoakgallery.com/event/seniors-lunch-old-time-mountain-music/
LOCATION:Hallet Oak Gallery
CATEGORIES:Live Music,Lunch & Learn,Senior Lunch & Music
ATTACH;FMTTYPE=image/jpeg:https://halletoakgallery.com/wp-content/uploads/2019/01/web5x7_carolyn_arlington_MG_3265.jpg
ORGANIZER;CN="Hallet Oak Gallery":MAILTO:venue@halletoakgallery.com
END:VEVENT
BEGIN:VEVENT
DTSTART;TZID=UTC:20190803T110000
DTEND;TZID=UTC:20190803T130000
DTSTAMP:20260423T180111
CREATED:20190128T022755Z
LAST-MODIFIED:20190128T022755Z
UID:10000485-1564830000-1564837200@halletoakgallery.com
SUMMARY:Lunch & Learn: Realism Oil Painting Demonstration
DESCRIPTION:Saturday\, August 3 \nHALLETTSVILLE: Hallet Oak Gallery Lunch & Learn 11:30 – 1 PM \n“Realism Oil Painting Demo” by Michael Windberg \nHallet Oak Gallery\, 115 N. Main St.\, Hallettsville\, TX 77964 www.halletoakgallery.com \n$15 RSVP: 361-217-7030 includes lunch. Walk-ins welcome\, bring own lunch. \nShare this:\n				Share on Facebook (Opens in new window)\n				Facebook\n			\n				Share on X (Opens in new window)\n				X\n			\n				Share on LinkedIn (Opens in new window)\n				LinkedIn\n			\n				Share on Pinterest (Opens in new window)\n				Pinterest\n			More\n				Share on Reddit (Opens in new window)\n				Reddit\n			\n				Share on Tumblr (Opens in new window)\n				Tumblr\n			\n				Email a link to a friend (Opens in new window)\n				Email\n			\n				Print (Opens in new window)\n				Print
URL:https://halletoakgallery.com/event/lunch-learn-realism-oil-painting-demonstration/
LOCATION:Hallet Oak Gallery
CATEGORIES:Lunch & Learn
ATTACH;FMTTYPE=image/jpeg:https://halletoakgallery.com/wp-content/uploads/2015/04/IMG_2084-1.jpg
ORGANIZER;CN="Hallet Oak Gallery":MAILTO:venue@halletoakgallery.com
END:VEVENT
BEGIN:VEVENT
DTSTART;TZID=America/Chicago:20200501T113000
DTEND;TZID=America/Chicago:20200501T130000
DTSTAMP:20260423T180111
CREATED:20200123T140716Z
LAST-MODIFIED:20200123T140716Z
UID:10000551-1588332600-1588338000@halletoakgallery.com
SUMMARY:Seniors Lunch & Music 11:30 AM – 1 PM
DESCRIPTION:Friday\, May 1 \nHALLETTSVILLE: Hallet Oak Gallery Seniors Lunch & Music 11:30 AM – 1 PM \nOld time mountain music with Carolyn Arrington \nHallet Oak Gallery\, 115 N. Main St.\, Hallettsville\, TX 77964   www.halletoakgallery.com \nRSVP for free senior lunch 361-217-7030. Donations appreciated. \nWalk-ins welcome\, bring own lunch. \nShare this:\n				Share on Facebook (Opens in new window)\n				Facebook\n			\n				Share on X (Opens in new window)\n				X\n			\n				Share on LinkedIn (Opens in new window)\n				LinkedIn\n			\n				Share on Pinterest (Opens in new window)\n				Pinterest\n			More\n				Share on Reddit (Opens in new window)\n				Reddit\n			\n				Share on Tumblr (Opens in new window)\n				Tumblr\n			\n				Email a link to a friend (Opens in new window)\n				Email\n			\n				Print (Opens in new window)\n				Print
URL:https://halletoakgallery.com/event/seniors-lunch-music-1130-am-1-pm/
LOCATION:Hallet Oak Gallery
CATEGORIES:Live Music,Lunch & Learn,Senior Lunch & Music
ATTACH;FMTTYPE=image/jpeg:https://halletoakgallery.com/wp-content/uploads/2020/01/5x7_hallet_oak_gallery_IMG_6729.jpg
END:VEVENT
BEGIN:VEVENT
DTSTART;TZID=America/Chicago:20200801T110000
DTEND;TZID=America/Chicago:20200801T150000
DTSTAMP:20260423T180111
CREATED:20200123T150131Z
LAST-MODIFIED:20200728T144759Z
UID:10000558-1596279600-1596294000@halletoakgallery.com
SUMMARY:Windberg’s Art Supply Sale\, Come & Go and see Mike Windberg oil paint!
DESCRIPTION:Michael Windberg Art Demonstration — Downtown Happening! \nCome & Go at Hallet Oak Gallery \nSaturday\, August 1\, 2020 11 a.m. to 3 p.m. \n  \nSee Michael Windberg paint while you shop for art supplies on Saturday\, August 1\, from 11 AM to 3 PM at Hallet Oak Gallery.  Glass palettes\, Windberg boxes\, brushes\, paints\, glazes\, canvases\, and easels will be available to purchase for one day only. \nThe Hallet Oak Gallery will also be offering for sale original paintings by Michael Windberg\, renowned artist. Continuing in the tradition of his father\, Dalhart Windberg\, artist of Texas\, Michael has made his mark as a serious painter of Texas landscapes and historical subjects. “While I enjoy historical images\,” Michael says\, “landscapes will always be my first love.” \nAlso available on Saturday will be an outdoor architecture scavenger hunt for those that would enjoy walking around the downtown square. Prizes will be awarded on completion of the Gallery’s scavenger hunts. Open to all ages. \nThe Hallet Oak Gallery is located in the historic Kahn and Stanzel Building designed by renowned architect James Riely Gordon.  Free tours and visits will be available.  Pandemic rules apply. For more information or to buy art online\, visit www.halletoakgallery.com or call 361-217-7030. \nShare this:\n				Share on Facebook (Opens in new window)\n				Facebook\n			\n				Share on X (Opens in new window)\n				X\n			\n				Share on LinkedIn (Opens in new window)\n				LinkedIn\n			\n				Share on Pinterest (Opens in new window)\n				Pinterest\n			More\n				Share on Reddit (Opens in new window)\n				Reddit\n			\n				Share on Tumblr (Opens in new window)\n				Tumblr\n			\n				Email a link to a friend (Opens in new window)\n				Email\n			\n				Print (Opens in new window)\n				Print
URL:https://halletoakgallery.com/event/lunch-learn-michael-windberg-oil-painting-demonstration/
LOCATION:Hallet Oak Gallery
CATEGORIES:Lunch & Learn,Michael Windberg Oil Painting Workshop
ATTACH;FMTTYPE=image/jpeg:https://halletoakgallery.com/wp-content/uploads/2018/08/web_4x6michael_windberg_artist_image_1417.jpg
END:VEVENT
END:VCALENDAR