BEGIN:VCALENDAR
VERSION:2.0
PRODID:-//Hallet Oak Foundation Inc - ECPv6.15.20//NONSGML v1.0//EN
CALSCALE:GREGORIAN
METHOD:PUBLISH
X-ORIGINAL-URL:https://halletoakgallery.com
X-WR-CALDESC:Events for Hallet Oak Foundation Inc
REFRESH-INTERVAL;VALUE=DURATION:PT1H
X-Robots-Tag:noindex
X-PUBLISHED-TTL:PT1H
BEGIN:VTIMEZONE
TZID:UTC
BEGIN:STANDARD
TZOFFSETFROM:+0000
TZOFFSETTO:+0000
TZNAME:UTC
DTSTART:20180101T000000
END:STANDARD
END:VTIMEZONE
BEGIN:VTIMEZONE
TZID:America/Chicago
BEGIN:DAYLIGHT
TZOFFSETFROM:-0600
TZOFFSETTO:-0500
TZNAME:CDT
DTSTART:20190310T080000
END:DAYLIGHT
BEGIN:STANDARD
TZOFFSETFROM:-0500
TZOFFSETTO:-0600
TZNAME:CST
DTSTART:20191103T070000
END:STANDARD
BEGIN:DAYLIGHT
TZOFFSETFROM:-0600
TZOFFSETTO:-0500
TZNAME:CDT
DTSTART:20200308T080000
END:DAYLIGHT
BEGIN:STANDARD
TZOFFSETFROM:-0500
TZOFFSETTO:-0600
TZNAME:CST
DTSTART:20201101T070000
END:STANDARD
BEGIN:DAYLIGHT
TZOFFSETFROM:-0600
TZOFFSETTO:-0500
TZNAME:CDT
DTSTART:20210314T080000
END:DAYLIGHT
BEGIN:STANDARD
TZOFFSETFROM:-0500
TZOFFSETTO:-0600
TZNAME:CST
DTSTART:20211107T070000
END:STANDARD
BEGIN:DAYLIGHT
TZOFFSETFROM:-0600
TZOFFSETTO:-0500
TZNAME:CDT
DTSTART:20220313T080000
END:DAYLIGHT
BEGIN:STANDARD
TZOFFSETFROM:-0500
TZOFFSETTO:-0600
TZNAME:CST
DTSTART:20221106T070000
END:STANDARD
BEGIN:DAYLIGHT
TZOFFSETFROM:-0600
TZOFFSETTO:-0500
TZNAME:CDT
DTSTART:20230312T080000
END:DAYLIGHT
BEGIN:STANDARD
TZOFFSETFROM:-0500
TZOFFSETTO:-0600
TZNAME:CST
DTSTART:20231105T070000
END:STANDARD
BEGIN:DAYLIGHT
TZOFFSETFROM:-0600
TZOFFSETTO:-0500
TZNAME:CDT
DTSTART:20240310T080000
END:DAYLIGHT
BEGIN:STANDARD
TZOFFSETFROM:-0500
TZOFFSETTO:-0600
TZNAME:CST
DTSTART:20241103T070000
END:STANDARD
BEGIN:DAYLIGHT
TZOFFSETFROM:-0600
TZOFFSETTO:-0500
TZNAME:CDT
DTSTART:20250309T080000
END:DAYLIGHT
BEGIN:STANDARD
TZOFFSETFROM:-0500
TZOFFSETTO:-0600
TZNAME:CST
DTSTART:20251102T070000
END:STANDARD
BEGIN:DAYLIGHT
TZOFFSETFROM:-0600
TZOFFSETTO:-0500
TZNAME:CDT
DTSTART:20260308T080000
END:DAYLIGHT
BEGIN:STANDARD
TZOFFSETFROM:-0500
TZOFFSETTO:-0600
TZNAME:CST
DTSTART:20261101T070000
END:STANDARD
END:VTIMEZONE
BEGIN:VEVENT
DTSTART;TZID=UTC:20190211T190000
DTEND;TZID=UTC:20190211T210000
DTSTAMP:20260423T192214
CREATED:20190122T045142Z
LAST-MODIFIED:20190122T045142Z
UID:10000460-1549911600-1549918800@halletoakgallery.com
SUMMARY:Music Night at the HOG
DESCRIPTION:  \n7 – 9 PM \nKountry Klassics: Clarence New\, Cliff Chevalier\, Earl Logue\, Ray Casper \nHallet Oak Gallery\, 115 N. Main St.\, Hallettsville\, TX 77964   www.halletoakgallery.com \n361-217-7030 \n$15 Doors open at 6:30 PM. Bring own refreshments. \nShare this:\n				Share on Facebook (Opens in new window)\n				Facebook\n			\n				Share on X (Opens in new window)\n				X\n			\n				Share on LinkedIn (Opens in new window)\n				LinkedIn\n			\n				Share on Pinterest (Opens in new window)\n				Pinterest\n			More\n				Share on Reddit (Opens in new window)\n				Reddit\n			\n				Share on Tumblr (Opens in new window)\n				Tumblr\n			\n				Email a link to a friend (Opens in new window)\n				Email\n			\n				Print (Opens in new window)\n				Print
URL:https://halletoakgallery.com/event/music-night-at-the-hog/
LOCATION:Hallet Oak Gallery
CATEGORIES:Live Music
ATTACH;FMTTYPE=image/jpeg:https://halletoakgallery.com/wp-content/uploads/2019/01/web3x4_downtown_IMG_8326.jpg
ORGANIZER;CN="Hallet Oak Gallery":MAILTO:venue@halletoakgallery.com
END:VEVENT
BEGIN:VEVENT
DTSTART;TZID=UTC:20190215T110000
DTEND;TZID=UTC:20190215T130000
DTSTAMP:20260423T192214
CREATED:20190122T050203Z
LAST-MODIFIED:20190122T055207Z
UID:10000461-1550228400-1550235600@halletoakgallery.com
SUMMARY:Seniors Lunch & Music
DESCRIPTION:Friday\, February 15 \nHALLETTSVILLE: Hallet Oak Gallery Seniors Lunch & Music 11:30 – 1 PM \nOld Time Mountain Music: Carolyn Arrington\, Curtis Braeswell & Darrell Ferguson \nHallet Oak Gallery\, 115 N. Main St.\, Hallettsville\, TX 77964   www.halletoakgallery.com 361-217-7030 \nDonation only. RSVP: 361-217-7030 \nShare this:\n				Share on Facebook (Opens in new window)\n				Facebook\n			\n				Share on X (Opens in new window)\n				X\n			\n				Share on LinkedIn (Opens in new window)\n				LinkedIn\n			\n				Share on Pinterest (Opens in new window)\n				Pinterest\n			More\n				Share on Reddit (Opens in new window)\n				Reddit\n			\n				Share on Tumblr (Opens in new window)\n				Tumblr\n			\n				Email a link to a friend (Opens in new window)\n				Email\n			\n				Print (Opens in new window)\n				Print
URL:https://halletoakgallery.com/event/seniors-lunch-music/
LOCATION:Hallet Oak Gallery
CATEGORIES:Live Music,Senior Lunch & Music
ATTACH;FMTTYPE=image/jpeg:https://halletoakgallery.com/wp-content/uploads/2019/01/web5x7_carolyn_arlington_MG_3265.jpg
ORGANIZER;CN="Hallet Oak Gallery":MAILTO:venue@halletoakgallery.com
END:VEVENT
BEGIN:VEVENT
DTSTART;TZID=UTC:20190311T190000
DTEND;TZID=UTC:20190311T210000
DTSTAMP:20260423T192214
CREATED:20190122T094235Z
LAST-MODIFIED:20190122T094806Z
UID:10000468-1552330800-1552338000@halletoakgallery.com
SUMMARY:Music Night at the HOG
DESCRIPTION:  \nMonday\, March 11 \nHALLETTSVILLE: Music Night at the HOG 7 – 9 PM \nSean Orr\, Texas Fiddler \nHallet Oak Gallery\, 115 N. Main St.\, Hallettsville\, TX 77964   www.halletoakgallery.com 361-217-7030 \n$15 Doors open at 6:30 PM. Bring own refreshments. \nShare this:\n				Share on Facebook (Opens in new window)\n				Facebook\n			\n				Share on X (Opens in new window)\n				X\n			\n				Share on LinkedIn (Opens in new window)\n				LinkedIn\n			\n				Share on Pinterest (Opens in new window)\n				Pinterest\n			More\n				Share on Reddit (Opens in new window)\n				Reddit\n			\n				Share on Tumblr (Opens in new window)\n				Tumblr\n			\n				Email a link to a friend (Opens in new window)\n				Email\n			\n				Print (Opens in new window)\n				Print
URL:https://halletoakgallery.com/event/music-night-at-the-hog-2/
CATEGORIES:Live Music,Music Night at the HOG
ATTACH;FMTTYPE=image/jpeg:https://halletoakgallery.com/wp-content/uploads/2019/01/10421457_10205139370582445_1492582643634280743_n.jpg
ORGANIZER;CN="Hallet Oak Gallery":MAILTO:venue@halletoakgallery.com
END:VEVENT
BEGIN:VEVENT
DTSTART;TZID=UTC:20190503T080000
DTEND;TZID=UTC:20190503T170000
DTSTAMP:20260423T192214
CREATED:20190128T010239Z
LAST-MODIFIED:20190128T010347Z
UID:10000475-1556870400-1556902800@halletoakgallery.com
SUMMARY:Seniors Lunch & Old Time Mountain Music
DESCRIPTION:Friday\, May 3 \nHALLETTSVILLE: Hallet Oak Gallery Seniors Lunch & Music 11:30 – 1 PM \nOld Time Mountain Music: Carolyn Arrington\, Curtis Braeswell & Darrell Ferguson \nHallet Oak Gallery\, 115 N. Main St.\, Hallettsville\, TX 77964   www.halletoakgallery.com \nFree or Donation only. RSVP: 361-217-7030 \nShare this:\n				Share on Facebook (Opens in new window)\n				Facebook\n			\n				Share on X (Opens in new window)\n				X\n			\n				Share on LinkedIn (Opens in new window)\n				LinkedIn\n			\n				Share on Pinterest (Opens in new window)\n				Pinterest\n			More\n				Share on Reddit (Opens in new window)\n				Reddit\n			\n				Share on Tumblr (Opens in new window)\n				Tumblr\n			\n				Email a link to a friend (Opens in new window)\n				Email\n			\n				Print (Opens in new window)\n				Print
URL:https://halletoakgallery.com/event/seniors-lunch-old-time-mountain-music/
LOCATION:Hallet Oak Gallery
CATEGORIES:Live Music,Lunch & Learn,Senior Lunch & Music
ATTACH;FMTTYPE=image/jpeg:https://halletoakgallery.com/wp-content/uploads/2019/01/web5x7_carolyn_arlington_MG_3265.jpg
ORGANIZER;CN="Hallet Oak Gallery":MAILTO:venue@halletoakgallery.com
END:VEVENT
BEGIN:VEVENT
DTSTART;TZID=UTC:20190607T190000
DTEND;TZID=UTC:20190607T210000
DTSTAMP:20260423T192214
CREATED:20190128T014708Z
LAST-MODIFIED:20190128T014750Z
UID:10000479-1559934000-1559941200@halletoakgallery.com
SUMMARY:Live Music $15
DESCRIPTION:$15 for live music or $25 to attend two-day conference: \nFriday & Saturday\, June 7th and 8th  \nHALLETTSVILLE: Art in Architecture Partnering w/Texas Society of Architects \nBook Signing & Courthouse Tours 9 AM to 10 AM – Both days \nFriday Live Old Time Mountain Music: 7 PM to 9 PM $15 \nSaturday Speakers: noon to 3 PM. \nOliver McCrae\, Past\, Present & Future and Doug Kubicek; Courthouse Artisans \nContest Awards Presentation: 3:30 PM \nHallet Oak Gallery\, 115 N. Main St.\, Hallettsville\, TX 77964 www.halletoakgallery.com 361-217-7030 \n$25 RSVP: 361-217-7030 Walk-ins welcome\, bring own lunch. \nShare this:\n				Share on Facebook (Opens in new window)\n				Facebook\n			\n				Share on X (Opens in new window)\n				X\n			\n				Share on LinkedIn (Opens in new window)\n				LinkedIn\n			\n				Share on Pinterest (Opens in new window)\n				Pinterest\n			More\n				Share on Reddit (Opens in new window)\n				Reddit\n			\n				Share on Tumblr (Opens in new window)\n				Tumblr\n			\n				Email a link to a friend (Opens in new window)\n				Email\n			\n				Print (Opens in new window)\n				Print
URL:https://halletoakgallery.com/event/live-music-15/
CATEGORIES:Live Music
ATTACH;FMTTYPE=image/jpeg:https://halletoakgallery.com/wp-content/uploads/2019/01/webguitar_carolyn_arlington_MG_3265.jpg
END:VEVENT
BEGIN:VEVENT
DTSTART;TZID=UTC:20190619T190000
DTEND;TZID=UTC:20190619T210000
DTSTAMP:20260423T192214
CREATED:20190128T021358Z
LAST-MODIFIED:20190607T013858Z
UID:10000483-1560970800-1560978000@halletoakgallery.com
SUMMARY:Juneteenth Celebration: Moses Adams\, Gene Grant\, Earl Jones\, & Ameera York
DESCRIPTION:Wednesday\, June 19\, 2019 \nOpen House Juneteenth Celebration 7 – 9 PM \nFeaturing Four Black Artists \nMoses Adams\, Master Painter Mixed-Media Artist; Gene Grant\, Realism Oil Painter; Earl Jones\, Sculptor/Painter and Ameera York\, Gospel/Pop Recording Artist \nDinner appetizers will be served. Free and open to the public. \nExhibit ends June 29th. \nHallet Oak Gallery\, 115 N. Main St.\, Hallettsville\, TX 77964 – 361-217-7030 www.halletoakgallery.com \nAbout Gene Grant\, Realism Oil Painter\, Hallettsville\, TX: Gene Grant’s work is inspired by Boris Vallejo\, a Peruvian painter whose work has graced the covers of science fiction paperbacks. Most recently\, he has been influenced by painter\, Michael Windberg. Gene Grant enjoys and challenges himself in capturing facial features\, especially the eyes. He is available for commissioned works. Gene’s art elevates awareness of the Black community’s past and present. His new work encourages young people to follow a path. “This can be done”\, Gene says\, “By being more visible. Black people need to be seen out in the open doing great things within their community. Many have all along through the ages\, perhaps not so visible.” He shares the beauty of being born black in his artworks. \nAbout Earl Jones\, Wood Sculptor/Painter\, Galveston\, TX: Earl Jones has a heart-felt connection with art and has an ability to sculpt\, draw\, and paint to fulfill the imagination of his clients. Earl has a Fine Arts degree from Texas Southern University. His thumbprint is to share with the world\, a visual masterpiece that brings out inner joy and peace. He hopes is to stimulate each onlooker to write his or her own story and elicit his or her own interpretation. Earl Jones carvings can be seen throughout Texas\, including a tribute to Cadets at Texas A & M University (Marine Science) in Galveston. An art virtuoso\, Earl studied and was influenced by legendary fine artists; among them was famed artist John Biggers and Carroll Simms. \nAbout Moses Adams\, Jr.\, Master Painter and Mixed-Media Artist\, Houston\, TX: Moses Adams Jr. was born in Hallettsville and attended Texas Southern University for his Art Education degree. He served in the U.S. Army and taught art. He is currently devoting his time to create a personal retrospect of rural life during segregation. “He enjoys painting scenes from Texas that disappeared long ago.” recalls\, Harley Fisk\, Operations Manager at Hallet Oak Gallery. Harley says “Moses’ has a distinct style. He experienced segregation and is now able to paint those memories. The youths ahead\, will only hear stories. Moses art is irreplaceable.” An art collector\, Doris Zumwalt explains\, “It’s not just a scene\, it’s the love Adams has for the people he’s painting and that appeals to me. “. \nAbout Ameera York\, Gospel Pop Recording Artist\, Hallettsville\, TX: \nAmeera York\, grew up in Hallettsville singing in churches. Her gospel music emits pop and urban overtones and she now ministers to the world conveying the love of Christ. Growing up with her mother always preaching Jesus and leading youth conferences gave Ameera a strong foundational background. Ameera has been singing the majority of her life\, but began ‘rapping’ on her step-father’s recordings with her three brothers. Her commitment is first to the Lord and her heart is to simply be a vessel for God’s use – to heal\, bring joy and help others see their purpose in the Lord’s plan. \n The Hallet Oak Gallery is hosting a reception and Juneteenth Celebration featuring four black artists titled: “Retrospect of Freedom” and will be held on Wednesday\, June 19\, 2019\, from 7:00 PM till 9 PM. The Gallery invites everyone to join in celebrating Black History and honoring these Hallettsville natives.   The Hallet Oak Gallery\, a 501 c 3 non-profit fine art\, performance and learning center\, is located at 115 N. Main St\, Hallettsville\, TX\, 77964. For more information\, visit www.halletoakgallery.com for calendar-of-events. \n  \n  \nShare this:\n				Share on Facebook (Opens in new window)\n				Facebook\n			\n				Share on X (Opens in new window)\n				X\n			\n				Share on LinkedIn (Opens in new window)\n				LinkedIn\n			\n				Share on Pinterest (Opens in new window)\n				Pinterest\n			More\n				Share on Reddit (Opens in new window)\n				Reddit\n			\n				Share on Tumblr (Opens in new window)\n				Tumblr\n			\n				Email a link to a friend (Opens in new window)\n				Email\n			\n				Print (Opens in new window)\n				Print
URL:https://halletoakgallery.com/event/juneteenth-celebration-moses-adams-gene-grant-earl-jones-ameera-york/
LOCATION:Hallet Oak Gallery
CATEGORIES:Annual Event - Free,art,Art Exhibit & Reception,Live Music
ATTACH;FMTTYPE=image/jpeg:https://halletoakgallery.com/wp-content/uploads/2019/01/4x4web_gene_grant_MG_3604-1.jpg
ORGANIZER;CN="Hallet Oak Gallery":MAILTO:venue@halletoakgallery.com
END:VEVENT
BEGIN:VEVENT
DTSTART;TZID=UTC:20191207T110000
DTEND;TZID=UTC:20191207T170000
DTSTAMP:20260423T192214
CREATED:20190128T033411Z
LAST-MODIFIED:20191031T234902Z
UID:10000498-1575716400-1575738000@halletoakgallery.com
SUMMARY:Christkindlmarkt: Christmas Market & The TubaMeisters Live Music
DESCRIPTION:  \nSaturday\, December 7 \nHALLETTSVILLE: Christkindlmarkt\, Downtown Hallettsville 11 – 5 PM \nLive Music: “The TubaMeisters“ 1 – 5 PM \nGinger Bread House will be open. Christmas Market. \nHallet Oak Gallery\, 115 N. Main St.\, Hallettsville\, TX 77964 www.halletoakgallery.com 361-217-7030 \nFree & open to public. \nShare this:\n				Share on Facebook (Opens in new window)\n				Facebook\n			\n				Share on X (Opens in new window)\n				X\n			\n				Share on LinkedIn (Opens in new window)\n				LinkedIn\n			\n				Share on Pinterest (Opens in new window)\n				Pinterest\n			More\n				Share on Reddit (Opens in new window)\n				Reddit\n			\n				Share on Tumblr (Opens in new window)\n				Tumblr\n			\n				Email a link to a friend (Opens in new window)\n				Email\n			\n				Print (Opens in new window)\n				Print
URL:https://halletoakgallery.com/event/christkindlmarkt-christmas-market-the-tubameisters-live-music/
LOCATION:Hallet Oak Gallery
CATEGORIES:art,Christkindlmarkt,Live Music
ATTACH;FMTTYPE=image/jpeg:https://halletoakgallery.com/wp-content/uploads/2019/01/web5x7_the_tubameisters_MG_6002-1.jpg
ORGANIZER;CN="Hallet Oak Gallery":MAILTO:venue@halletoakgallery.com
END:VEVENT
BEGIN:VEVENT
DTSTART;TZID=UTC:20191214T110000
DTEND;TZID=UTC:20191214T210000
DTSTAMP:20260423T192214
CREATED:20190128T033911Z
LAST-MODIFIED:20191123T054532Z
UID:10000497-1576321200-1576357200@halletoakgallery.com
SUMMARY:Christkindlmarkt: Christmas Market with Ruth Rouse\, Thadious and Denise Drozd Live Music; Piano
DESCRIPTION:Saturday\, December 14 \nHALLETTSVILLE: Christkindlmarkt\, Downtown Hallettsville 11 – 9 PM \nGinger Bread House will be open. Christmas Market. \nChristina Benedict\, Piano 1 PM – 5 PM Art Tree Awards 3 PM \nTradional Czech Carols with performers: Ruth Rouse\, Thadious Polasek\, Denise Drozd    6 – 8 PM \nHallet Oak Gallery\, 115 N. Main St.\, Hallettsville\, TX 77964 www.halletoakgallery.com 361-217-7030 \nFree & open to public. \nShare this:\n				Share on Facebook (Opens in new window)\n				Facebook\n			\n				Share on X (Opens in new window)\n				X\n			\n				Share on LinkedIn (Opens in new window)\n				LinkedIn\n			\n				Share on Pinterest (Opens in new window)\n				Pinterest\n			More\n				Share on Reddit (Opens in new window)\n				Reddit\n			\n				Share on Tumblr (Opens in new window)\n				Tumblr\n			\n				Email a link to a friend (Opens in new window)\n				Email\n			\n				Print (Opens in new window)\n				Print
URL:https://halletoakgallery.com/event/christkindlmarkt-christmas-market-withruth-rouse-and-denise-drozd-live-music-piano/
LOCATION:Hallet Oak Gallery
CATEGORIES:Christkindlmarkt,Live Music
ATTACH;FMTTYPE=image/jpeg:https://halletoakgallery.com/wp-content/uploads/2016/12/ruth_rouse_denise_drozd_4x5sm_7600_1.jpg
ORGANIZER;CN="Hallet Oak Gallery":MAILTO:venue@halletoakgallery.com
END:VEVENT
BEGIN:VEVENT
DTSTART;TZID=America/Chicago:20200221T113000
DTEND;TZID=America/Chicago:20200221T130000
DTSTAMP:20260423T192214
CREATED:20200119T151849Z
LAST-MODIFIED:20200119T151849Z
UID:10000542-1582284600-1582290000@halletoakgallery.com
SUMMARY:Free for Seniors:  Lunch & Music 11:30 – 1 PM
DESCRIPTION:Friday\, February 21 \nHALLETTSVILLE: Hallet Oak Gallery Seniors Lunch & Music 11:30 – 1 PM \nOld time mountain music with Carolyn Arrington. \nHallet Oak Gallery\, 115 N. Main St.\, Hallettsville\, TX 77964   www.halletoakgallery.com \nRSVP for free senior lunch 361-217-7030. Donations appreciated. \nWalk-ins welcome\, bring own lunch. \nShare this:\n				Share on Facebook (Opens in new window)\n				Facebook\n			\n				Share on X (Opens in new window)\n				X\n			\n				Share on LinkedIn (Opens in new window)\n				LinkedIn\n			\n				Share on Pinterest (Opens in new window)\n				Pinterest\n			More\n				Share on Reddit (Opens in new window)\n				Reddit\n			\n				Share on Tumblr (Opens in new window)\n				Tumblr\n			\n				Email a link to a friend (Opens in new window)\n				Email\n			\n				Print (Opens in new window)\n				Print
URL:https://halletoakgallery.com/event/free-for-seniors-lunch-music-1130-1-pm/
LOCATION:Hallet Oak Gallery
CATEGORIES:Live Music,Senior Lunch & Music
ATTACH;FMTTYPE=image/jpeg:https://halletoakgallery.com/wp-content/uploads/2020/01/5x7_hallet_oak_gallery_IMG_6729.jpg
ORGANIZER;CN="Hallet Oak Gallery":MAILTO:venue@halletoakgallery.com
END:VEVENT
BEGIN:VEVENT
DTSTART;TZID=America/Chicago:20200319T110000
DTEND;TZID=America/Chicago:20200319T180000
DTSTAMP:20260423T192214
CREATED:20200120T034550Z
LAST-MODIFIED:20200120T034550Z
UID:10000320-1584615600-1584640800@halletoakgallery.com
SUMMARY:First Day of Spring Chalk Art - Live Music & Student Artworks
DESCRIPTION:Thursday\, March 19    \nHALLETTSVILLE: First Day of Spring Chalk Art featuring Local Schools Artworks \nOpen 11:00 AM – 6 PM \nThe Memorial VFW Auxiliary #6382 Young American Creative Patriotic Art entries and the Houston Livestock & Rodeo Art entries by Hallettsville High School will be on display. Western Art from Grades 2nd – 6 th Moulton ISD will be on display. Exhibit ends March 31st. Local artist and instructor Michael Windberg will be judging these school exhibits for Hallet Oak Gallery recognition awards for first\, second\, third and honorable mention. \nDoors open at 11 AM. Live outdoor music begins 4 PM – 6 PM. Space tunnel will be open. Pets welcome. \nHallet Oak Gallery\, 115 N. Main St.\, Hallettsville\, TX 77964 www.halletoakgallery.com 361-217-7030 \nFree \n  \nShare this:\n				Share on Facebook (Opens in new window)\n				Facebook\n			\n				Share on X (Opens in new window)\n				X\n			\n				Share on LinkedIn (Opens in new window)\n				LinkedIn\n			\n				Share on Pinterest (Opens in new window)\n				Pinterest\n			More\n				Share on Reddit (Opens in new window)\n				Reddit\n			\n				Share on Tumblr (Opens in new window)\n				Tumblr\n			\n				Email a link to a friend (Opens in new window)\n				Email\n			\n				Print (Opens in new window)\n				Print
URL:https://halletoakgallery.com/event/first-day-of-spring-chalk-art-live-music-student-artworks/
LOCATION:Hallet Oak Gallery
CATEGORIES:Annual Event - Free,Chalk Art,Live Music
ATTACH;FMTTYPE=image/jpeg:https://halletoakgallery.com/wp-content/uploads/2020/01/web__spring_IMG_7450.jpg
ORGANIZER;CN="Hallet Oak Gallery":MAILTO:venue@halletoakgallery.com
END:VEVENT
BEGIN:VEVENT
DTSTART;TZID=America/Chicago:20200501T113000
DTEND;TZID=America/Chicago:20200501T130000
DTSTAMP:20260423T192214
CREATED:20200123T140716Z
LAST-MODIFIED:20200123T140716Z
UID:10000551-1588332600-1588338000@halletoakgallery.com
SUMMARY:Seniors Lunch & Music 11:30 AM – 1 PM
DESCRIPTION:Friday\, May 1 \nHALLETTSVILLE: Hallet Oak Gallery Seniors Lunch & Music 11:30 AM – 1 PM \nOld time mountain music with Carolyn Arrington \nHallet Oak Gallery\, 115 N. Main St.\, Hallettsville\, TX 77964   www.halletoakgallery.com \nRSVP for free senior lunch 361-217-7030. Donations appreciated. \nWalk-ins welcome\, bring own lunch. \nShare this:\n				Share on Facebook (Opens in new window)\n				Facebook\n			\n				Share on X (Opens in new window)\n				X\n			\n				Share on LinkedIn (Opens in new window)\n				LinkedIn\n			\n				Share on Pinterest (Opens in new window)\n				Pinterest\n			More\n				Share on Reddit (Opens in new window)\n				Reddit\n			\n				Share on Tumblr (Opens in new window)\n				Tumblr\n			\n				Email a link to a friend (Opens in new window)\n				Email\n			\n				Print (Opens in new window)\n				Print
URL:https://halletoakgallery.com/event/seniors-lunch-music-1130-am-1-pm/
LOCATION:Hallet Oak Gallery
CATEGORIES:Live Music,Lunch & Learn,Senior Lunch & Music
ATTACH;FMTTYPE=image/jpeg:https://halletoakgallery.com/wp-content/uploads/2020/01/5x7_hallet_oak_gallery_IMG_6729.jpg
END:VEVENT
BEGIN:VEVENT
DTSTART;TZID=America/Chicago:20230320T160000
DTEND;TZID=America/Chicago:20230320T190000
DTSTAMP:20260423T192214
CREATED:20230101T203752Z
LAST-MODIFIED:20230221T225924Z
UID:10000435-1679328000-1679338800@halletoakgallery.com
SUMMARY:Western Art Show
DESCRIPTION:  \nHallet Oak Gallery’s First Day of Spring Celebration –  Downtown Hallettsville \n2023 Western Art Student Exhibit March 20 – April 22\, 2023 \nYou are invited to a special open house reception! \nWhen: Monday\, March 20\, 2023 \n4:00 PM— 7 PM \nOn view will be the art works from Moulton ISD and Hallettsville High School  \n5:00 PM -Peoples State Bank Student Recognition Awards \nOutdoor Chalk Art \nPets are welcomed! \nFree and open to public. Membership is not required. \nHallet Oak Gallery\, 115 N. Main St.\, Hallettsville\, TX 77964 \nSee www.halletoakgallery.com  or call 361-217-7030 for details! \n  \nShare this:\n				Share on Facebook (Opens in new window)\n				Facebook\n			\n				Share on X (Opens in new window)\n				X\n			\n				Share on LinkedIn (Opens in new window)\n				LinkedIn\n			\n				Share on Pinterest (Opens in new window)\n				Pinterest\n			More\n				Share on Reddit (Opens in new window)\n				Reddit\n			\n				Share on Tumblr (Opens in new window)\n				Tumblr\n			\n				Email a link to a friend (Opens in new window)\n				Email\n			\n				Print (Opens in new window)\n				Print
URL:https://halletoakgallery.com/event/hallet-oak-gallerys-first-day-of-spring-celebration-2/
LOCATION:Hallet Oak Gallery
CATEGORIES:art,Art Center with Exhibit,Art Contest,Art Exhibit & Reception,Chalk Art,Live Music
ATTACH;FMTTYPE=image/jpeg:https://halletoakgallery.com/wp-content/uploads/2023/01/web_best_of_show_5x7_ava_olivarez_moulton_isd_IIMG_7037.jpg
ORGANIZER;CN="Hallet Oak Gallery":MAILTO:venue@halletoakgallery.com
END:VEVENT
BEGIN:VEVENT
DTSTART;TZID=America/Chicago:20250329T160000
DTEND;TZID=America/Chicago:20250329T200000
DTSTAMP:20260423T192214
CREATED:20250110T035028Z
LAST-MODIFIED:20250122T222522Z
UID:10004216-1743264000-1743278400@halletoakgallery.com
SUMMARY:Last Saturday Night Live\, 4 PM to 8 PM. Free. Student Western Art Exhibit on display.
DESCRIPTION:  \n \nSee new exhibits and enjoy live music scavenger hunts and art free activities! Admission is Free. \nHallet Oak Gallery\, Historic Kahn and Stanzel Bldg.\, 115 N. Main St.\, Hallettsville\, TX 77964 \nShare this:\n				Share on Facebook (Opens in new window)\n				Facebook\n			\n				Share on X (Opens in new window)\n				X\n			\n				Share on LinkedIn (Opens in new window)\n				LinkedIn\n			\n				Share on Pinterest (Opens in new window)\n				Pinterest\n			More\n				Share on Reddit (Opens in new window)\n				Reddit\n			\n				Share on Tumblr (Opens in new window)\n				Tumblr\n			\n				Email a link to a friend (Opens in new window)\n				Email\n			\n				Print (Opens in new window)\n				Print
URL:https://halletoakgallery.com/event/last-saturday-night-live-4-pm-to-8-pm-free-student-western-art-exhibit-on-display/
CATEGORIES:Live Music
ATTACH;FMTTYPE=image/png:https://halletoakgallery.com/wp-content/uploads/2025/01/Screenshot-2025-01-09-at-9.53.28 PM.png
END:VEVENT
BEGIN:VEVENT
DTSTART;TZID=America/Chicago:20251129T140000
DTEND;TZID=America/Chicago:20251129T160000
DTSTAMP:20260423T192214
CREATED:20250826T145410Z
LAST-MODIFIED:20250826T145536Z
UID:10004353-1764424800-1764432000@halletoakgallery.com
SUMMARY:Hallettsville Cultural Events Center Live Musical - The Tubameisters
DESCRIPTION:Hallettsville Cultural Events Center Live Musical Performance Featuring The Tubameisters Saturday\, November 29\, 2025\, 2:00 PM to 4:00 PM  Doors will be open at noon to 6 PM. For more information call Hallettsville Cultural Events Center by leaving message at 361-272-3660. \nShare this:\n				Share on Facebook (Opens in new window)\n				Facebook\n			\n				Share on X (Opens in new window)\n				X\n			\n				Share on LinkedIn (Opens in new window)\n				LinkedIn\n			\n				Share on Pinterest (Opens in new window)\n				Pinterest\n			More\n				Share on Reddit (Opens in new window)\n				Reddit\n			\n				Share on Tumblr (Opens in new window)\n				Tumblr\n			\n				Email a link to a friend (Opens in new window)\n				Email\n			\n				Print (Opens in new window)\n				Print
URL:https://halletoakgallery.com/event/hallettsville-cultural-events-center-live-musical-the-tubameisters/
LOCATION:Hallet Oak Gallery
CATEGORIES:Christkindlmarkt,Live Music,Live Musical Performance
ATTACH;FMTTYPE=image/jpeg:https://halletoakgallery.com/wp-content/uploads/2016/12/smtubameisters_MG_6034.jpg
END:VEVENT
END:VCALENDAR