BEGIN:VCALENDAR
VERSION:2.0
PRODID:-//Hallet Oak Foundation Inc - ECPv6.15.20//NONSGML v1.0//EN
CALSCALE:GREGORIAN
METHOD:PUBLISH
X-WR-CALNAME:Hallet Oak Foundation Inc
X-ORIGINAL-URL:https://halletoakgallery.com
X-WR-CALDESC:Events for Hallet Oak Foundation Inc
REFRESH-INTERVAL;VALUE=DURATION:PT1H
X-Robots-Tag:noindex
X-PUBLISHED-TTL:PT1H
BEGIN:VTIMEZONE
TZID:America/Chicago
BEGIN:DAYLIGHT
TZOFFSETFROM:-0600
TZOFFSETTO:-0500
TZNAME:CDT
DTSTART:20220313T080000
END:DAYLIGHT
BEGIN:STANDARD
TZOFFSETFROM:-0500
TZOFFSETTO:-0600
TZNAME:CST
DTSTART:20221106T070000
END:STANDARD
BEGIN:DAYLIGHT
TZOFFSETFROM:-0600
TZOFFSETTO:-0500
TZNAME:CDT
DTSTART:20230312T080000
END:DAYLIGHT
BEGIN:STANDARD
TZOFFSETFROM:-0500
TZOFFSETTO:-0600
TZNAME:CST
DTSTART:20231105T070000
END:STANDARD
BEGIN:DAYLIGHT
TZOFFSETFROM:-0600
TZOFFSETTO:-0500
TZNAME:CDT
DTSTART:20240310T080000
END:DAYLIGHT
BEGIN:STANDARD
TZOFFSETFROM:-0500
TZOFFSETTO:-0600
TZNAME:CST
DTSTART:20241103T070000
END:STANDARD
BEGIN:DAYLIGHT
TZOFFSETFROM:-0600
TZOFFSETTO:-0500
TZNAME:CDT
DTSTART:20250309T080000
END:DAYLIGHT
BEGIN:STANDARD
TZOFFSETFROM:-0500
TZOFFSETTO:-0600
TZNAME:CST
DTSTART:20251102T070000
END:STANDARD
END:VTIMEZONE
BEGIN:VEVENT
DTSTART;TZID=America/Chicago:20240628T080000
DTEND;TZID=America/Chicago:20240628T170000
DTSTAMP:20260423T210131
CREATED:20240218T224014Z
LAST-MODIFIED:20240218T225435Z
UID:10001896-1719561600-1719594000@halletoakgallery.com
SUMMARY:Darlene Immekus\, Leather Tooling for Adults & Over 9
DESCRIPTION:Thursday\, June 27 and Friday\, June 28\, 2024 \n9 AM – 12 PM $45 RSVP: Leave voice  message 361-217-7030. \nLeather Tooling for Adults and Over age 9. \nArt Teacher\, Darlene Immekus \nShare this:\n				Share on Facebook (Opens in new window)\n				Facebook\n			\n				Share on X (Opens in new window)\n				X\n			\n				Share on LinkedIn (Opens in new window)\n				LinkedIn\n			\n				Share on Pinterest (Opens in new window)\n				Pinterest\n			More\n				Share on Reddit (Opens in new window)\n				Reddit\n			\n				Share on Tumblr (Opens in new window)\n				Tumblr\n			\n				Email a link to a friend (Opens in new window)\n				Email\n			\n				Print (Opens in new window)\n				Print
URL:https://halletoakgallery.com/event/darlene-immekus-leather-tooling-for-adults-over-9/2024-06-28/
LOCATION:Hallet Oak Gallery
CATEGORIES:Art Lessons,Leather tooling
ATTACH;FMTTYPE=image/jpeg:https://halletoakgallery.com/wp-content/uploads/2024/02/5x7_leather_IMG_7302.jpg
END:VEVENT
BEGIN:VEVENT
DTSTART;TZID=America/Chicago:20230602T090000
DTEND;TZID=America/Chicago:20230602T120000
DTSTAMP:20260423T210131
CREATED:20230221T230549Z
LAST-MODIFIED:20230308T012817Z
UID:10000440-1685696400-1685707200@halletoakgallery.com
SUMMARY:Darlene Immekus\, Leather Tooling for Adults & Over Age 9
DESCRIPTION:Darlene Immekus\, Leather Tooling for Adults & Over Age 9 \nMay 31st and June 1st\, 9 Am – 12 PM $45 RSVP by picking up form at Gallery or School\, for questions leave message at 361=217-7030. \n  \nShare this:\n				Share on Facebook (Opens in new window)\n				Facebook\n			\n				Share on X (Opens in new window)\n				X\n			\n				Share on LinkedIn (Opens in new window)\n				LinkedIn\n			\n				Share on Pinterest (Opens in new window)\n				Pinterest\n			More\n				Share on Reddit (Opens in new window)\n				Reddit\n			\n				Share on Tumblr (Opens in new window)\n				Tumblr\n			\n				Email a link to a friend (Opens in new window)\n				Email\n			\n				Print (Opens in new window)\n				Print
URL:https://halletoakgallery.com/event/darlene-immekus-leather-tooling-for-adults-over-age-9-2023-06-02/
LOCATION:Hallet Oak Gallery
CATEGORIES:art,Leather tooling
ATTACH;FMTTYPE=image/jpeg:https://halletoakgallery.com/wp-content/uploads/2022/01/darlene_immekus_leather_tooling_IMG_8114.jpg
ORGANIZER;CN="Hallet Oak Gallery":MAILTO:venue@halletoakgallery.com
END:VEVENT
END:VCALENDAR