BEGIN:VCALENDAR
VERSION:2.0
PRODID:-//Hallet Oak Foundation Inc - ECPv6.15.20//NONSGML v1.0//EN
CALSCALE:GREGORIAN
METHOD:PUBLISH
X-ORIGINAL-URL:https://halletoakgallery.com
X-WR-CALDESC:Events for Hallet Oak Foundation Inc
REFRESH-INTERVAL;VALUE=DURATION:PT1H
X-Robots-Tag:noindex
X-PUBLISHED-TTL:PT1H
BEGIN:VTIMEZONE
TZID:America/Chicago
BEGIN:DAYLIGHT
TZOFFSETFROM:-0600
TZOFFSETTO:-0500
TZNAME:CDT
DTSTART:20220313T080000
END:DAYLIGHT
BEGIN:STANDARD
TZOFFSETFROM:-0500
TZOFFSETTO:-0600
TZNAME:CST
DTSTART:20221106T070000
END:STANDARD
BEGIN:DAYLIGHT
TZOFFSETFROM:-0600
TZOFFSETTO:-0500
TZNAME:CDT
DTSTART:20230312T080000
END:DAYLIGHT
BEGIN:STANDARD
TZOFFSETFROM:-0500
TZOFFSETTO:-0600
TZNAME:CST
DTSTART:20231105T070000
END:STANDARD
BEGIN:DAYLIGHT
TZOFFSETFROM:-0600
TZOFFSETTO:-0500
TZNAME:CDT
DTSTART:20240310T080000
END:DAYLIGHT
BEGIN:STANDARD
TZOFFSETFROM:-0500
TZOFFSETTO:-0600
TZNAME:CST
DTSTART:20241103T070000
END:STANDARD
END:VTIMEZONE
BEGIN:VEVENT
DTSTART;TZID=America/Chicago:20230930T110000
DTEND;TZID=America/Chicago:20230930T150000
DTSTAMP:20260423T212030
CREATED:20230101T222627Z
LAST-MODIFIED:20230101T222751Z
UID:10000719-1696071600-1696086000@halletoakgallery.com
SUMMARY:Hallet Oak Gallery's Spotlight on the Arts - Kids Creating a Beehive Tunnel
DESCRIPTION:  \nSpotlight—Kids Creating a Beehive Tunnel \nSaturday\, September 30\, 2023 \n8:00 AM—3:00 PM \nComplimentary Refreshments \nFree Admission \n  \nWhile you are in town for Market Days (KC Hall) stop by the Hallet Oak Gallery on the Square.  Enjoy the 2023 Artists’ Exhibit. A special art activity for children of all ages may participate in making a Bee Hive! \n  \nSee www.halletoakgallery.com or www.hallettsville.com com for details! \nFree Admission. \n  \nShare this:\n				Share on Facebook (Opens in new window)\n				Facebook\n			\n				Share on X (Opens in new window)\n				X\n			\n				Share on LinkedIn (Opens in new window)\n				LinkedIn\n			\n				Share on Pinterest (Opens in new window)\n				Pinterest\n			More\n				Share on Reddit (Opens in new window)\n				Reddit\n			\n				Share on Tumblr (Opens in new window)\n				Tumblr\n			\n				Email a link to a friend (Opens in new window)\n				Email\n			\n				Print (Opens in new window)\n				Print
URL:https://halletoakgallery.com/event/hallet-oak-gallerys-spotlight-on-the-arts-kids-creating-a-beehive-tunnel/
LOCATION:Hallet Oak Gallery
CATEGORIES:Bee Tunnel
ATTACH;FMTTYPE=image/jpeg:https://halletoakgallery.com/wp-content/uploads/2023/01/web_bee_honorable_009_moulton_waterway_contest_20221203.jpg
ORGANIZER;CN="Hallet Oak Gallery":MAILTO:venue@halletoakgallery.com
END:VEVENT
END:VCALENDAR