BEGIN:VCALENDAR
VERSION:2.0
PRODID:-//Hallet Oak Foundation Inc - ECPv6.15.20//NONSGML v1.0//EN
CALSCALE:GREGORIAN
METHOD:PUBLISH
X-ORIGINAL-URL:https://halletoakgallery.com
X-WR-CALDESC:Events for Hallet Oak Foundation Inc
REFRESH-INTERVAL;VALUE=DURATION:PT1H
X-Robots-Tag:noindex
X-PUBLISHED-TTL:PT1H
BEGIN:VTIMEZONE
TZID:America/Chicago
BEGIN:DAYLIGHT
TZOFFSETFROM:-0600
TZOFFSETTO:-0500
TZNAME:CDT
DTSTART:20210314T080000
END:DAYLIGHT
BEGIN:STANDARD
TZOFFSETFROM:-0500
TZOFFSETTO:-0600
TZNAME:CST
DTSTART:20211107T070000
END:STANDARD
BEGIN:DAYLIGHT
TZOFFSETFROM:-0600
TZOFFSETTO:-0500
TZNAME:CDT
DTSTART:20220313T080000
END:DAYLIGHT
BEGIN:STANDARD
TZOFFSETFROM:-0500
TZOFFSETTO:-0600
TZNAME:CST
DTSTART:20221106T070000
END:STANDARD
BEGIN:DAYLIGHT
TZOFFSETFROM:-0600
TZOFFSETTO:-0500
TZNAME:CDT
DTSTART:20230312T080000
END:DAYLIGHT
BEGIN:STANDARD
TZOFFSETFROM:-0500
TZOFFSETTO:-0600
TZNAME:CST
DTSTART:20231105T070000
END:STANDARD
BEGIN:DAYLIGHT
TZOFFSETFROM:-0600
TZOFFSETTO:-0500
TZNAME:CDT
DTSTART:20240310T080000
END:DAYLIGHT
BEGIN:STANDARD
TZOFFSETFROM:-0500
TZOFFSETTO:-0600
TZNAME:CST
DTSTART:20241103T070000
END:STANDARD
BEGIN:DAYLIGHT
TZOFFSETFROM:-0600
TZOFFSETTO:-0500
TZNAME:CDT
DTSTART:20250309T080000
END:DAYLIGHT
BEGIN:STANDARD
TZOFFSETFROM:-0500
TZOFFSETTO:-0600
TZNAME:CST
DTSTART:20251102T070000
END:STANDARD
BEGIN:DAYLIGHT
TZOFFSETFROM:-0600
TZOFFSETTO:-0500
TZNAME:CDT
DTSTART:20260308T080000
END:DAYLIGHT
BEGIN:STANDARD
TZOFFSETFROM:-0500
TZOFFSETTO:-0600
TZNAME:CST
DTSTART:20261101T070000
END:STANDARD
BEGIN:DAYLIGHT
TZOFFSETFROM:-0600
TZOFFSETTO:-0500
TZNAME:CDT
DTSTART:20270314T080000
END:DAYLIGHT
BEGIN:STANDARD
TZOFFSETFROM:-0500
TZOFFSETTO:-0600
TZNAME:CST
DTSTART:20271107T070000
END:STANDARD
END:VTIMEZONE
BEGIN:VEVENT
DTSTART;TZID=America/Chicago:20221210T110000
DTEND;TZID=America/Chicago:20221210T150000
DTSTAMP:20260424T045623
CREATED:20220130T014846Z
LAST-MODIFIED:20220130T014846Z
UID:10000657-1670670000-1670684400@halletoakgallery.com
SUMMARY:Christkindlmarkt Mini Market – Original Art for Sale. Free Craft Projects. Open Piano.
DESCRIPTION:Saturday\, November 26 thru December 10 – Christkindlmarkt  \nHALLETTSVILLE: Christkindlmarkt Mini Market – art for Sale. \nA mini art market created to bring joy and to support local artists \nFree family friend art activities\, while supplies last. Sponsored by Marilyn Prazak Chovanetz. \nSaturdays 11:00 AM – 3:00 PM and Monday thru Friday Noon – 2:00 PM \nRefreshments will be served. Small gift items available. \nHallet Oak Gallery\, 115 N. Main St.\, Hallettsville\, TX 77964 \nwww.halletoakgallery.com  361-217-7030 \nFree and open to the public.   Membership not required. \nPets welcome. \nShare this:\n				Share on Facebook (Opens in new window)\n				Facebook\n			\n				Share on X (Opens in new window)\n				X\n			\n				Share on LinkedIn (Opens in new window)\n				LinkedIn\n			\n				Share on Pinterest (Opens in new window)\n				Pinterest\n			More\n				Share on Reddit (Opens in new window)\n				Reddit\n			\n				Share on Tumblr (Opens in new window)\n				Tumblr\n			\n				Email a link to a friend (Opens in new window)\n				Email\n			\n				Print (Opens in new window)\n				Print
URL:https://halletoakgallery.com/event/christkindlmarkt-mini-market-original-art-for-sale-free-craft-projects-open-piano/2022-12-10/
LOCATION:Hallet Oak Gallery
CATEGORIES:art,Art Center with Exhibit
ATTACH;FMTTYPE=image/jpeg:https://halletoakgallery.com/wp-content/uploads/2022/01/5x7_IMG_3734.jpg
END:VEVENT
BEGIN:VEVENT
DTSTART;TZID=America/Chicago:20221210T120000
DTEND;TZID=America/Chicago:20221210T150000
DTSTAMP:20260424T045623
CREATED:20220130T010523Z
LAST-MODIFIED:20220130T010523Z
UID:10000654-1670673600-1670684400@halletoakgallery.com
SUMMARY:2022 Artists Exhibit – Fall/Winter Show
DESCRIPTION:HALLETTSVILLE: 2022 Artists Exhibit – Fall/Winter Show \nOctober 15 – December 10\, 2022 \nOpening reception for artists Saturday\, Oct. 15 from 12 – 4 PM \nHallet Oak Gallery \n115 N. Main Street\, Hallettsville\, TX 77964 \nAdmission is Free \nwww.halletoakgallery.com \n  \nAbout the 2022 Artists: \nPaintings: \nMoses Adams\, Adrénus Craton\, Mary Gullette\, Toni Conner\, Lucia Mueller\, Sarah Naomi\, acrylics; Georgia Pohl\, mixed-media; Dianne Appelt\, Karen Brosch\, Gene Grant\, Debbie Halling\, JoAnn Kahanek\, Kathleen McBride\, Elizabeth Payne\, Dennis Pesek\, Phyllis Rivera\, Lois Weiss\, Michael Windberg\, oil; Larry Charles\, watercolor. \nPhotography:  \nMark Curtin\, contemporary; Mieko Mahi\, industrial\, Ken Kopacki\, Steven Pituch\, landscape; Timothy Sadler\, wildlife. \n3 Dimensional: \nBlanche & Roy Cavarretta\, gourd art; Linda Cejka\, Darlene Immekus\, jewelry; James Phillips\, wood sculpture. \nHallet Oak Gallery\, 115 N. Main St.\, Hallettsville\, TX 77964 \nOpen Hours: Monday – Friday 12 – 2 PM and Saturdays 11 – 3 PM \nFor more information visit www.halletoakgallery.com  or call 361-217-7030. \nFree and open to public. Membership is not required. \nShare this:\n				Share on Facebook (Opens in new window)\n				Facebook\n			\n				Share on X (Opens in new window)\n				X\n			\n				Share on LinkedIn (Opens in new window)\n				LinkedIn\n			\n				Share on Pinterest (Opens in new window)\n				Pinterest\n			More\n				Share on Reddit (Opens in new window)\n				Reddit\n			\n				Share on Tumblr (Opens in new window)\n				Tumblr\n			\n				Email a link to a friend (Opens in new window)\n				Email\n			\n				Print (Opens in new window)\n				Print
URL:https://halletoakgallery.com/event/2022-artists-exhibit-fall-winter-show/2022-12-10/
LOCATION:Hallet Oak Gallery
CATEGORIES:art,Art Center with Exhibit,Artist Reception - Free
ATTACH;FMTTYPE=image/jpeg:https://halletoakgallery.com/wp-content/uploads/2015/04/IMG_2350.jpg
END:VEVENT
BEGIN:VEVENT
DTSTART;TZID=America/Chicago:20230211T110000
DTEND;TZID=America/Chicago:20230211T150000
DTSTAMP:20260424T045623
CREATED:20221227T053132Z
LAST-MODIFIED:20230210T192151Z
UID:10000430-1676113200-1676127600@halletoakgallery.com
SUMMARY:Hallet Oak Gallery 2023 Artists’ New Exhibit February 11\, 2024 – August 19\, 2023 
DESCRIPTION:2023 Artists’ New Exhibit!Traditional & Contemporary ArtOn View February 11\, 2023—August 19\, 2023Hallet Oak Gallery’s New Open Hours: Thursday\, Friday\, and Saturday 11:00 AM – 3:00 PMJoin us for the Opening ReceptionFebruary 11\, 2023\, 11:00 AM—3:00 PM.Light refreshments to meet the 2023 Artists:Paintings:Dianne Appelt\, Mary Gullette\, Debbie Halling\, Dennis Pesek\, Phyllis Rivera\, Lois Weiss\, Michael Windberg\, oil; Larry Charles\, watercolor.Photography:Mieko Mahi\, industrial; Ken Kopacki\, fine art; Steven Pituch\, landscape; Timothy Sadler\, wildlife.3 Dimensional:Blanche & Roy Cavarretta\, gourd art; Linda Cejka\, jewelry; James Phillips\, wood sculpture.Hallet Oak Gallery\, 115 N. Main St.\, Hallettsville\, TX 77964For more information visit www.halletoakgallery.com or call 361-217-7030.Free and open to public. Membership is not required.\n2023 Artists’ New Exhibit! \nTraditional & Contemporary Art \nOn View February 11\, 2023—August 19\, 2023  \nYou are invited to our Opening Reception on February 11\, 2023\, 11:00 AM—3:00 PM. \nMeet the 2023 Artists! Light refreshments! \n  \nPaintings: \nDianne Appelt\, Mary Gullette\, Debbie Halling\, Dennis Pesek\, Phyllis Rivera\, Lois Weiss\, Michael Windberg\, oil; Larry Charles\, watercolor. \nPhotography:  \nMieko Mahi\, industrial; Ken Kopacki\, fine art; Steven Pituch\, landscape; Timothy Sadler\, wildlife. \n3 Dimensional: \nBlanche & Roy Cavarretta\, gourd art; Linda Cejka\, jewelry; James Phillips\, wood sculpture. \n  \nHallet Oak Gallery\, 115 N. Main St.\, Hallettsville\, TX 77964 \nFor more information visit www.halletoakgallery.com  or call 361-217-7030. \nFree and open to public. Membership is not required. \nShare this:\n				Share on Facebook (Opens in new window)\n				Facebook\n			\n				Share on X (Opens in new window)\n				X\n			\n				Share on LinkedIn (Opens in new window)\n				LinkedIn\n			\n				Share on Pinterest (Opens in new window)\n				Pinterest\n			More\n				Share on Reddit (Opens in new window)\n				Reddit\n			\n				Share on Tumblr (Opens in new window)\n				Tumblr\n			\n				Email a link to a friend (Opens in new window)\n				Email\n			\n				Print (Opens in new window)\n				Print
URL:https://halletoakgallery.com/event/hallet-oak-gallery-2023-artists-new-exhibit-february-11-august-19-2023-reception-is-february-11th-11-to-3-pm/
LOCATION:Hallet Oak Gallery
CATEGORIES:art,Art Center with Exhibit
ATTACH;FMTTYPE=image/jpeg:https://halletoakgallery.com/wp-content/uploads/2022/12/web_opening_art_show_MG_8444.jpg
ORGANIZER;CN="Hallet Oak Gallery":MAILTO:venue@halletoakgallery.com
END:VEVENT
BEGIN:VEVENT
DTSTART;TZID=America/Chicago:20230320T160000
DTEND;TZID=America/Chicago:20230320T190000
DTSTAMP:20260424T045623
CREATED:20230101T203752Z
LAST-MODIFIED:20230221T225924Z
UID:10000435-1679328000-1679338800@halletoakgallery.com
SUMMARY:Western Art Show
DESCRIPTION:  \nHallet Oak Gallery’s First Day of Spring Celebration –  Downtown Hallettsville \n2023 Western Art Student Exhibit March 20 – April 22\, 2023 \nYou are invited to a special open house reception! \nWhen: Monday\, March 20\, 2023 \n4:00 PM— 7 PM \nOn view will be the art works from Moulton ISD and Hallettsville High School  \n5:00 PM -Peoples State Bank Student Recognition Awards \nOutdoor Chalk Art \nPets are welcomed! \nFree and open to public. Membership is not required. \nHallet Oak Gallery\, 115 N. Main St.\, Hallettsville\, TX 77964 \nSee www.halletoakgallery.com  or call 361-217-7030 for details! \n  \nShare this:\n				Share on Facebook (Opens in new window)\n				Facebook\n			\n				Share on X (Opens in new window)\n				X\n			\n				Share on LinkedIn (Opens in new window)\n				LinkedIn\n			\n				Share on Pinterest (Opens in new window)\n				Pinterest\n			More\n				Share on Reddit (Opens in new window)\n				Reddit\n			\n				Share on Tumblr (Opens in new window)\n				Tumblr\n			\n				Email a link to a friend (Opens in new window)\n				Email\n			\n				Print (Opens in new window)\n				Print
URL:https://halletoakgallery.com/event/hallet-oak-gallerys-first-day-of-spring-celebration-2/
LOCATION:Hallet Oak Gallery
CATEGORIES:art,Art Center with Exhibit,Art Contest,Art Exhibit & Reception,Chalk Art,Live Music
ATTACH;FMTTYPE=image/jpeg:https://halletoakgallery.com/wp-content/uploads/2023/01/web_best_of_show_5x7_ava_olivarez_moulton_isd_IIMG_7037.jpg
ORGANIZER;CN="Hallet Oak Gallery":MAILTO:venue@halletoakgallery.com
END:VEVENT
BEGIN:VEVENT
DTSTART;TZID=America/Chicago:20230325T110000
DTEND;TZID=America/Chicago:20230325T150000
DTSTAMP:20260424T045623
CREATED:20221231T161926Z
LAST-MODIFIED:20230101T202247Z
UID:10000434-1679742000-1679756400@halletoakgallery.com
SUMMARY:Hallet Oak Gallery’s Spotlight on the Arts: 3-Dimensional Art – See exhibit while in town for South Texas Polk & Sausage Fest!
DESCRIPTION:  \nHallet Oak Gallery’s Spotlight on the Arts: 3-Dimensional Art \nFriday and Saturday\, March 24 & 25\, 2023 \n11:00 AM—3:00 PM \nComplimentary refreshments \nFree Admission \n  \nDuring  South Texas Polka & Sausage Fest weekend (KC Hall)—visit Hallet Oak Gallery featuring a large variety of beautiful art for the 2023 Artist’s Exhibit.  See a special display of 3-dimensional artworks by Blanche & Roy Cavarretta\, gourd art; Linda Cejka\, jewelry; James Phillips\, wood sculpture. \n  \n  \nHallet Oak Gallery\, Historic 1890 Kahn & Stanzel Bldg.\, 115 N. Main St.\, Hallettsville\, TX 77964 \nVisit www.halletoakgallery.com or www.hallettsville.com com for details! \nFree and open to the public. Membership is not required. \n  \n  \n  \nShare this:\n				Share on Facebook (Opens in new window)\n				Facebook\n			\n				Share on X (Opens in new window)\n				X\n			\n				Share on LinkedIn (Opens in new window)\n				LinkedIn\n			\n				Share on Pinterest (Opens in new window)\n				Pinterest\n			More\n				Share on Reddit (Opens in new window)\n				Reddit\n			\n				Share on Tumblr (Opens in new window)\n				Tumblr\n			\n				Email a link to a friend (Opens in new window)\n				Email\n			\n				Print (Opens in new window)\n				Print
URL:https://halletoakgallery.com/event/hallet-oak-gallerys-spotlight-on-the-arts-3-dimensional-art-see-exhibit-while-in-town-for-south-texas-polk-sausage-fest/2023-03-25/
LOCATION:Hallet Oak Gallery
CATEGORIES:art,Art Exhibit & Reception
ATTACH;FMTTYPE=image/jpeg:https://halletoakgallery.com/wp-content/uploads/2022/12/web_Blanche_Cavarretta_IMG_4269.jpg
ORGANIZER;CN="Hallet Oak Gallery":MAILTO:venue@halletoakgallery.com
END:VEVENT
BEGIN:VEVENT
DTSTART;TZID=America/Chicago:20230602T090000
DTEND;TZID=America/Chicago:20230602T120000
DTSTAMP:20260424T045623
CREATED:20230221T230549Z
LAST-MODIFIED:20230308T012817Z
UID:10000440-1685696400-1685707200@halletoakgallery.com
SUMMARY:Darlene Immekus\, Leather Tooling for Adults & Over Age 9
DESCRIPTION:Darlene Immekus\, Leather Tooling for Adults & Over Age 9 \nMay 31st and June 1st\, 9 Am – 12 PM $45 RSVP by picking up form at Gallery or School\, for questions leave message at 361=217-7030. \n  \nShare this:\n				Share on Facebook (Opens in new window)\n				Facebook\n			\n				Share on X (Opens in new window)\n				X\n			\n				Share on LinkedIn (Opens in new window)\n				LinkedIn\n			\n				Share on Pinterest (Opens in new window)\n				Pinterest\n			More\n				Share on Reddit (Opens in new window)\n				Reddit\n			\n				Share on Tumblr (Opens in new window)\n				Tumblr\n			\n				Email a link to a friend (Opens in new window)\n				Email\n			\n				Print (Opens in new window)\n				Print
URL:https://halletoakgallery.com/event/darlene-immekus-leather-tooling-for-adults-over-age-9-2023-06-02/
LOCATION:Hallet Oak Gallery
CATEGORIES:art,Leather tooling
ATTACH;FMTTYPE=image/jpeg:https://halletoakgallery.com/wp-content/uploads/2022/01/darlene_immekus_leather_tooling_IMG_8114.jpg
ORGANIZER;CN="Hallet Oak Gallery":MAILTO:venue@halletoakgallery.com
END:VEVENT
BEGIN:VEVENT
DTSTART;TZID=America/Chicago:20230609T090000
DTEND;TZID=America/Chicago:20230609T120000
DTSTAMP:20260424T045623
CREATED:20230221T231248Z
LAST-MODIFIED:20230308T013600Z
UID:10000445-1686301200-1686312000@halletoakgallery.com
SUMMARY:Georgia Pohl\, Art Camp Week One for Ages 7 to 12
DESCRIPTION:$85.00 per week. RSVP by picking up form at Gallery or School\, for more information\, leave message 361-217-7030. \nShare this:\n				Share on Facebook (Opens in new window)\n				Facebook\n			\n				Share on X (Opens in new window)\n				X\n			\n				Share on LinkedIn (Opens in new window)\n				LinkedIn\n			\n				Share on Pinterest (Opens in new window)\n				Pinterest\n			More\n				Share on Reddit (Opens in new window)\n				Reddit\n			\n				Share on Tumblr (Opens in new window)\n				Tumblr\n			\n				Email a link to a friend (Opens in new window)\n				Email\n			\n				Print (Opens in new window)\n				Print
URL:https://halletoakgallery.com/event/georgia-pohl-art-camp-i-for-ages-7-to-12/2023-06-09/
CATEGORIES:art,Art Lessons
ATTACH;FMTTYPE=image/jpeg:https://halletoakgallery.com/wp-content/uploads/2018/07/MG_2871.jpg
END:VEVENT
BEGIN:VEVENT
DTSTART;TZID=America/Chicago:20230805T110000
DTEND;TZID=America/Chicago:20230805T150000
DTSTAMP:20260424T045623
CREATED:20230101T214418Z
LAST-MODIFIED:20230101T214418Z
UID:10000714-1691233200-1691247600@halletoakgallery.com
SUMMARY:Oil Painting Demo by Michael Windberg 
DESCRIPTION:Hallet Oak Gallery \nOil Painting Demo by Michael Windberg  \n  \nSaturday\, August 5\, 2023 \n11:00 AM—3:00 PM \n  \nWindberg Painting Supplies on Sale \n  \nRefreshments will be served. \nFree Admission \n  \nHallet Oak Gallery\, 115 N. Main St.\, Hallettsville\, TX 77964 \nwww.halletoakgallery.com  361-217-7030 \n  \nShare this:\n				Share on Facebook (Opens in new window)\n				Facebook\n			\n				Share on X (Opens in new window)\n				X\n			\n				Share on LinkedIn (Opens in new window)\n				LinkedIn\n			\n				Share on Pinterest (Opens in new window)\n				Pinterest\n			More\n				Share on Reddit (Opens in new window)\n				Reddit\n			\n				Share on Tumblr (Opens in new window)\n				Tumblr\n			\n				Email a link to a friend (Opens in new window)\n				Email\n			\n				Print (Opens in new window)\n				Print
URL:https://halletoakgallery.com/event/oil-painting-demo-by-michael-windberg/
LOCATION:Hallet Oak Gallery
CATEGORIES:art,Art Center with Exhibit,Art Exhibit & Reception,Art Lessons,Painting Class
ATTACH;FMTTYPE=image/jpeg:https://halletoakgallery.com/wp-content/uploads/2023/01/web_michael_windberg_demo_IMG_0362.jpg
ORGANIZER;CN="Hallet Oak Gallery":MAILTO:venue@halletoakgallery.com
END:VEVENT
BEGIN:VEVENT
DTSTART;TZID=America/Chicago:20240803T120000
DTEND;TZID=America/Chicago:20240803T150000
DTSTAMP:20260424T045623
CREATED:20240712T193828Z
LAST-MODIFIED:20240712T193829Z
UID:10003817-1722686400-1722697200@halletoakgallery.com
SUMMARY:Michael Windberg Demo
DESCRIPTION:Open to the Public – See an Oil Painting Being Created on a Blank Canvas! \nThe Public is invited to See a Michael Windberg Demo at Hallet Oak Gallery \nSaturday\, August 3\, 2024 \n12 PM  —3:00 PM \nFree Admission \nDemo Event Schedule: \n12:00 PM – 12:15 PM Free Refreshments & Painting Supplies on Sale \n12:15 PM Michael Windberg Demo Begins \n3:00 PM The Demo Painting Will Be Auctioned \n3:30 PM Doors Close \n  \n  \nSee www.halletoakgallery.com for more information. \n  \n  \nHallet Oak Gallery\, 115 N. Main St.\, Hallettsville\, TX 77964.  Open 12-3 Thurs-Sat. \nShare this:\n				Share on Facebook (Opens in new window)\n				Facebook\n			\n				Share on X (Opens in new window)\n				X\n			\n				Share on LinkedIn (Opens in new window)\n				LinkedIn\n			\n				Share on Pinterest (Opens in new window)\n				Pinterest\n			More\n				Share on Reddit (Opens in new window)\n				Reddit\n			\n				Share on Tumblr (Opens in new window)\n				Tumblr\n			\n				Email a link to a friend (Opens in new window)\n				Email\n			\n				Print (Opens in new window)\n				Print
URL:https://halletoakgallery.com/event/michael-windberg-demo-2/
LOCATION:Hallet Oak Gallery
CATEGORIES:art,Art Exhibit & Reception,Oil Painting
ATTACH;FMTTYPE=image/png:https://halletoakgallery.com/wp-content/uploads/2024/07/2024_windberg_demo.png
ORGANIZER;CN="Hallet Oak Gallery":MAILTO:venue@halletoakgallery.com
END:VEVENT
BEGIN:VEVENT
DTSTART;TZID=America/Chicago:20241214T120000
DTEND;TZID=America/Chicago:20241214T150000
DTSTAMP:20260424T045623
CREATED:20240219T005613Z
LAST-MODIFIED:20240219T005613Z
UID:10003813-1734177600-1734188400@halletoakgallery.com
SUMMARY:Christkindlmarkt Art Market
DESCRIPTION:November 30\, 2024 – December 14\, 2024 Free Admission \nShare this:\n				Share on Facebook (Opens in new window)\n				Facebook\n			\n				Share on X (Opens in new window)\n				X\n			\n				Share on LinkedIn (Opens in new window)\n				LinkedIn\n			\n				Share on Pinterest (Opens in new window)\n				Pinterest\n			More\n				Share on Reddit (Opens in new window)\n				Reddit\n			\n				Share on Tumblr (Opens in new window)\n				Tumblr\n			\n				Email a link to a friend (Opens in new window)\n				Email\n			\n				Print (Opens in new window)\n				Print
URL:https://halletoakgallery.com/event/christkindlmarkt-art-market/2024-12-14/
CATEGORIES:Annual Event - Free,art
ATTACH;FMTTYPE=image/jpeg:https://halletoakgallery.com/wp-content/uploads/2024/02/5x7_docents_and_artB21CBF0.jpg
END:VEVENT
BEGIN:VEVENT
DTSTART;TZID=America/Chicago:20250830T160000
DTEND;TZID=America/Chicago:20250830T200000
DTSTAMP:20260424T045623
CREATED:20250122T231314Z
LAST-MODIFIED:20250123T231541Z
UID:10004228-1756569600-1756584000@halletoakgallery.com
SUMMARY:Last Saturday Night Live! Turning STEM in STEAM! Call or Email to Enter Contest!
DESCRIPTION:August 30\, 2025\, 4 PM to 8 PM – Last Saturday Night Live! Science\, Technology\, Engineering and Math Art Contest winners announced. Call or email for details to enter in advance. Join us to see the art exhibits and enjoy live music. Free. \nShare this:\n				Share on Facebook (Opens in new window)\n				Facebook\n			\n				Share on X (Opens in new window)\n				X\n			\n				Share on LinkedIn (Opens in new window)\n				LinkedIn\n			\n				Share on Pinterest (Opens in new window)\n				Pinterest\n			More\n				Share on Reddit (Opens in new window)\n				Reddit\n			\n				Share on Tumblr (Opens in new window)\n				Tumblr\n			\n				Email a link to a friend (Opens in new window)\n				Email\n			\n				Print (Opens in new window)\n				Print
URL:https://halletoakgallery.com/event/last-saturday-night-live-turning-stem-in-steam-call-or-email-to-enter-contest/
LOCATION:Hallet Oak Gallery
CATEGORIES:art,Art Exhibit & Reception
ATTACH;FMTTYPE=image/jpeg:https://halletoakgallery.com/wp-content/uploads/2025/01/5x7_2022_ecology_exhibit_IMG_1528.jpg
END:VEVENT
BEGIN:VEVENT
DTSTART;TZID=America/Chicago:20250927T080000
DTEND;TZID=America/Chicago:20250927T150000
DTSTAMP:20260424T045623
CREATED:20250122T231750Z
LAST-MODIFIED:20250124T163313Z
UID:10004230-1758960000-1758985200@halletoakgallery.com
SUMMARY:Kolache Parade & Art Exhibit
DESCRIPTION:September 27\, 2025\, 8 AM to 3 PM & 4 PM to 8 PM  – Kolache Parade & Art Exhibit.  Stop by from 8 AM to 3 PM to see the art exhibits and free coffee. And join us to see the exhibits and enjoy live music from 4 PM to 8 PM. \nComplimentary light refreshments! \nEnjoy scavenger hunt for all ages with prizes! \nHallet Oak Gallery’s Featured Artists & their Revolving  New Artworks \nPaintings \n\nMOSES ADAMS – Mixed Media\nLARRY CHARLES – Watercolor\nMARY GULLETTE – Mixed Media\nPHYLLIS RIVERA – Oil\nLOIS WEISS – Oil\nMICHAEL WINDBERG – Oil\nPAIGE WOODRING – Mixed Media\n\nPhotography \n\nKEN KOPACKI – Fine Art Photography\nMIEKO MAHI – Industrial Photography\nSTEVEN PITUCH – Fine Art Photography\n\n3D Art \n\nLINDA CEJKA – Jewelry\nJULIE MARSH – Glass Sculpture\nJAMES PHILLIP – Wood Sculpture\n\n  \nFree Admission \nShare this:\n				Share on Facebook (Opens in new window)\n				Facebook\n			\n				Share on X (Opens in new window)\n				X\n			\n				Share on LinkedIn (Opens in new window)\n				LinkedIn\n			\n				Share on Pinterest (Opens in new window)\n				Pinterest\n			More\n				Share on Reddit (Opens in new window)\n				Reddit\n			\n				Share on Tumblr (Opens in new window)\n				Tumblr\n			\n				Email a link to a friend (Opens in new window)\n				Email\n			\n				Print (Opens in new window)\n				Print
URL:https://halletoakgallery.com/event/kolache-parade-art-exhibit/
LOCATION:Hallet Oak Gallery
CATEGORIES:art
ATTACH;FMTTYPE=image/jpeg:https://halletoakgallery.com/wp-content/uploads/2019/01/web5x7_2018_free_events_at_hog_IMG_5890-1.jpg
END:VEVENT
BEGIN:VEVENT
DTSTART;TZID=America/Chicago:20250927T160000
DTEND;TZID=America/Chicago:20250927T200000
DTSTAMP:20260424T045623
CREATED:20250122T232114Z
LAST-MODIFIED:20250122T232156Z
UID:10004232-1758988800-1759003200@halletoakgallery.com
SUMMARY:Last Saturday Night Live! While You are In Town Stop In!
DESCRIPTION:Join us to see the exhibits and enjoy live music from 4 PM to 8 PM. \nShare this:\n				Share on Facebook (Opens in new window)\n				Facebook\n			\n				Share on X (Opens in new window)\n				X\n			\n				Share on LinkedIn (Opens in new window)\n				LinkedIn\n			\n				Share on Pinterest (Opens in new window)\n				Pinterest\n			More\n				Share on Reddit (Opens in new window)\n				Reddit\n			\n				Share on Tumblr (Opens in new window)\n				Tumblr\n			\n				Email a link to a friend (Opens in new window)\n				Email\n			\n				Print (Opens in new window)\n				Print
URL:https://halletoakgallery.com/event/last-saturday-night-live-while-you-are-in-town-stop-in/
LOCATION:Hallet Oak Gallery
CATEGORIES:art,Art Center with Exhibit
ATTACH;FMTTYPE=image/jpeg:https://halletoakgallery.com/wp-content/uploads/2020/01/web_kolache_IMG_9747.jpg
END:VEVENT
BEGIN:VEVENT
DTSTART;TZID=America/Chicago:20260210T173000
DTEND;TZID=America/Chicago:20260210T200000
DTSTAMP:20260424T045623
CREATED:20260203T201717Z
LAST-MODIFIED:20260203T202543Z
UID:10004421-1770744600-1770753600@halletoakgallery.com
SUMMARY:WWII Stolen Art: The Monuments Presentation with SCTAL meeting following
DESCRIPTION:Doors will be open at 5:30 pm. \nPresentation begins at 6pm: WWII Stolen Art: The Monuments\, Morrison Williams\,  speaker. \nThe South Central Texas Art League Meeting will follow. \nDoor close by 8:30 pm. For more information contact Blanche Cavarretta. \n  \nShare this:\n				Share on Facebook (Opens in new window)\n				Facebook\n			\n				Share on X (Opens in new window)\n				X\n			\n				Share on LinkedIn (Opens in new window)\n				LinkedIn\n			\n				Share on Pinterest (Opens in new window)\n				Pinterest\n			More\n				Share on Reddit (Opens in new window)\n				Reddit\n			\n				Share on Tumblr (Opens in new window)\n				Tumblr\n			\n				Email a link to a friend (Opens in new window)\n				Email\n			\n				Print (Opens in new window)\n				Print
URL:https://halletoakgallery.com/event/wwii-stolen-art-the-monuments-presentation-with-sctal-meeting-following/
LOCATION:Hallet Oak Gallery
CATEGORIES:art
ATTACH;FMTTYPE=image/jpeg:https://halletoakgallery.com/wp-content/uploads/2016/10/14046045_1371549192859811_4741156120691733003_n.jpg
END:VEVENT
BEGIN:VEVENT
DTSTART;TZID=America/Chicago:20260221T120000
DTEND;TZID=America/Chicago:20260221T160000
DTSTAMP:20260424T045623
CREATED:20260208T204244Z
LAST-MODIFIED:20260208T204244Z
UID:10004423-1771675200-1771689600@halletoakgallery.com
SUMMARY:2026 Artists’ Perspectives Opening Reception
DESCRIPTION:  \n \n2026 Artists’ Perspectives On View: February 21\, 2026 – November 28\, 2026 \nGallery Regular Hours After Opening Show: Feb-Nov Mon-Fri\, Noon to 2:00 PM \nOpening Reception – Open House: Saturday\, February 21\, 2026 Noon to 4:00 PM Meet the artists and enjoy light refreshments! \nFeatured Artists and Media: \nPaintings \n\nMoses Adams – mixed media\, watercolor\nLarry Charles – watercolor\nJo Edwards – oil\nGene Grant – oil\nMary Gullette – mixed media\nPhyllis Rivera – oil\nChristina Rollison – mixed media\nLois Weiss – oil\nMichael Windberg – oil\nPaige Woodring – mixed media\n\nPhotography \n\nMieko Mahi – industrial\nKen Kopacki – fine art\nSteven Pituch – fine art\n\n3-Dimensional Art \n\nLinda Cejka – jewelry\nGypsy Jewels – mixed media\nKristina Knebel – mixed media\nJulie Marsh – glass sculpture\nJames Phillips – wood sculpture\nCharlene Tobola – mixed media\n\nThe exhibition has been thoughtfully arranged by color\, size\, and occasionally subject\, allowing each piece to shine in its own space. The conception design of the show is by handled by Julie Marsh and Lois Wiess.  \nGallery Setting: Hallet Oak Gallery is housed in the historic 1890 Kahn and Stanzel Building\, designed by renowned architect James Riely Gordon. Across the square\, the 1897 Lavaca County Courthouse\, designed by Eugene T. Heiner\, adds to the charm and ambiance. \nAll artwork is available for purchase. \nAdmission: Free and open to the public. Membership not required. Feb-Nov Regular Hallet Oak Gallery open hours to the public: M-F noon to 2pm\, group tours available anyway of the week by appointment only\, 361-217-7030\, leave voice message. \nLocation: Hallet Oak Gallery 115 N. Main St.\, Hallettsville\, TX 77964 \nCheck website for local happenings:  More Information: www.halletoakgallery.com \nShare this:\n				Share on Facebook (Opens in new window)\n				Facebook\n			\n				Share on X (Opens in new window)\n				X\n			\n				Share on LinkedIn (Opens in new window)\n				LinkedIn\n			\n				Share on Pinterest (Opens in new window)\n				Pinterest\n			More\n				Share on Reddit (Opens in new window)\n				Reddit\n			\n				Share on Tumblr (Opens in new window)\n				Tumblr\n			\n				Email a link to a friend (Opens in new window)\n				Email\n			\n				Print (Opens in new window)\n				Print
URL:https://halletoakgallery.com/event/2026-artists-perspectives-opening-reception/
LOCATION:Hallet Oak Gallery
CATEGORIES:Annual Event - Free,art,Art Exhibit & Reception
ATTACH;FMTTYPE=image/jpeg:https://halletoakgallery.com/wp-content/uploads/2026/02/5X7_opening_exhibit_IMG_6187.jpg
END:VEVENT
END:VCALENDAR