BEGIN:VCALENDAR
VERSION:2.0
PRODID:-//Hallet Oak Foundation Inc - ECPv6.15.20//NONSGML v1.0//EN
CALSCALE:GREGORIAN
METHOD:PUBLISH
X-ORIGINAL-URL:https://halletoakgallery.com
X-WR-CALDESC:Events for Hallet Oak Foundation Inc
REFRESH-INTERVAL;VALUE=DURATION:PT1H
X-Robots-Tag:noindex
X-PUBLISHED-TTL:PT1H
BEGIN:VTIMEZONE
TZID:UTC
BEGIN:STANDARD
TZOFFSETFROM:+0000
TZOFFSETTO:+0000
TZNAME:UTC
DTSTART:20160101T000000
END:STANDARD
END:VTIMEZONE
BEGIN:VEVENT
DTSTART;TZID=UTC:20180320T140000
DTEND;TZID=UTC:20180320T180000
DTSTAMP:20260423T225501
CREATED:20171031T172540Z
LAST-MODIFIED:20180315T005528Z
UID:10000359-1521554400-1521568800@halletoakgallery.com
SUMMARY:First Day of Spring Chalk Art Show with participating schools. Docents: Linda Cejka\, Georgia Pohl\, M. Mahi\, A. Riske.
DESCRIPTION:  \nGeorgia Pohl\, art instructor\, is offering suggestion on the street drawing and design. \nFirst day of spring celebration at Hallet Oak Gallery on March 20\, 2017. Featuring chalk art with Sacred Heart Catholic School visiting and special performer\, Chis Rybak\, country polka singer.\n  \n  \n  \n  \n  \n  \n  \n  \n  \nFirst Day of Spring Downtown Hallettsville Chalk Art Celebration\, \nArt Sale and Membership Drive  \nOutdoor Guest Performance by Chris Rybak \nDowntown – Free \n  \nOn the first day of Spring\, Tuesday\, March 20\, 2018\, the Hallet Oak Gallery is hosting a 2018 Spring Chalk Art Celebration and Membership Drive inviting schools and families to chalk the parking space in front of Hallet Oak Gallery from 2 pm to 6 pm. Chris Rybak will provide an outdoor guest performance with polka/country live music from 5p-6p. Refreshments will be served inside the Gallery. Admission is free and open to the public. \n  \nWe are excited about this event and need the schools to contact the Gallery\, so we know how much chalk and refreshments to provide. Chris Rybak fans can sign-up for a “flash dance” performance on the street\, which will include the “Country Line Dance\, Chicken Dance” and the The Wave. \n  \nThe faded yellow driveway space in front of the Gallery\, located in the famed Kahn & Stanzel building\, will be transformed into a pastel colored pathway. Elementary\, middle\, and High School students\, as well as families and professional artists are invited to join together to create a temporary masterpiece. \n  \nAs a non-profit\, our motivation is to support the artist and serve the community. But of course we still have expenses to maintain the building and hold events so we have to charge nominal fees sometimes\, and we want to do more marketing to support the artists so they can keep doing their work. For this Spring Celebration we’d like to keep it as a free admission to enjoy the live music and see the artworks. Membership to the Gallery helps with some of the operation costs\, and it shows support to our volunteers\, as does buying the artworks shows support to the artist”\, explains Mieko Mahi\, Executive Director of Hallet Oak Gallery. \nSchools and large groups please RSVP: 361-217-7030. Hallet Oak Foundation is a 501 c 3\, the parent company of Hallet Oak Gallery and Friends of Hallettsville Downtown Revitalization. Hallet Oak Gallery is a fine art\, performance\, and learning center. See www.halletoakgallery.com and www.halletoakfoundation to learn more about the mission of the non-profit. \nShare this:\n				Share on Facebook (Opens in new window)\n				Facebook\n			\n				Share on X (Opens in new window)\n				X\n			\n				Share on LinkedIn (Opens in new window)\n				LinkedIn\n			\n				Share on Pinterest (Opens in new window)\n				Pinterest\n			More\n				Share on Reddit (Opens in new window)\n				Reddit\n			\n				Share on Tumblr (Opens in new window)\n				Tumblr\n			\n				Email a link to a friend (Opens in new window)\n				Email\n			\n				Print (Opens in new window)\n				Print
URL:https://halletoakgallery.com/event/first-day-of-spring-chalk-art-show-with-participating-schools-docents-georgia-pohl-m-mahi-a-riske/
CATEGORIES:Annual Event - Free,Art Exhibit & Reception,Art Lessons,Chalk Art,Live Music
ATTACH;FMTTYPE=image/jpeg:https://halletoakgallery.com/wp-content/uploads/2017/10/web_MG_8250.jpg
ORGANIZER;CN="Hallet Oak Gallery":MAILTO:venue@halletoakgallery.com
END:VEVENT
BEGIN:VEVENT
DTSTART;TZID=UTC:20180310T140000
DTEND;TZID=UTC:20180310T160000
DTSTAMP:20260423T225501
CREATED:20171031T085703Z
LAST-MODIFIED:20171123T011531Z
UID:10000193-1520690400-1520697600@halletoakgallery.com
SUMMARY:Spotlight on the Arts - Patriotic Art Show with Participating Schools. Docents: Mary Jo Christ\, Alice Vickers\, Gwen Bundy\, Aaron Riske\, Mieko Mahi. Baking: Gwen Bundy & Mary Jo Christ.
DESCRIPTION:Hallet High School participating in Patriotic Show judged by master oil realism painter \, Michael Windberg. \nShare this:\n				Share on Facebook (Opens in new window)\n				Facebook\n			\n				Share on X (Opens in new window)\n				X\n			\n				Share on LinkedIn (Opens in new window)\n				LinkedIn\n			\n				Share on Pinterest (Opens in new window)\n				Pinterest\n			More\n				Share on Reddit (Opens in new window)\n				Reddit\n			\n				Share on Tumblr (Opens in new window)\n				Tumblr\n			\n				Email a link to a friend (Opens in new window)\n				Email\n			\n				Print (Opens in new window)\n				Print
URL:https://halletoakgallery.com/event/spotlight-on-the-arts-patriotic-art-show-with-participating-schools/
CATEGORIES:Art Lessons,Oil Painting,Painting Class,School Tour and Demo
ATTACH;FMTTYPE=image/png:https://halletoakgallery.com/wp-content/uploads/2017/08/7d8152_d67b854617a9498b8f4eb4f86b5e47fb-mv2.png
END:VEVENT
BEGIN:VEVENT
DTSTART;TZID=UTC:20180308T170000
DTEND;TZID=UTC:20180308T183000
DTSTAMP:20260423T225501
CREATED:20180216T230451Z
LAST-MODIFIED:20221027T232430Z
UID:10000381-1520528400-1520533800@halletoakgallery.com
SUMMARY:Girl Scouts Jewerly Badge
DESCRIPTION:Girl Scout Jewelry Badge with Linda Cejka\, jewelry instructor. \nShare this:\n				Share on Facebook (Opens in new window)\n				Facebook\n			\n				Share on X (Opens in new window)\n				X\n			\n				Share on LinkedIn (Opens in new window)\n				LinkedIn\n			\n				Share on Pinterest (Opens in new window)\n				Pinterest\n			More\n				Share on Reddit (Opens in new window)\n				Reddit\n			\n				Share on Tumblr (Opens in new window)\n				Tumblr\n			\n				Email a link to a friend (Opens in new window)\n				Email\n			\n				Print (Opens in new window)\n				Print
URL:https://halletoakgallery.com/event/girl-scouts-jewerly-badge/
LOCATION:Hallet Oak Gallery
CATEGORIES:Art Lessons,Girl Scouts
ATTACH;FMTTYPE=image/jpeg:https://halletoakgallery.com/wp-content/uploads/2016/10/girlscounts.jpg
END:VEVENT
BEGIN:VEVENT
DTSTART;TZID=UTC:20180216T190000
DTEND;TZID=UTC:20180216T210000
DTSTAMP:20260423T225501
CREATED:20180118T080405Z
LAST-MODIFIED:20180212T124042Z
UID:10000375-1518807600-1518814800@halletoakgallery.com
SUMMARY:Sip & Paint with Linda Cejka
DESCRIPTION:  \n \n7 PM to 9 PM \nDoors open at 6:30 PM. \n“Crosses” taught by Linda Cejka    $25 for adults\, free for children under 14 years old. \nCanvas\, acrylic paints\, and brushes provided. \nRSVP:  361-217-7030 \n  \n  \n  \nOn Friday\, February 16\, 2018\, Linda Cejka\, the Gallery’s Co-Director\, will be demonstrating live techniques creating “Crosses” for a “Sip & Paint at the Gallery” event.  Join us for a fun night of painting. Doors open at 6:30 and painting begins at 7:00 PM to 9:00 PM. \n  \nMake this a family outing – children welcome!  Plan a Girls or Guys night out and invite your friends! The cost is $25 for adults and free for children under 14 years old. Children must be accompanied by a family member. Paints\, brushes and canvas will be supplied. RSVP 361-217-7030.  Last minute walk-ins are always welcome. \n  \nLinda Cejka has an MBA from Our Lady of the Lake University and enjoys teaching arts and crafts to all ages from children to adults. Hallet Oak Gallery is located in the famous Kahn & Stanzel Bldg.\, 115 N. Main St.\, Hallettsville\, TX\, 77964. See the calendar of events at www.halletoakgallery.com. \n  \n  \n  \n  \n  \nShare this:\n				Share on Facebook (Opens in new window)\n				Facebook\n			\n				Share on X (Opens in new window)\n				X\n			\n				Share on LinkedIn (Opens in new window)\n				LinkedIn\n			\n				Share on Pinterest (Opens in new window)\n				Pinterest\n			More\n				Share on Reddit (Opens in new window)\n				Reddit\n			\n				Share on Tumblr (Opens in new window)\n				Tumblr\n			\n				Email a link to a friend (Opens in new window)\n				Email\n			\n				Print (Opens in new window)\n				Print
URL:https://halletoakgallery.com/event/2968/
CATEGORIES:art,Art Lessons,Sip & Paint,Sip & Paint - A Night at the Gallery
ATTACH;FMTTYPE=image/jpeg:https://halletoakgallery.com/wp-content/uploads/2018/01/web_Linda_Cejka_cross_pattern.jpg
ORGANIZER;CN="Hallet Oak Gallery":MAILTO:venue@halletoakgallery.com
END:VEVENT
BEGIN:VEVENT
DTSTART;TZID=UTC:20180209T190000
DTEND;TZID=UTC:20180209T210000
DTSTAMP:20260423T225501
CREATED:20180118T075619Z
LAST-MODIFIED:20180209T221436Z
UID:10000374-1518202800-1518210000@halletoakgallery.com
SUMMARY:Paint  & Sip with Linda Cejka
DESCRIPTION:7 PM to 9 PM \nDoors open at 6:30 PM. \n“Hearts” taught by Linda Cejka    $25 for adults\, free for children under 14 years old. \nCanvas\, acrylic paints\, and brushes provided. \nRSVP:  361-217-7030 \nShare this:\n				Share on Facebook (Opens in new window)\n				Facebook\n			\n				Share on X (Opens in new window)\n				X\n			\n				Share on LinkedIn (Opens in new window)\n				LinkedIn\n			\n				Share on Pinterest (Opens in new window)\n				Pinterest\n			More\n				Share on Reddit (Opens in new window)\n				Reddit\n			\n				Share on Tumblr (Opens in new window)\n				Tumblr\n			\n				Email a link to a friend (Opens in new window)\n				Email\n			\n				Print (Opens in new window)\n				Print
URL:https://halletoakgallery.com/event/paint-sip-with-linda-cejka/
CATEGORIES:art,Art Lessons,Sip & Paint
ATTACH;FMTTYPE=image/jpeg:https://halletoakgallery.com/wp-content/uploads/2018/01/web_Linda_Cejka_heart_love-e1518192818602.jpg
ORGANIZER;CN="Hallet Oak Gallery":MAILTO:venue@halletoakgallery.com
END:VEVENT
BEGIN:VEVENT
DTSTART;TZID=UTC:20180110T140000
DTEND;TZID=UTC:20180110T153000
DTSTAMP:20260423T225501
CREATED:20170826T003344Z
LAST-MODIFIED:20171031T085109Z
UID:10000355-1515592800-1515598200@halletoakgallery.com
SUMMARY:SHCS Tour and Lesson by Tim Sadler\, Adobe Lightroom
DESCRIPTION:SHCS Tour of the Timothy Sadler\, photographic wildlife exhibit and private art lesson on Adobe Lightroom\, \nShare this:\n				Share on Facebook (Opens in new window)\n				Facebook\n			\n				Share on X (Opens in new window)\n				X\n			\n				Share on LinkedIn (Opens in new window)\n				LinkedIn\n			\n				Share on Pinterest (Opens in new window)\n				Pinterest\n			More\n				Share on Reddit (Opens in new window)\n				Reddit\n			\n				Share on Tumblr (Opens in new window)\n				Tumblr\n			\n				Email a link to a friend (Opens in new window)\n				Email\n			\n				Print (Opens in new window)\n				Print
URL:https://halletoakgallery.com/event/shcs-tour-and-private-oil-painting-lesson/
CATEGORIES:Art Lessons,Photography,School Tour and Demo
ATTACH;FMTTYPE=image/jpeg:https://halletoakgallery.com/wp-content/uploads/2017/09/cropped-Hallet-Oak-Gallery-logo-2-X-2.jpg
ORGANIZER;CN="Hallet Oak Gallery":MAILTO:venue@halletoakgallery.com
END:VEVENT
BEGIN:VEVENT
DTSTART;TZID=UTC:20171030T140000
DTEND;TZID=UTC:20171030T210000
DTSTAMP:20260423T225501
CREATED:20171030T233923Z
LAST-MODIFIED:20171031T000444Z
UID:10000190-1509372000-1509397200@halletoakgallery.com
SUMMARY:Every Tuesday Michael Windberg
DESCRIPTION:Contact Michael Windberg to sign up. Fees are $25 to $30 per class. \nEvery Tuesday: Michael Windberg oil painting workshop – walk-ins welcome. 2 to 5 p.m. and 6 to 9 p.m. \nShare this:\n				Share on Facebook (Opens in new window)\n				Facebook\n			\n				Share on X (Opens in new window)\n				X\n			\n				Share on LinkedIn (Opens in new window)\n				LinkedIn\n			\n				Share on Pinterest (Opens in new window)\n				Pinterest\n			More\n				Share on Reddit (Opens in new window)\n				Reddit\n			\n				Share on Tumblr (Opens in new window)\n				Tumblr\n			\n				Email a link to a friend (Opens in new window)\n				Email\n			\n				Print (Opens in new window)\n				Print
URL:https://halletoakgallery.com/event/michael-windberg-oil-painting-workshop-walk-ins-welcome-every-tuesday-2-to-5-p-m-and-6-to-9-p-m/
CATEGORIES:Art Lessons,Lessons on Painting
ATTACH;FMTTYPE=image/jpeg:https://halletoakgallery.com/wp-content/uploads/2017/08/5x7michael_windbergIMG_2089-e1509388930213.jpg
ORGANIZER;CN="Michael Windberg - Artist":MAILTO:mnwindberg@gmail.com
END:VEVENT
END:VCALENDAR