BEGIN:VCALENDAR
VERSION:2.0
PRODID:-//Hallet Oak Foundation Inc - ECPv6.15.20//NONSGML v1.0//EN
CALSCALE:GREGORIAN
METHOD:PUBLISH
X-WR-CALNAME:Hallet Oak Foundation Inc
X-ORIGINAL-URL:https://halletoakgallery.com
X-WR-CALDESC:Events for Hallet Oak Foundation Inc
REFRESH-INTERVAL;VALUE=DURATION:PT1H
X-Robots-Tag:noindex
X-PUBLISHED-TTL:PT1H
BEGIN:VTIMEZONE
TZID:UTC
BEGIN:STANDARD
TZOFFSETFROM:+0000
TZOFFSETTO:+0000
TZNAME:UTC
DTSTART:20170101T000000
END:STANDARD
END:VTIMEZONE
BEGIN:VEVENT
DTSTART;TZID=UTC:20180414T130000
DTEND;TZID=UTC:20180414T150000
DTSTAMP:20260424T021131
CREATED:20180118T091912Z
LAST-MODIFIED:20180118T091912Z
UID:10000207-1523710800-1523718000@halletoakgallery.com
SUMMARY:Spotlight on the Arts featuring Michael Windberg\, Master Oil Painter
DESCRIPTION:Free reception honoring the works of Michael Windberg: \n1 PM to 3 PM \nShare this:\n				Share on Facebook (Opens in new window)\n				Facebook\n			\n				Share on X (Opens in new window)\n				X\n			\n				Share on LinkedIn (Opens in new window)\n				LinkedIn\n			\n				Share on Pinterest (Opens in new window)\n				Pinterest\n			More\n				Share on Reddit (Opens in new window)\n				Reddit\n			\n				Share on Tumblr (Opens in new window)\n				Tumblr\n			\n				Email a link to a friend (Opens in new window)\n				Email\n			\n				Print (Opens in new window)\n				Print
URL:https://halletoakgallery.com/event/spotlight-on-the-arts-featuring-michael-windberg-master-oil-painter/
CATEGORIES:Art Exhibit & Reception
ATTACH;FMTTYPE=image/jpeg:https://halletoakgallery.com/wp-content/uploads/2015/10/michael_windberg_artist_image_1417.jpg
ORGANIZER;CN="Hallet Oak Gallery":MAILTO:venue@halletoakgallery.com
END:VEVENT
BEGIN:VEVENT
DTSTART;TZID=UTC:20180320T140000
DTEND;TZID=UTC:20180320T180000
DTSTAMP:20260424T021132
CREATED:20171031T172540Z
LAST-MODIFIED:20180315T005528Z
UID:10000359-1521554400-1521568800@halletoakgallery.com
SUMMARY:First Day of Spring Chalk Art Show with participating schools. Docents: Linda Cejka\, Georgia Pohl\, M. Mahi\, A. Riske.
DESCRIPTION:  \nGeorgia Pohl\, art instructor\, is offering suggestion on the street drawing and design. \nFirst day of spring celebration at Hallet Oak Gallery on March 20\, 2017. Featuring chalk art with Sacred Heart Catholic School visiting and special performer\, Chis Rybak\, country polka singer.\n  \n  \n  \n  \n  \n  \n  \n  \n  \nFirst Day of Spring Downtown Hallettsville Chalk Art Celebration\, \nArt Sale and Membership Drive  \nOutdoor Guest Performance by Chris Rybak \nDowntown – Free \n  \nOn the first day of Spring\, Tuesday\, March 20\, 2018\, the Hallet Oak Gallery is hosting a 2018 Spring Chalk Art Celebration and Membership Drive inviting schools and families to chalk the parking space in front of Hallet Oak Gallery from 2 pm to 6 pm. Chris Rybak will provide an outdoor guest performance with polka/country live music from 5p-6p. Refreshments will be served inside the Gallery. Admission is free and open to the public. \n  \nWe are excited about this event and need the schools to contact the Gallery\, so we know how much chalk and refreshments to provide. Chris Rybak fans can sign-up for a “flash dance” performance on the street\, which will include the “Country Line Dance\, Chicken Dance” and the The Wave. \n  \nThe faded yellow driveway space in front of the Gallery\, located in the famed Kahn & Stanzel building\, will be transformed into a pastel colored pathway. Elementary\, middle\, and High School students\, as well as families and professional artists are invited to join together to create a temporary masterpiece. \n  \nAs a non-profit\, our motivation is to support the artist and serve the community. But of course we still have expenses to maintain the building and hold events so we have to charge nominal fees sometimes\, and we want to do more marketing to support the artists so they can keep doing their work. For this Spring Celebration we’d like to keep it as a free admission to enjoy the live music and see the artworks. Membership to the Gallery helps with some of the operation costs\, and it shows support to our volunteers\, as does buying the artworks shows support to the artist”\, explains Mieko Mahi\, Executive Director of Hallet Oak Gallery. \nSchools and large groups please RSVP: 361-217-7030. Hallet Oak Foundation is a 501 c 3\, the parent company of Hallet Oak Gallery and Friends of Hallettsville Downtown Revitalization. Hallet Oak Gallery is a fine art\, performance\, and learning center. See www.halletoakgallery.com and www.halletoakfoundation to learn more about the mission of the non-profit. \nShare this:\n				Share on Facebook (Opens in new window)\n				Facebook\n			\n				Share on X (Opens in new window)\n				X\n			\n				Share on LinkedIn (Opens in new window)\n				LinkedIn\n			\n				Share on Pinterest (Opens in new window)\n				Pinterest\n			More\n				Share on Reddit (Opens in new window)\n				Reddit\n			\n				Share on Tumblr (Opens in new window)\n				Tumblr\n			\n				Email a link to a friend (Opens in new window)\n				Email\n			\n				Print (Opens in new window)\n				Print
URL:https://halletoakgallery.com/event/first-day-of-spring-chalk-art-show-with-participating-schools-docents-georgia-pohl-m-mahi-a-riske/
CATEGORIES:Annual Event - Free,Art Exhibit & Reception,Art Lessons,Chalk Art,Live Music
ATTACH;FMTTYPE=image/jpeg:https://halletoakgallery.com/wp-content/uploads/2017/10/web_MG_8250.jpg
ORGANIZER;CN="Hallet Oak Gallery":MAILTO:venue@halletoakgallery.com
END:VEVENT
BEGIN:VEVENT
DTSTART;TZID=UTC:20180310T140000
DTEND;TZID=UTC:20180310T160000
DTSTAMP:20260424T021132
CREATED:20171104T205414Z
LAST-MODIFIED:20171104T205424Z
UID:10000203-1520690400-1520697600@halletoakgallery.com
SUMMARY:Spotlight on the Arts featuring Dianne Appelt\, oil and watercolor painter
DESCRIPTION:Share this:\n				Share on Facebook (Opens in new window)\n				Facebook\n			\n				Share on X (Opens in new window)\n				X\n			\n				Share on LinkedIn (Opens in new window)\n				LinkedIn\n			\n				Share on Pinterest (Opens in new window)\n				Pinterest\n			More\n				Share on Reddit (Opens in new window)\n				Reddit\n			\n				Share on Tumblr (Opens in new window)\n				Tumblr\n			\n				Email a link to a friend (Opens in new window)\n				Email\n			\n				Print (Opens in new window)\n				Print
URL:https://halletoakgallery.com/event/spotlight-on-the-arts-featuring-dianne-appelt-oil-and-watercolor-painter/
CATEGORIES:Art Exhibit & Reception
ATTACH;FMTTYPE=image/jpeg:https://halletoakgallery.com/wp-content/uploads/2015/04/3x4_downtown_IMG_8326.jpg
ORGANIZER;CN="Hallet Oak Gallery":MAILTO:venue@halletoakgallery.com
END:VEVENT
BEGIN:VEVENT
DTSTART;TZID=UTC:20180210T140000
DTEND;TZID=UTC:20180210T160000
DTSTAMP:20260424T021132
CREATED:20180118T073740Z
LAST-MODIFIED:20180212T211509Z
UID:10000373-1518271200-1518278400@halletoakgallery.com
SUMMARY:Livestock and Rodeo Art Show with participating Schools. Docents: L.Cejka\, G. Bundy\, M. Mahi\, A. Vickers\, & A. Riske. Baking: Gwen Bundy.
DESCRIPTION:Free Exhibit Reception  – Hallettsville High School is exhibiting student’s original works. \n2 PM – 4 PM \n  \nOpen to the public with free entry to Hallet Oak Gallery’s Livestock and Rodeo Art Show with Hallettsville High School participating on display through February 24\, 2018. \nShare this:\n				Share on Facebook (Opens in new window)\n				Facebook\n			\n				Share on X (Opens in new window)\n				X\n			\n				Share on LinkedIn (Opens in new window)\n				LinkedIn\n			\n				Share on Pinterest (Opens in new window)\n				Pinterest\n			More\n				Share on Reddit (Opens in new window)\n				Reddit\n			\n				Share on Tumblr (Opens in new window)\n				Tumblr\n			\n				Email a link to a friend (Opens in new window)\n				Email\n			\n				Print (Opens in new window)\n				Print
URL:https://halletoakgallery.com/event/livestock-rodeo-art-show-high-school-exhibit/
LOCATION:Hallet Oak Gallery
CATEGORIES:art,Art Exhibit & Reception,Public Art,Spotlight on the Arts,Student Show
ATTACH;FMTTYPE=image/jpeg:https://halletoakgallery.com/wp-content/uploads/2018/01/IMG_5649-e1518274891628.jpg
ORGANIZER;CN="Hallet Oak Gallery":MAILTO:venue@halletoakgallery.com
END:VEVENT
BEGIN:VEVENT
DTSTART;TZID=UTC:20180113T140000
DTEND;TZID=UTC:20180113T160000
DTSTAMP:20260424T021132
CREATED:20180102T072014Z
LAST-MODIFIED:20180102T072044Z
UID:10000366-1515852000-1515859200@halletoakgallery.com
SUMMARY:SPOTLIGHT ON THE ARTS: TIMOTHY G. SADLER\, PH.D. NATURE PHOTOGRAPHER FREE RECEPTION  2:00 – 4:00 PM
DESCRIPTION:SPOTLIGHT ON THE ARTS: Timothy G. Sadler\, Ph.D. A Wondrous Nature Photographer \nFree reception: Jan 13th 2:00 – 4:00 pm \n  \nThe Spotlight on the Arts at the Hallet Oak Gallery for January will be featuring Timothy G. Sadler\, Ph.D\, a nature and wildlife photographer. Opening reception will be Saturday\, January 13\, 2018\, 2:00 till 4:00 PM at the Hallet Oak Gallery\, 115 N. Main St.\, Hallettsville\, TX. All are welcome to attend the opening. \n  \nA local resident of Lavaca County\, Timothy Sadler earned a Ph.D. in Psychology from University of Houston. Retired from his career as a VP of Development at Birkman International\, Timothy travel extensively across North America photography an array of landscapes from snowed rivers with bears to sands of Rockport! \n  \nSadler’s exhibit will remain on display through January 31st. All Spotlight exhibits are free and open to the public. For more information visit www.halletoakgallery.com \n  \n  \n  \n  \nShare this:\n				Share on Facebook (Opens in new window)\n				Facebook\n			\n				Share on X (Opens in new window)\n				X\n			\n				Share on LinkedIn (Opens in new window)\n				LinkedIn\n			\n				Share on Pinterest (Opens in new window)\n				Pinterest\n			More\n				Share on Reddit (Opens in new window)\n				Reddit\n			\n				Share on Tumblr (Opens in new window)\n				Tumblr\n			\n				Email a link to a friend (Opens in new window)\n				Email\n			\n				Print (Opens in new window)\n				Print
URL:https://halletoakgallery.com/event/spotlight-on-the-arts-timothy-g-sadler-ph-d-nature-photographer-free-reception-200-400-pm/
LOCATION:Hallet Oak Gallery
CATEGORIES:Art Exhibit & Reception,Spotlight on the Arts
ATTACH;FMTTYPE=image/jpeg:https://halletoakgallery.com/wp-content/uploads/2018/01/Great-Blue-Timothy_Sadler_Herons-20100123-0191-Edit-2-WEB-e1514855985522.jpg
ORGANIZER;CN="Hallet Oak Gallery":MAILTO:venue@halletoakgallery.com
END:VEVENT
END:VCALENDAR