BEGIN:VCALENDAR
VERSION:2.0
PRODID:-//Hallet Oak Foundation Inc - ECPv6.15.20//NONSGML v1.0//EN
CALSCALE:GREGORIAN
METHOD:PUBLISH
X-ORIGINAL-URL:https://halletoakgallery.com
X-WR-CALDESC:Events for Hallet Oak Foundation Inc
REFRESH-INTERVAL;VALUE=DURATION:PT1H
X-Robots-Tag:noindex
X-PUBLISHED-TTL:PT1H
BEGIN:VTIMEZONE
TZID:America/Chicago
BEGIN:DAYLIGHT
TZOFFSETFROM:-0600
TZOFFSETTO:-0500
TZNAME:CDT
DTSTART:20190310T080000
END:DAYLIGHT
BEGIN:STANDARD
TZOFFSETFROM:-0500
TZOFFSETTO:-0600
TZNAME:CST
DTSTART:20191103T070000
END:STANDARD
BEGIN:DAYLIGHT
TZOFFSETFROM:-0600
TZOFFSETTO:-0500
TZNAME:CDT
DTSTART:20200308T080000
END:DAYLIGHT
BEGIN:STANDARD
TZOFFSETFROM:-0500
TZOFFSETTO:-0600
TZNAME:CST
DTSTART:20201101T070000
END:STANDARD
BEGIN:DAYLIGHT
TZOFFSETFROM:-0600
TZOFFSETTO:-0500
TZNAME:CDT
DTSTART:20210314T080000
END:DAYLIGHT
BEGIN:STANDARD
TZOFFSETFROM:-0500
TZOFFSETTO:-0600
TZNAME:CST
DTSTART:20211107T070000
END:STANDARD
BEGIN:DAYLIGHT
TZOFFSETFROM:-0600
TZOFFSETTO:-0500
TZNAME:CDT
DTSTART:20220313T080000
END:DAYLIGHT
BEGIN:STANDARD
TZOFFSETFROM:-0500
TZOFFSETTO:-0600
TZNAME:CST
DTSTART:20221106T070000
END:STANDARD
BEGIN:DAYLIGHT
TZOFFSETFROM:-0600
TZOFFSETTO:-0500
TZNAME:CDT
DTSTART:20230312T080000
END:DAYLIGHT
BEGIN:STANDARD
TZOFFSETFROM:-0500
TZOFFSETTO:-0600
TZNAME:CST
DTSTART:20231105T070000
END:STANDARD
BEGIN:DAYLIGHT
TZOFFSETFROM:-0600
TZOFFSETTO:-0500
TZNAME:CDT
DTSTART:20240310T080000
END:DAYLIGHT
BEGIN:STANDARD
TZOFFSETFROM:-0500
TZOFFSETTO:-0600
TZNAME:CST
DTSTART:20241103T070000
END:STANDARD
END:VTIMEZONE
BEGIN:VTIMEZONE
TZID:UTC
BEGIN:STANDARD
TZOFFSETFROM:+0000
TZOFFSETTO:+0000
TZNAME:UTC
DTSTART:20170101T000000
END:STANDARD
END:VTIMEZONE
BEGIN:VEVENT
DTSTART;TZID=America/Chicago:20230320T160000
DTEND;TZID=America/Chicago:20230320T190000
DTSTAMP:20260423T182148
CREATED:20230101T203752Z
LAST-MODIFIED:20230221T225924Z
UID:10000435-1679328000-1679338800@halletoakgallery.com
SUMMARY:Western Art Show
DESCRIPTION:  \nHallet Oak Gallery’s First Day of Spring Celebration –  Downtown Hallettsville \n2023 Western Art Student Exhibit March 20 – April 22\, 2023 \nYou are invited to a special open house reception! \nWhen: Monday\, March 20\, 2023 \n4:00 PM— 7 PM \nOn view will be the art works from Moulton ISD and Hallettsville High School  \n5:00 PM -Peoples State Bank Student Recognition Awards \nOutdoor Chalk Art \nPets are welcomed! \nFree and open to public. Membership is not required. \nHallet Oak Gallery\, 115 N. Main St.\, Hallettsville\, TX 77964 \nSee www.halletoakgallery.com  or call 361-217-7030 for details! \n  \nShare this:\n				Share on Facebook (Opens in new window)\n				Facebook\n			\n				Share on X (Opens in new window)\n				X\n			\n				Share on LinkedIn (Opens in new window)\n				LinkedIn\n			\n				Share on Pinterest (Opens in new window)\n				Pinterest\n			More\n				Share on Reddit (Opens in new window)\n				Reddit\n			\n				Share on Tumblr (Opens in new window)\n				Tumblr\n			\n				Email a link to a friend (Opens in new window)\n				Email\n			\n				Print (Opens in new window)\n				Print
URL:https://halletoakgallery.com/event/hallet-oak-gallerys-first-day-of-spring-celebration-2/
LOCATION:Hallet Oak Gallery
CATEGORIES:art,Art Center with Exhibit,Art Contest,Art Exhibit & Reception,Chalk Art,Live Music
ATTACH;FMTTYPE=image/jpeg:https://halletoakgallery.com/wp-content/uploads/2023/01/web_best_of_show_5x7_ava_olivarez_moulton_isd_IIMG_7037.jpg
ORGANIZER;CN="Hallet Oak Gallery":MAILTO:venue@halletoakgallery.com
END:VEVENT
BEGIN:VEVENT
DTSTART;TZID=America/Chicago:20230320T160000
DTEND;TZID=America/Chicago:20230320T190000
DTSTAMP:20260423T182148
CREATED:20221231T160959Z
LAST-MODIFIED:20230221T225258Z
UID:10000432-1679328000-1679338800@halletoakgallery.com
SUMMARY:Hallet Oak Gallery’s First Day of Spring Celebration
DESCRIPTION:Hallet Oak Gallery’s First Day of Spring Celebration –  Downtown Hallettsville \n2023 Western Art Student Exhibit March 20 – April 22\, 2023 \nYou are invited to a special open house reception! \nWhen: Monday\, March 20\, 2023 \n4:00 PM— 7 PM \nOn view will be the art works from Moulton ISD and Hallettsville High School  \n5:00 PM -Peoples State Bank Student Recognition Awards \nOutdoor Chalk Art \nPets are welcomed! \nFree and open to public. Membership is not required. \nHallet Oak Gallery\, 115 N. Main St.\, Hallettsville\, TX 77964 \nSee www.halletoakgallery.com  or call 361-217-7030 for details! \n  \n  \n  \nShare this:\n				Share on Facebook (Opens in new window)\n				Facebook\n			\n				Share on X (Opens in new window)\n				X\n			\n				Share on LinkedIn (Opens in new window)\n				LinkedIn\n			\n				Share on Pinterest (Opens in new window)\n				Pinterest\n			More\n				Share on Reddit (Opens in new window)\n				Reddit\n			\n				Share on Tumblr (Opens in new window)\n				Tumblr\n			\n				Email a link to a friend (Opens in new window)\n				Email\n			\n				Print (Opens in new window)\n				Print
URL:https://halletoakgallery.com/event/hallet-oak-gallerys-first-day-of-spring-celebration/
LOCATION:Hallet Oak Gallery
CATEGORIES:Art Contest,Art Exhibit & Reception,Student Show
ATTACH;FMTTYPE=image/jpeg:https://halletoakgallery.com/wp-content/uploads/2017/10/web_MG_8250.jpg
ORGANIZER;CN="Hallet Oak Gallery":MAILTO:venue@halletoakgallery.com
END:VEVENT
BEGIN:VEVENT
DTSTART;TZID=America/Chicago:20201016T163000
DTEND;TZID=America/Chicago:20201016T190000
DTSTAMP:20260423T182148
CREATED:20200123T172419Z
LAST-MODIFIED:20200123T172432Z
UID:10000597-1602865800-1602874800@halletoakgallery.com
SUMMARY:Deadline for Pumpkin-Contest Drop Off
DESCRIPTION:Friday\, October 16 \nHALLETTSVILLE: Deadline for Pumpkin-Contest Drop Off \n4:30 PM – 7:00 PM \nHallet Oak Gallery\, 115 N. Main St.\, Hallettsville\, TX 77964 www.halletoakgallery.com 361-217-7030 \nShare this:\n				Share on Facebook (Opens in new window)\n				Facebook\n			\n				Share on X (Opens in new window)\n				X\n			\n				Share on LinkedIn (Opens in new window)\n				LinkedIn\n			\n				Share on Pinterest (Opens in new window)\n				Pinterest\n			More\n				Share on Reddit (Opens in new window)\n				Reddit\n			\n				Share on Tumblr (Opens in new window)\n				Tumblr\n			\n				Email a link to a friend (Opens in new window)\n				Email\n			\n				Print (Opens in new window)\n				Print
URL:https://halletoakgallery.com/event/deadline-for-pumpkin-contest-drop-off-3/
LOCATION:Hallet Oak Gallery
CATEGORIES:Art Contest
ATTACH;FMTTYPE=image/jpeg:https://halletoakgallery.com/wp-content/uploads/2020/01/2x3_web_pumkinIMG_1963.jpg
END:VEVENT
BEGIN:VEVENT
DTSTART;TZID=America/Chicago:20200926T110000
DTEND;TZID=America/Chicago:20200926T150000
DTSTAMP:20260423T182148
CREATED:20200123T153649Z
LAST-MODIFIED:20200905T112748Z
UID:10000569-1601118000-1601132400@halletoakgallery.com
SUMMARY:Call for entries online!  International Influenced Art Contest
DESCRIPTION:Septemeber 5 – September 26 \nHALLETTSVILLE: \n– September 5 Call for Entries – International Influenced Art Contest. Show a culture other than yours! Open to all ages. Any media can be used. Prizes sponsored by H-E-B. Email copy of your art to venue@halletoakgallery.com by Sept. 26\, 2020. Include your full name and age.  \nHallet Oak Gallery\, 115 N. Main St.\, Hallettsville\, TX 77964 www.halletoakgallery.com 361-217-7030 \nFree \nShare this:\n				Share on Facebook (Opens in new window)\n				Facebook\n			\n				Share on X (Opens in new window)\n				X\n			\n				Share on LinkedIn (Opens in new window)\n				LinkedIn\n			\n				Share on Pinterest (Opens in new window)\n				Pinterest\n			More\n				Share on Reddit (Opens in new window)\n				Reddit\n			\n				Share on Tumblr (Opens in new window)\n				Tumblr\n			\n				Email a link to a friend (Opens in new window)\n				Email\n			\n				Print (Opens in new window)\n				Print
URL:https://halletoakgallery.com/event/lavaca-county-international-themed-exhibit-and-celebration-entries-are-juried/2020-09-26/
LOCATION:Hallet Oak Gallery
CATEGORIES:Art Contest,Art Exhibit & Reception
ATTACH;FMTTYPE=image/jpeg:https://halletoakgallery.com/wp-content/uploads/2019/09/5x7_tanya_edwards_drums.jpeg
END:VEVENT
BEGIN:VEVENT
DTSTART;TZID=UTC:20191018T163000
DTEND;TZID=UTC:20191018T180000
DTSTAMP:20260423T182148
CREATED:20190128T030901Z
LAST-MODIFIED:20190128T030901Z
UID:10000491-1571416200-1571421600@halletoakgallery.com
SUMMARY:Deadline for Pumpkin-Contest Drop off
DESCRIPTION:Friday\, October 18 \nHALLETTSVILLE: Deadline for Pumpkin-Contest Drop off 4:30 – 6 PM \nContest details www.halletoakgallery.com Best of Show Wins $50! \nHallet Oak Gallery\, 115 N. Main St.\, Hallettsville\, TX 77964 www.halletoakgallery.com 361-217-7030 \nFree entry for adults\, teens\, & children! \nShare this:\n				Share on Facebook (Opens in new window)\n				Facebook\n			\n				Share on X (Opens in new window)\n				X\n			\n				Share on LinkedIn (Opens in new window)\n				LinkedIn\n			\n				Share on Pinterest (Opens in new window)\n				Pinterest\n			More\n				Share on Reddit (Opens in new window)\n				Reddit\n			\n				Share on Tumblr (Opens in new window)\n				Tumblr\n			\n				Email a link to a friend (Opens in new window)\n				Email\n			\n				Print (Opens in new window)\n				Print
URL:https://halletoakgallery.com/event/deadline-for-pumpkin-contest-drop-off/
LOCATION:Hallet Oak Gallery
CATEGORIES:Art Contest
ATTACH;FMTTYPE=image/jpeg:https://halletoakgallery.com/wp-content/uploads/2019/01/web5x7_hog_pumpkin_contest_IMG_1673-1.jpg
ORGANIZER;CN="Hallet Oak Gallery":MAILTO:venue@halletoakgallery.com
END:VEVENT
BEGIN:VEVENT
DTSTART;TZID=UTC:20190606T110000
DTEND;TZID=UTC:20190606T170000
DTSTAMP:20260423T182148
CREATED:20190128T013915Z
LAST-MODIFIED:20190128T013915Z
UID:10000478-1559818800-1559840400@halletoakgallery.com
SUMMARY:Deadline for Contest Drop Off 11 AM - 5 PM
DESCRIPTION:Thursday\, June 6th  \nHALLETTSVILLE: Deadline for Art in Architecture Contest Drop Off 11 – 5 PM \nAdult $20 & Youths $10   Best of show wins $200. Details: www.halletoakgallery.com \nHallet Oak Gallery\, 115 N. Main St.\, Hallettsville\, TX 77964 \n361-217-7030 www.halletoakgallery.com \nShare this:\n				Share on Facebook (Opens in new window)\n				Facebook\n			\n				Share on X (Opens in new window)\n				X\n			\n				Share on LinkedIn (Opens in new window)\n				LinkedIn\n			\n				Share on Pinterest (Opens in new window)\n				Pinterest\n			More\n				Share on Reddit (Opens in new window)\n				Reddit\n			\n				Share on Tumblr (Opens in new window)\n				Tumblr\n			\n				Email a link to a friend (Opens in new window)\n				Email\n			\n				Print (Opens in new window)\n				Print
URL:https://halletoakgallery.com/event/deadline-for-contest-drop-off-11-am-5-pm/
CATEGORIES:Art Contest
ATTACH;FMTTYPE=image/jpeg:https://halletoakgallery.com/wp-content/uploads/2018/06/4x6_dorothy_bujnoch_IMG_7927_1.jpg
ORGANIZER;CN="Hallet Oak Gallery":MAILTO:venue@halletoakgallery.com
END:VEVENT
BEGIN:VEVENT
DTSTART;TZID=UTC:20180607T160000
DTEND;TZID=UTC:20180607T190000
DTSTAMP:20260423T182148
CREATED:20180509T212712Z
LAST-MODIFIED:20180526T200622Z
UID:10000216-1528387200-1528398000@halletoakgallery.com
SUMMARY:Drop off Art Contest Entries for Victorian Design - Docent: Mary Jo Christ
DESCRIPTION:  \nClick here for conference brochure: 20180510_hog_architecture_brochure_doc   \nClick here for press release and forms: 201805_hog_victorian_train_pr \nFor Immediate Release: \n  \nJUNE 8 – 9\, 2018 Third ANnual Hallet Oak Gallery Art in Architecture  \npartnering with Texas Society of ARCHITECTS: “Celebrating Victorian Design” \nThere will be a free reception open to the public on Saturday\, June 9\, 2018 3:00 PM – 4 P \nThe Hallet Oak Gallery invites artists to participate in a statewide contest to celebrate Victorian Design. Details are on www.halletoakgallery.com website. \nCourthouse tours will be made available on both days from 4 p.m. to 5 p.m. on Friday\, June 8th and 9 a.m. to 10 a.m. on Saturday\, June 9th. Eugene Heiner designed numerous courthouses\, county jails and other public buildings in Texas. He was born in New York City\, apprenticed in Chicago\, and studied in Germany. A number of his works are listed on the U.S. National Register of Historic Places\, including the Lavaca County Courthouse. \nThe Texas Society of Architects will be judging and will assist in awarding prizes. Entries in the contest may be in any medium (painting\, sculpture\, photography\, or other) but must illustrate some aspect of Victorian design. They will be judged according to age groups: adults\, teens\, and children. Entry fee is $20 per artwork submitted\, $15 for students. Two entries include one pass to conference. Winners will receive certificates and subscriptions to the Texas Society of Architects magazine\, and there is a $200 prize for “Best of Show.” Must be present to win cash prize or it’s passed to the next runner up. \nA two-day celebration: $25 per ticket with a discount for teachers\, seniors and students at $15\, will begin Friday late afternoon\, June 8\, 2018 with Courthouse tours led by James A. Jakubek from 4 p.m. to 5 p.m. Paulina Puljek Lord\, classical guitarist will perform live music from the Queen Victoria era from 7:00 p.m. to 9 p.m.\, $10 donation\, free for children with parent\, doors open at 6:30 p.m. Saturday’s events will begin with coffee and doughnuts at 8:00 a.m. with book signings and box lunch while speakers are presenting. \nThe highlights of the conference will be three presentations: Ann Benson McGlone\, AIA\, Preservation Specialist\, will speak on Victorian architecture – the historical context\, as well as the development of different styles within the period of 1837-1901\, which was the reign of Queen Victoria. Ann McGlone will cover the Carpenter Gothic\, Italianate\, 2nd Empire (Mansard) and Queen Anne. Mike McGlone\, AIA\, Founding Principal/Owner Alamo Architects\, will speak on Citizen Architect; how art\, architecture and architects contribute to community. Doug Kubicek\, Author\, “Grand\, Complete\, and Perfect: The Lavaca County Courthouse”\, will speak on how the railroad impacted architecture. The Texas Society of Architects contest judges will be Ann Benson McGone\, AIA\, President of Preservation Texas\, a statewide advocacy organization of preservation and Mike McGlone\, AIA\, President of the Texas Society of Architects\, both from San Antonio. To introduce the winners\, the awards will be presented with a free open-house reception to the public. The reception will begin at 3:00 p.m. to 4:00 p.m.\, refreshments will be provided. \nThe Texas Society of Architects is a state component of the American Institute of Architects. Founded in 1939\, TSA is one of the nation’s largest organizations for the architectural profession\, with 17 regional chapters and more than 6\,500 members. The TSA provided the following statement for this event: \nThe Texas Society of Architects’ mission statement is to be “the voice for Texas architecture\, supporting the creation of safe\, beautiful\, sustainable environments.”  As such\, we are advocates for architecture.  We promote good design and the benefits that good design can bring to our communities. \nTexas’ courthouses are a cherished part of our state’s history\, and Eugene Heiner was instrumental in the creation of many of these beautiful buildings. What better way to celebrate the impact that architecture can bring to our communities than to gather in Hallettsville beneath a beautiful Texas courthouse and honor the work of a great Texas architect. \nAdditional support for the event comes from Dr. Betty Edwards\, owner of the Kahn & Stanzel Building; the City of Hallettsville; and Friends of Hallettsville Downtown Revitalization. Committee persons for the event include Gayle Bludau\, Linda Cejka\, Mieko Mahi\, and Alice Vickers. Bookmark www.halletoakgallery.com for calendar-of-events or call 361-217-7030. Hallet Oak Gallery is located at 115 N. Main St.\, Hallettsville\, TX 77964. \nThird ANnual Hallet Oak Gallery Art in Architecture Conference \npartnering with Texas Society of ARCHITECTS: “Celebrating Victorian Design” \nJune 8 – 9\, 2018 \nP R O G R A M \n Thursday\, June 7   Preregister $25 for Free Box Lunch ($15 Seniors\, Teachers and Students) \n4:00 – 7:00 PM     Drop Off Contest Entries: $20 Adults Application Fee ($15 Students) \nFriday\, June 8          \n 4:00 –5:00 PM        Courthouse Tours with James A. Jakubek. \n4:00 –7:00 PM        Drop Off Deadline for Entries \n7:00 – 9:00 PM       Paulina Puljek Lord\, Classical Guitarist ($10 donation\, free for children) \n  \nSaturday\, June 9 \n8:00 AM — Noon      Donuts\, Coffee & Book-Signings \n9:00 AM – 10 AM     Courthouse Tours with James A. Jakubek \n12:00 – 1:45 PM       Victorian Architecture by Ann McGlone\, AIA\, Preservation Specialist \n1:00 – 1:45 PM       Citizen Architect by Mike McGlone\, AIA\, Principle\, Alamo Architects \n2:00 – 2: 45 PM       Impact of Railroads by Doug Kubicek\, Author \n“Grand\, Complete\, and Perfect: The Lavaca County Courthouse” \n3:00 – 4:00 PM         Awards Presentation and Free to the public reception – TXA Judges: \nAnn McGlone\, AIA\, President\, Preservation Texas and \nMike McGone\, AIA\, President\, Texas Society of Architects \n  \nConference participants must preregister by mail or leave a voice message at 361-217-7030 by June 7 to receive a boxed lunch on Saturday. Tickets are $25 or $15 for seniors\, teachers\, or students. Walk-ins are welcome and bring own lunch. \nHallet Oak Gallery\, Historic Kahn & Stanzel Bldg.\, 115\, N. Main St.\, Hallettsville\, TX 77964 \n  \nLive Music \nPaulina Puljek Lord\, Classical Guitarist\n  \n  \n  \n  \n  \n  \nPaulina Puljek Lord\, classical guitarist\, was born in Croatia\, where she started her musical education and gained her first performing experiences on both the guitar and the Croatian folk instrument\, the tamburitza. She continued her education in the United States\, and recently earned her DMA under Professor Adam Holzman at the University of Texas at Austin. Paulina will perform music from the Queen Victoria era\, with selections from composers such as Fernando Carulli (1770-1841); Dionisio Aguado (1784-1849); Francisco Tarrega (1852-1909); Mauro Giuliani (1781-1829); Johann Kaspar Mertz (1800-1856); Fernando Sor (1778-1839); and Giulio Regondi (1823-1872)\, as well as Arthur Sullivan (1842-1900) of the hugely popular theatrical partnership of Gilbert and Sullivan. She will also play some of her original arrangements of popular music\, and pieces composed by her former professor Miroslav Loncar. \n  \nGuest Speakers \n  \n  \n \nAnn McGlone\, AIA\, Principal of Alamo Architects\, is nationally recognized for her preservation work and now serves as President of the Preservation Texas. Ann has thirty years creating and preserving urban spaces. She has been restoration architect for the Grand Central Terminal in New York City\, the Willard Hotel in Washington\, D.C. and the Fairmount Hotel in San Antonio\, TX. She has served on the public sector as the Historic Preservation Officer for San Antonio\, Texas where she oversaw design review of the famous Riverwalk\, and over 26 historic districts. As former City Manger of the city of Alamo Heights\, Texas\, she brings management experience and firsthand knowledge of municipal government. \n  \n \nMike McGlone\, AIA\, Principal of Alamo Architects\, from Pasadena\, attended the School of Architecture at the University at Austin. His company is focused on K-12\, Higher Education\, Retail\, and Commercial Development\, Preservation and Adaptive Reuse\, Multi-Family\, Interiors\, Urban Design\, Civic Engagement and Master Planning. Mike is the current citizen architect\, curmudgeon-in-residence on the City of Alamo Heights Architectural Review Board and is President of the Texas Society  of Architects. \n \nDoug Kubicek\, Author of Grand\, Complete\, and Perfect: The Lavaca County Courthouse\, has had a life-long love of Texas history\, especially that of Lavaca County. As a child he explored fields\, bridges\, and graveyards\, bringing home arrowheads\, broken glass and other artifacts. Kubicek has taught history for 27 years\, primarily in Hallettsville. He received the Linden Heck Howell Outstanding Teaching of Texas History Award in 2011. Kubicek\, current president of the Lavaca Historical Commission\, has said\, “As a historian\, it is my belief that the past is endlessly fascinating and worth knowing. Everything and everyone has a history. It is one aspect of life that binds all humanity together\, especially as Texans.” \nThird Annual Hallet Oak Gallery Art in Architecture  \n Partnering with Texas Society of Architects – June 8 – 9\, 2018 \nHistoric KAHN & STANZEL BUILDING – HallettsvILLE\, TX  \nwww.halletoakgallery.com \n  \n  \nR E G I S T R A T I O N   F O R M \nFill out or leave voice message at 361-217-7030 to rsvp to reserve box lunches. \n  \nNAME: \nCONTACT ADDRESS:  \nCITY\, STATE\, ZIP:  \nPHONE NUMBER: \n EMAIL ADDRESS:   \nREGISTRATION INCLUDES LUNCH \nMake checks to Hallet Oak Gallery. $25 per person. $15 for Student\, Teacher\, or Senior Citizen. Walk-ins are welcome but will not receive lunch. \nPRE-REGISTRATON FEE(S) ENCLOSED: $                                   NUMBER OF PERSONS:          \nMAIL TO: \n Hallet Oak Gallery \nHistorical Kahn & Stanzel Bldg. \n115 N. Main Street or PO BOX 968  \nHallettsville\, TX 77964 \n  \nRules FOR HISTORICAL Art Contest \n Awards: \nAdults\, ages 20 and up\, First and Second Place for Excellence \nTeens\, ages 12-19\, First and Second Place for Excellence \nChildren\, ages 6-11\, First and Second Place for Excellence \nBest of Show “Judges Choice” $200 cash prize \n  \nEntry Fee:                       $20 per entry ($15 for students)\, two entry fees includes 1 pass to conference \n  \nEntry Drop Off               Thursday\, June 8 2017\, 4:00 — 7:00 PM \n  \nRules:                                Must be present to win cash prize. \nArtworks must be picked up Saturday after event or within 30 days. \nThird Annual Hallet Oak Gallery Art in Architecture \n Partnering with Texas Society of Architects – June 8 – 9\, 2018 \nHistoric KAHN & STANZEL BUILDING – Hallettsville\, TX  \n  \nA distinguished panel of Texas Society of Architects will begin voting on contest entries when the doors open at 9:00 AM Saturday\, June 9\, 2018. Winners will be announced at 3:00 PM. It will be fun! \nEntries in the contest may be in any medium (painting\, sculpture\, photography\, or other) but must illustrate some aspect Victorian design. Must be present at 3:00 PM to win the cash awards. \n  \nPlease fill out entry form below: \n  \n  \n  \nName:                                                   Street Address:                                                            \n  \nCity:                                                     State and Zip Code:                                                      \n  \nEmail address:                                                               \n  \nEntry Fee Paid:                                                                         Attending Lunch: Yes/No \n  \nFill out this out below for Judges to read: \n  \n  \n  \n  \nPresent School if applicable:____________________ Special Training:____________________ \n  \nDescription and Location of Inspiration\, include Medium:  \n  \n___________________________________________________________________________________ \n  \n___________________________________________________________________________________ \n  \nTitle of Entry:                                                                Circle one: Adult\, Teen\, or Child \n  \nHallet Oak Gallery Art Contest Guidelines: \n  \n  \nContest Entry Drop Off Dates:  \nThursday\, June 7                   4 PM – 7 PM \nFriday\, June 9                        4 PM – 7 PM \nMust retrieve artworks on Saturday at 5 PM or within 30 days of event. \nAll ages are welcome: \nThere will be prizes! Must be present to win cash. \nVoting will begin when the doors open at 9:00 a.m. by a distinguished panel by Texas Society of Architects and winners will be announced at 3:00 p.m.  It will be a good time! \n  \nChild  Ages 6 yrs – 11 yrs –2 places – First & Second Place for Excellence \n  \nTeen Ages 12 to 19—2 places –  First & Second Place for Excellence \n  \nAdult 20 & up–2 places –  First & Second Place for Excellence \n  \nBest of Show –Judge’s choice \n  \nAll divisions will receive prizes Best of Show- will receive a $200 cash prize. If not present\, the cash prize will go to next runner up. \n  \nRules for entry\, please include: Name\, Address\, Email\, phone\, title\, date created\, specify medium\, description and location of inspiration. $20   Entry fee with each entry. \nVoting will begin at 9:00 a.m. on Saturday when the Gallery opens and will continue until 2:30 p.m. There will be a free reception open to the public from 3 p.m. to 4p.m. and awards will be presented. \nAbout Victorian Design: \nTypes of Victorian Houses:  \nSecond  Empire style 1855 – 1885 (Lay Bozka House\, Hallettsville\, TX) \nStick style  1869ca.  – 1890 \nQueen Anne style 1880 – 1900 \nShingle style 1880 – 1900 \nRichardsonian Romanesque style 1880 – 1900 (Lavaca County Courthouse\, Hallettsville) \nFolk Victorian style ca. 1870 – 1910 \nVictorian Style coincides with the Reign of Queen Victoria (Great Britain 1837-1901) \nThis includes: \nQueen Ann \nJacobethan \nItalianate \nGothic Revival – pointed arches\, tudor roofs \nVictorian Traits:  \nBay windows \nGable with 45 degree pitch (angles) \nStone – dressed red brick \nGlass leaded windows \nWrought Iron veranda \nVictorian Design was Popular in the 19th Century around the World:  \nTen’s of thousands were built in San Francisco due to fitting any size. \nThe British stuck with red brick with white stone. \n“Painted Ladies” is a term for painting details in three or more bright colors. \nThe English version is red brick with terra-cotta shingles\, and stone porch. \n  \n-msm- \n  \n  \n  \n  \nShare this:\n				Share on Facebook (Opens in new window)\n				Facebook\n			\n				Share on X (Opens in new window)\n				X\n			\n				Share on LinkedIn (Opens in new window)\n				LinkedIn\n			\n				Share on Pinterest (Opens in new window)\n				Pinterest\n			More\n				Share on Reddit (Opens in new window)\n				Reddit\n			\n				Share on Tumblr (Opens in new window)\n				Tumblr\n			\n				Email a link to a friend (Opens in new window)\n				Email\n			\n				Print (Opens in new window)\n				Print
URL:https://halletoakgallery.com/event/drop-off-art-contest-entries-for-victorian-design/
CATEGORIES:Art Contest
ATTACH;FMTTYPE=image/jpeg:https://halletoakgallery.com/wp-content/uploads/2018/05/brochurecover.jpeg
ORGANIZER;CN="Hallet Oak Gallery":MAILTO:venue@halletoakgallery.com
END:VEVENT
END:VCALENDAR