BEGIN:VCALENDAR
VERSION:2.0
PRODID:-//Hallet Oak Foundation Inc - ECPv6.15.20//NONSGML v1.0//EN
CALSCALE:GREGORIAN
METHOD:PUBLISH
X-WR-CALNAME:Hallet Oak Foundation Inc
X-ORIGINAL-URL:https://halletoakgallery.com
X-WR-CALDESC:Events for Hallet Oak Foundation Inc
REFRESH-INTERVAL;VALUE=DURATION:PT1H
X-Robots-Tag:noindex
X-PUBLISHED-TTL:PT1H
BEGIN:VTIMEZONE
TZID:America/Chicago
BEGIN:DAYLIGHT
TZOFFSETFROM:-0600
TZOFFSETTO:-0500
TZNAME:CDT
DTSTART:20190310T080000
END:DAYLIGHT
BEGIN:STANDARD
TZOFFSETFROM:-0500
TZOFFSETTO:-0600
TZNAME:CST
DTSTART:20191103T070000
END:STANDARD
BEGIN:DAYLIGHT
TZOFFSETFROM:-0600
TZOFFSETTO:-0500
TZNAME:CDT
DTSTART:20200308T080000
END:DAYLIGHT
BEGIN:STANDARD
TZOFFSETFROM:-0500
TZOFFSETTO:-0600
TZNAME:CST
DTSTART:20201101T070000
END:STANDARD
BEGIN:DAYLIGHT
TZOFFSETFROM:-0600
TZOFFSETTO:-0500
TZNAME:CDT
DTSTART:20210314T080000
END:DAYLIGHT
BEGIN:STANDARD
TZOFFSETFROM:-0500
TZOFFSETTO:-0600
TZNAME:CST
DTSTART:20211107T070000
END:STANDARD
BEGIN:DAYLIGHT
TZOFFSETFROM:-0600
TZOFFSETTO:-0500
TZNAME:CDT
DTSTART:20220313T080000
END:DAYLIGHT
BEGIN:STANDARD
TZOFFSETFROM:-0500
TZOFFSETTO:-0600
TZNAME:CST
DTSTART:20221106T070000
END:STANDARD
BEGIN:DAYLIGHT
TZOFFSETFROM:-0600
TZOFFSETTO:-0500
TZNAME:CDT
DTSTART:20230312T080000
END:DAYLIGHT
BEGIN:STANDARD
TZOFFSETFROM:-0500
TZOFFSETTO:-0600
TZNAME:CST
DTSTART:20231105T070000
END:STANDARD
END:VTIMEZONE
BEGIN:VEVENT
DTSTART;TZID=America/Chicago:20220129T120000
DTEND;TZID=America/Chicago:20220129T160000
DTSTAMP:20260423T180703
CREATED:20220129T230846Z
LAST-MODIFIED:20220129T230846Z
UID:10000645-1643457600-1643472000@halletoakgallery.com
SUMMARY:2022 Artists Exhibit – Winter Art Works!  
DESCRIPTION:Saturday\, October 15 \nHALLETTSVILLE: 2022 Artists Exhibit – Winter Art Works!   \nOctober 15 – December 10\, 2022 \nOpening reception for artists Saturday\, Oct. 15 from 12 – 4 PM \nStudent recognition awards from 3 – 4 PM \nHallet Oak Gallery \n115 N. Main Street\, Hallettsville\, TX 77964 \nAdmission is Free \nwww.halletoakgallery.com \n  \nAbout the 2022 Artists: \nPaintings: \nMoses Adams\, Adrénus Craton\, Mary Gullette\, Toni Conner\, Lucia Mueller\, Sarah Naomi\, acrylics; Georgia Pohl\, mixed-media; Dianne Appelt\, Karen Brosch\, Gene Grant\, Debbie Halling\, JoAnn Kahanek\, Kathleen McBride\, Elizabeth Payne\, Dennis Pesek\, Phyllis Rivera\, Lois Weiss\, Michael Windberg\, oil; Larry Charles\, watercolor. \nPhotography:  \nMark Curtin\, contemporary; Mieko Mahi\, industrial\, Ken Kopacki\, Steven Pituch\, landscape; Timothy Sadler\, wildlife. \n3 Dimensional: \nBlanche & Roy Cavarretta\, gourd art; Linda Cejka\, Darlene Immekus\, jewelry; James Phillips\, wood sculpture. \nHallet Oak Gallery\, 115 N. Main St.\, Hallettsville\, TX 77964 \nOpen Hours: Monday – Friday 12 – 2 PM and Saturdays 11 – 3 PM \nFor more information visit www.halletoakgallery.com  or call 361-217-7030. \nFree and open to public. Membership is not required. \nShare this:\n				Share on Facebook (Opens in new window)\n				Facebook\n			\n				Share on X (Opens in new window)\n				X\n			\n				Share on LinkedIn (Opens in new window)\n				LinkedIn\n			\n				Share on Pinterest (Opens in new window)\n				Pinterest\n			More\n				Share on Reddit (Opens in new window)\n				Reddit\n			\n				Share on Tumblr (Opens in new window)\n				Tumblr\n			\n				Email a link to a friend (Opens in new window)\n				Email\n			\n				Print (Opens in new window)\n				Print
URL:https://halletoakgallery.com/event/2022-artists-exhibit-winter-art-works/
CATEGORIES:art,Art Center with Exhibit
ATTACH;FMTTYPE=image/jpeg:https://halletoakgallery.com/wp-content/uploads/2019/01/web5x7_hog_art_opening_IMG_0940-1.jpg
END:VEVENT
BEGIN:VEVENT
DTSTART;TZID=America/Chicago:20220122T080000
DTEND;TZID=America/Chicago:20220122T170000
DTSTAMP:20260423T180703
CREATED:20220129T052742Z
LAST-MODIFIED:20220129T052753Z
UID:10000388-1642838400-1642870800@halletoakgallery.com
SUMMARY:
DESCRIPTION:Hallet Oak Gallery Regular Open Hours Resume \nMon. thru Fri. 12 – 2 PM \nSaturdays 11 -3 PM \nAdmission is Free \n361-217-7030 – Call for appointment after hours or for group tours \nwww.halletoakgallery.com \n  \nShare this:\n				Share on Facebook (Opens in new window)\n				Facebook\n			\n				Share on X (Opens in new window)\n				X\n			\n				Share on LinkedIn (Opens in new window)\n				LinkedIn\n			\n				Share on Pinterest (Opens in new window)\n				Pinterest\n			More\n				Share on Reddit (Opens in new window)\n				Reddit\n			\n				Share on Tumblr (Opens in new window)\n				Tumblr\n			\n				Email a link to a friend (Opens in new window)\n				Email\n			\n				Print (Opens in new window)\n				Print
URL:https://halletoakgallery.com/event/8532/
LOCATION:Hallet Oak Gallery
CATEGORIES:art,Art Center with Exhibit
END:VEVENT
BEGIN:VEVENT
DTSTART;TZID=America/Chicago:20210925T080000
DTEND;TZID=America/Chicago:20210925T120000
DTSTAMP:20260423T180704
CREATED:20210126T170427Z
LAST-MODIFIED:20210126T170524Z
UID:10000618-1632556800-1632571200@halletoakgallery.com
SUMMARY:Kolache & Coffee Open House
DESCRIPTION:Saturday\, September 25  \nHALLETTSVILLE: Kolache & Coffee Open House \n8:00 AM – Noon \nComplimentary coffee\, juice\, and kolaches while supplies last \nFree and open to the public \nIn Memory of Abdon Stanley Cejka \nHallet Oak Gallery\, 115 N. Main St.\, Hallettsville\, TX 77964 \nwww.halletoakgallery.com  361-217-7030 \nFree and open to the public. Membership not required. \nShare this:\n				Share on Facebook (Opens in new window)\n				Facebook\n			\n				Share on X (Opens in new window)\n				X\n			\n				Share on LinkedIn (Opens in new window)\n				LinkedIn\n			\n				Share on Pinterest (Opens in new window)\n				Pinterest\n			More\n				Share on Reddit (Opens in new window)\n				Reddit\n			\n				Share on Tumblr (Opens in new window)\n				Tumblr\n			\n				Email a link to a friend (Opens in new window)\n				Email\n			\n				Print (Opens in new window)\n				Print
URL:https://halletoakgallery.com/event/kolache-coffee-open-house/
LOCATION:Hallet Oak Gallery
CATEGORIES:art,Art Center with Exhibit
ATTACH;FMTTYPE=image/jpeg:https://halletoakgallery.com/wp-content/uploads/2019/01/web5x7_2018_free_events_at_hog_IMG_5890-1.jpg
END:VEVENT
BEGIN:VEVENT
DTSTART;TZID=America/Chicago:20201219T110000
DTEND;TZID=America/Chicago:20201219T170000
DTSTAMP:20260423T180704
CREATED:20200123T171509Z
LAST-MODIFIED:20200123T171545Z
UID:10000595-1608375600-1608397200@halletoakgallery.com
SUMMARY:Christkindlmarkt\, Downtown Hallettsville 11 AM – 5 PM
DESCRIPTION:Saturday\, December 19 \nHALLETTSVILLE: Christkindlmarkt\, Downtown Hallettsville 11 AM – 5 PM \nGingerbread House will be open. Christmas Art Market. Mieko Mahi\, industrial photographer will greet visitors. \nHallet Oak Gallery\, 115 N. Main St.\, Hallettsville\, TX 77964 www.halletoakgallery.com 361-217-7030 \nFree & open to public. \nShare this:\n				Share on Facebook (Opens in new window)\n				Facebook\n			\n				Share on X (Opens in new window)\n				X\n			\n				Share on LinkedIn (Opens in new window)\n				LinkedIn\n			\n				Share on Pinterest (Opens in new window)\n				Pinterest\n			More\n				Share on Reddit (Opens in new window)\n				Reddit\n			\n				Share on Tumblr (Opens in new window)\n				Tumblr\n			\n				Email a link to a friend (Opens in new window)\n				Email\n			\n				Print (Opens in new window)\n				Print
URL:https://halletoakgallery.com/event/christkindlmarkt-downtown-hallettsville-11-am-5-pm/
LOCATION:Hallet Oak Gallery
CATEGORIES:art,Art Center with Exhibit,Art Exhibit & Reception,Christkindlmarkt
ATTACH;FMTTYPE=image/jpeg:https://halletoakgallery.com/wp-content/uploads/2018/02/webIMG_4272-2.jpg
END:VEVENT
BEGIN:VEVENT
DTSTART;TZID=America/Chicago:20201128T110000
DTEND;TZID=America/Chicago:20201128T150000
DTSTAMP:20260423T180704
CREATED:20200123T170131Z
LAST-MODIFIED:20200123T170157Z
UID:10000587-1606561200-1606575600@halletoakgallery.com
SUMMARY:Exhibits 11 AM - 3 PM
DESCRIPTION:Saturday\, November 7 – 28 2020 Artist Exhibits  \nEvery Saturday 11 AM – 3 PM \nHALLETTSVILLE: Hallet Oak Gallery 2020 Exhibit is featuring over twenty artists! \nGallery tours and scavenger hunts. Exhibiting artists are Moses Adams\, Dianne Appelt\, Blanche Cavarretta\, Roy Cavarretta\, Linda Cejka\, Larry Charles\, Erica Estrada\, Mary Gullette\, Debbie Halling\, Ken Kopacki\, Mieko Mahi\, Paula Patterson\, Dennis Pesek\, James Phillips\, Steven Pituch\, Georgia Pohl\, Phyllis Rivera\, Timothy Sadler\, Lois Weiss\, Michael Windberg\, and Bria Woods.  \nHallet Oak Gallery\, 115 N. Main St.\, Hallettsville\, TX 77964 \nwww.halletoakgallery.com 361-217-7030 \nFree admission \n  \nLinda Cejka\, jewelry artist\, Debbie Halling\, watercolor and oil painter\, and Steven Pituch\, oil painter and photographer\, and Bria Woods\, portrait photographer will be available to greet visitors in November. \nShare this:\n				Share on Facebook (Opens in new window)\n				Facebook\n			\n				Share on X (Opens in new window)\n				X\n			\n				Share on LinkedIn (Opens in new window)\n				LinkedIn\n			\n				Share on Pinterest (Opens in new window)\n				Pinterest\n			More\n				Share on Reddit (Opens in new window)\n				Reddit\n			\n				Share on Tumblr (Opens in new window)\n				Tumblr\n			\n				Email a link to a friend (Opens in new window)\n				Email\n			\n				Print (Opens in new window)\n				Print
URL:https://halletoakgallery.com/event/exhibits-11-am-3-pm/2020-11-28/
LOCATION:Hallet Oak Gallery
CATEGORIES:Art Center with Exhibit
ATTACH;FMTTYPE=image/jpeg:https://halletoakgallery.com/wp-content/uploads/2019/03/web_center_IMG_6570.jpg
END:VEVENT
BEGIN:VEVENT
DTSTART;TZID=America/Chicago:20200926T110000
DTEND;TZID=America/Chicago:20200926T150000
DTSTAMP:20260423T180704
CREATED:20200123T154418Z
LAST-MODIFIED:20200123T154418Z
UID:10000573-1601118000-1601132400@halletoakgallery.com
SUMMARY:Gallery is open!
DESCRIPTION:Saturday\, September 5 – 26 2020 Artists Exhibit  \nEvery Saturday 11 AM -3 PM \nHALLETTSVILLE: Hallet Oak Gallery 2020 Exhibit features over twenty artists! \nGallery tours and scavenger hunts available. No admission Fee. Exhibits include Moses Adams\, Dianne Appelt\, Blanche Cavarretta\, Roy Cavarretta\, Linda Cejka\, Larry Charles\, Erica Estrada\, Mary Gullette\, Debbie Halling\, Ken Kopacki\, Mieko Mahi\, Paula Patterson\, Dennis Pesek\, James Phillips\, Steven Pituch\, Georgia Pohl\, Phyllis Rivera\, Timothy Sadler\, Lois Weiss\, Michael Windberg\, and Bria Woods.  \n  \nSteven Pituch\, oil painter and photographer\, Brea Woods\, portrait photographer and Mary Gullette\, mixed-media artist will be present in Gallery throughout September. Hallet Oak Gallery\, 115 N. Main St.\, Hallettsville\, TX 77964 www.halletoakgallery.com 361-217-7030. \nShare this:\n				Share on Facebook (Opens in new window)\n				Facebook\n			\n				Share on X (Opens in new window)\n				X\n			\n				Share on LinkedIn (Opens in new window)\n				LinkedIn\n			\n				Share on Pinterest (Opens in new window)\n				Pinterest\n			More\n				Share on Reddit (Opens in new window)\n				Reddit\n			\n				Share on Tumblr (Opens in new window)\n				Tumblr\n			\n				Email a link to a friend (Opens in new window)\n				Email\n			\n				Print (Opens in new window)\n				Print
URL:https://halletoakgallery.com/event/gallery-is-open/2020-09-26/
LOCATION:Hallet Oak Gallery
CATEGORIES:Art Center with Exhibit
ATTACH;FMTTYPE=image/jpeg:https://halletoakgallery.com/wp-content/uploads/2018/02/webIMG_2998-2.jpg
END:VEVENT
BEGIN:VEVENT
DTSTART;TZID=America/Chicago:20200829T110000
DTEND;TZID=America/Chicago:20200829T150000
DTSTAMP:20260423T180704
CREATED:20200123T150518Z
LAST-MODIFIED:20200123T150518Z
UID:10000563-1598698800-1598713200@halletoakgallery.com
SUMMARY:Gallery is Open! Meet the artists! Free tours and entry!
DESCRIPTION:Saturday\, August 1 – 29 2020 Artists Exhibit  \nEvery Saturday 11 AM to 3 PM \nHALLETTSVILLE: Hallet Oak Gallery 2020 Exhibit features over twenty artists! \nEnjoy a Gallery tour of the historic timeline about Hallettsville. Afterwards\, take the scavenger hunt challenge and win a prize! No admission Fee. Exhibits include Moses Adams\, Dianne Appelt\, Blanche Cavarretta\, Roy Cavarretta\, Linda Cejka\, Larry Charles\, Erica Estrada\, Mary Gullette\, Debbie Halling\, Ken Kopacki\, Mieko Mahi\, Paula Patterson\, Dennis Pesek\, James Phillips\, Steven Pituch\, Georgia Pohl\, Phyllis Rivera\, Timothy Sadler\, Lois Weiss\, Michael Windberg\, and Bria Woods.  \nHallet Oak Gallery\, 115 N. Main St.\, Hallettsville\, TX 77964 www.halletoakgallery.com 361-217-7030 \nFree \nTimothy Sadler\, wildlife and landscape photographer\, will be present in Gallery throughout August. \nShare this:\n				Share on Facebook (Opens in new window)\n				Facebook\n			\n				Share on X (Opens in new window)\n				X\n			\n				Share on LinkedIn (Opens in new window)\n				LinkedIn\n			\n				Share on Pinterest (Opens in new window)\n				Pinterest\n			More\n				Share on Reddit (Opens in new window)\n				Reddit\n			\n				Share on Tumblr (Opens in new window)\n				Tumblr\n			\n				Email a link to a friend (Opens in new window)\n				Email\n			\n				Print (Opens in new window)\n				Print
URL:https://halletoakgallery.com/event/gallery-is-open-meet-the-artists-free-tours-and-entry/2020-08-29/
LOCATION:Hallet Oak Gallery
CATEGORIES:Art Center with Exhibit,Space Tunnel
ATTACH;FMTTYPE=image/jpeg:https://halletoakgallery.com/wp-content/uploads/2020/01/web_opening_IMG_1378.jpg
END:VEVENT
BEGIN:VEVENT
DTSTART;TZID=America/Chicago:20200627T110000
DTEND;TZID=America/Chicago:20200627T150000
DTSTAMP:20260423T180704
CREATED:20200120T120902Z
LAST-MODIFIED:20200120T121204Z
UID:10000340-1593255600-1593270000@halletoakgallery.com
SUMMARY:Gallery is Open! See sculptures\, photography\, collage\, mixed media\, carvings\, drawing\, and jewelry for sale! Meet the artists!
DESCRIPTION:Every Saturday\, June 6 – 27 2020 Artists Exhibit and Scavenger Hunts for Children. Space Tunnel will be open. \n11 AM to 3 PM \nHALLETTSVILLE: Painting\, sculpture\, photography\, collage\, mixed media\, carvings\, drawing\, and jewelry artists include: Moses Adams\, Dianne Appelt\, Blanche Cavarretta\, Roy Cavarretta\, Linda Cejka\, Larry Charles\, Erica Estrada\, Mary Gullette\, Debbie Halling\, Ken Kopacki\, Mieko Mahi\, Paula Patterson\, Dennis Pesek\, James Phillips\, Steven Pituch\, Georgia Pohl\, Phyllis Rivera\, Timothy Sadler\, Lois Weiss\, Michael Windberg\, and Bria Woods. \nLois Weiss\, oil painter\, Paula Patterson\, acrylic painter and Steven Pituch\, oil painter and photographer\, will be present throughout June \nHallet Oak Gallery\, 115 N. Main St.\, Hallettsville\, TX 77964 www.halletoakgallery.com 361-217-7030 \nFree \nShare this:\n				Share on Facebook (Opens in new window)\n				Facebook\n			\n				Share on X (Opens in new window)\n				X\n			\n				Share on LinkedIn (Opens in new window)\n				LinkedIn\n			\n				Share on Pinterest (Opens in new window)\n				Pinterest\n			More\n				Share on Reddit (Opens in new window)\n				Reddit\n			\n				Share on Tumblr (Opens in new window)\n				Tumblr\n			\n				Email a link to a friend (Opens in new window)\n				Email\n			\n				Print (Opens in new window)\n				Print
URL:https://halletoakgallery.com/event/gallery-is-open-see-sculptures-photography-collage-mixed-media-carvings-drawing-and-jewelry-for-sale/2020-06-27/
LOCATION:Hallet Oak Gallery
CATEGORIES:Art Center with Exhibit,Gallery is Open,Historical,Historical Building,Space Tunnel
ATTACH;FMTTYPE=image/jpeg:https://halletoakgallery.com/wp-content/uploads/2020/01/web_opening_MG_8206.jpg
ORGANIZER;CN="Hallet Oak Gallery":MAILTO:venue@halletoakgallery.com
END:VEVENT
BEGIN:VEVENT
DTSTART;TZID=America/Chicago:20200530T080000
DTEND;TZID=America/Chicago:20200530T170000
DTSTAMP:20260423T180704
CREATED:20200120T122846Z
LAST-MODIFIED:20200120T122846Z
UID:10000346-1590825600-1590858000@halletoakgallery.com
SUMMARY:Gallery is Open! Space Tunnel is Open! Art to buy! Come in to browse!
DESCRIPTION:Saturday\, May 2 – 30 2020 Artists Exhibit  \nEvery Saturday 11 AM to 3 PM \nHALLETTSVILLE: Hallet Oak Gallery 2020 Artists will display painting\, sculpture\, photography\, collage\, mixed media\, carvings\, drawing\, and jewelry. The artists include: Moses Adams\, Dianne Appelt\, Blanche Cavarretta\, Roy Cavarretta\, Linda Cejka\, Larry Charles\, Erica Estrada\, Mary Gullette\, Debbie Halling\, Ken Kopacki\, Mieko Mahi\, Paula Patterson\, Dennis Pesek\, James Phillips\, Steven Pituch\, Georgia Pohl\, Phyllis Rivera\, Timothy Sadler\, Lois Weiss\, Michael Windberg\, and Bria Woods.  \nHallet Oak Gallery\, 115 N. Main St.\, Hallettsville\, TX 77964 www.halletoakgallery.com 361-217-7030. Free. \nLois Weiss\, oil painter\, Mary Gullette\, mixed-media and Ken Kopacki\, landscape photographer\, Michael Windberg\, oil painter instructor\, and Blanche & Roy Cavarretta\, gourd artists will be present throughout May. \nShare this:\n				Share on Facebook (Opens in new window)\n				Facebook\n			\n				Share on X (Opens in new window)\n				X\n			\n				Share on LinkedIn (Opens in new window)\n				LinkedIn\n			\n				Share on Pinterest (Opens in new window)\n				Pinterest\n			More\n				Share on Reddit (Opens in new window)\n				Reddit\n			\n				Share on Tumblr (Opens in new window)\n				Tumblr\n			\n				Email a link to a friend (Opens in new window)\n				Email\n			\n				Print (Opens in new window)\n				Print
URL:https://halletoakgallery.com/event/gallery-is-open-space-tunnel-is-open-art-to-buy-come-in-to-browse/2020-05-30/
CATEGORIES:Art Center with Exhibit,Space Tunnel
ATTACH;FMTTYPE=image/jpeg:https://halletoakgallery.com/wp-content/uploads/2020/01/3x2_art_market_roy_cavarretta_gourd_IMG_0050.jpg
END:VEVENT
BEGIN:VEVENT
DTSTART;TZID=America/Chicago:20200425T110000
DTEND;TZID=America/Chicago:20200425T150000
DTSTAMP:20260423T180704
CREATED:20200120T040249Z
LAST-MODIFIED:20200120T040249Z
UID:10000327-1587812400-1587826800@halletoakgallery.com
SUMMARY:Gallery is open! Art for Sale! Enjoy Scavenger Hunts & Space Tunnel!
DESCRIPTION:Saturday\, April 4 – 25 2020 Artists Exhibit  \nEvery Saturday 11 AM – 3 PM Space Tunnel will be open & Scavenge Hunts for Children! 2020 Exhibit is on display! \nHALLETTSVILLE: Painting\, sculpture\, photography\, collage\, mixed media\, carvings\, drawing\, and jewelry artists\, include: Moses Adams\, Dianne Appelt\, Blanche Cavarretta\, Roy Cavarretta\, Linda Cejka\, Larry Charles\, Erica Estrada\, Mary Gullette\, Debbie Halling\, Ken Kopacki\, Mieko Mahi\, Paula Patterson\, Dennis Pesek\, James Phillips\, Steven Pituch\, Georgia Pohl\, Phyllis Rivera\, Timothy Sadler\, Lois Weiss\, Michael Windberg\, and Bria Woods.  \nLois Weiss\, oil painter\, Debbie Halling\, oil and watercolor painter\, and Bria Woods\, portrait photographer will greet visitors in April. \nHallet Oak Gallery\, 115 N. Main St.\, Hallettsville\, TX 77964 www.halletoakgallery.com 361-217-7030 \nFree \nShare this:\n				Share on Facebook (Opens in new window)\n				Facebook\n			\n				Share on X (Opens in new window)\n				X\n			\n				Share on LinkedIn (Opens in new window)\n				LinkedIn\n			\n				Share on Pinterest (Opens in new window)\n				Pinterest\n			More\n				Share on Reddit (Opens in new window)\n				Reddit\n			\n				Share on Tumblr (Opens in new window)\n				Tumblr\n			\n				Email a link to a friend (Opens in new window)\n				Email\n			\n				Print (Opens in new window)\n				Print
URL:https://halletoakgallery.com/event/gallery-is-open-art-for-sale-enjoy-scavenger-hunts-space-tunnel/2020-04-25/
LOCATION:Hallet Oak Gallery
CATEGORIES:art,Art Center with Exhibit,Space Tunnel
ATTACH;FMTTYPE=image/jpeg:https://halletoakgallery.com/wp-content/uploads/2020/01/web__space_station_opens-in-spring_IMG_8377.jpg
ORGANIZER;CN="Hallet Oak Gallery":MAILTO:venue@halletoakgallery.com
END:VEVENT
BEGIN:VEVENT
DTSTART;TZID=America/Chicago:20200328T110000
DTEND;TZID=America/Chicago:20200328T150000
DTSTAMP:20260423T180704
CREATED:20200120T033500Z
LAST-MODIFIED:20200120T033613Z
UID:10000548-1585393200-1585407600@halletoakgallery.com
SUMMARY:Doors are open! See exhibits & enjoy activities!
DESCRIPTION:Every Saturday\, March 7 – 28 Doors are open every Saturday to view 2020 Artists Exhibit! Scavenger Hunts for Children! \nHALLETTSVILLE: There is not an admission fee to enter Gallery. Hallet Oak Foundation\, a 501 (3) c nonprofit\, operates Hallet Oak Gallery as a place to see and enjoy art. Donations are appreciated. The 2020 Artists include: Moses Adams\, Dianne Appelt\, Blanche Cavarretta\, Roy Cavarretta\, Linda Cejka\, Larry Charles\, Erica Estrada\, Mary Gullette\, Debbie Halling\, Ken Kopacki\, Mieko Mahi\, Paula Patterson\, Dennis Pesek\, James Phillips\, Steven Pituch\, Georgia Pohl\, Phyllis Rivera\, Timothy Sadler\, Lois Weiss\, Michael Windberg\, and Bria Woods.  \nHallet Oak Gallery\, 115 N. Main St.\, Hallettsville\, TX 77964 www.halletoakgallery.com 361-217-7030 \nFree \nLois Weiss\, oil painter\, Ken Kopacki\, landscape photographer\, and Bria Woods\, portrait photographer\, and Debbie Halling\, watercolor and oil painter\, will be present in Gallery throughout March. \nShare this:\n				Share on Facebook (Opens in new window)\n				Facebook\n			\n				Share on X (Opens in new window)\n				X\n			\n				Share on LinkedIn (Opens in new window)\n				LinkedIn\n			\n				Share on Pinterest (Opens in new window)\n				Pinterest\n			More\n				Share on Reddit (Opens in new window)\n				Reddit\n			\n				Share on Tumblr (Opens in new window)\n				Tumblr\n			\n				Email a link to a friend (Opens in new window)\n				Email\n			\n				Print (Opens in new window)\n				Print
URL:https://halletoakgallery.com/event/doors-are-open-see-exhibits-enjoy-activities/2020-03-28/
LOCATION:Hallet Oak Gallery
CATEGORIES:Art Center with Exhibit,Scavenger Hunts
ATTACH;FMTTYPE=image/jpeg:https://halletoakgallery.com/wp-content/uploads/2020/01/web_gallery_openingIMG_1856.jpg
ORGANIZER;CN="Hallet Oak Gallery":MAILTO:venue@halletoakgallery.com
END:VEVENT
BEGIN:VEVENT
DTSTART;TZID=America/Chicago:20200229T110000
DTEND;TZID=America/Chicago:20200229T150000
DTSTAMP:20260423T180704
CREATED:20200119T150738Z
LAST-MODIFIED:20200120T032823Z
UID:10000541-1582974000-1582988400@halletoakgallery.com
SUMMARY:Hallet Oak Gallery Doors are Open!
DESCRIPTION:Every Saturday\, February 15 – 29 Doors are open Saturdays for viewing the works of the 2020 Artists  \nHALLETTSVILLE: Hallet Oak Gallery is now showing the 2020 Artists Exhibit featuring over twenty artists: Moses Adams\, Dianne Appelt\, Blanche Cavarretta\, Roy Cavarretta\, Linda Cejka\, Larry Charles\, Erica Estrada\, Mary Gullette\, Debbie Halling\, Ken Kopacki\, Mieko Mahi\, Paula Patterson\, Dennis Pesek\, James Phillips\, Steven Pituch\, Georgia Pohl\, Phyllis Rivera\, Timothy Sadler\, Lois Weiss\, Michael Windberg\, and Bria Woods.  Local oil painter artist\, Dianne Appelt will be present.  \nOpen hours Saturdays 11:00 AM – 3:00 PM. \nHallet Oak Gallery\, 115 N. Main St.\, Hallettsville\, TX 77964 www.halletoakgallery.com 361-217-7030 \nFree admission. Adult and children scavenger hunts and Gallery tours are available to visitors. \nShare this:\n				Share on Facebook (Opens in new window)\n				Facebook\n			\n				Share on X (Opens in new window)\n				X\n			\n				Share on LinkedIn (Opens in new window)\n				LinkedIn\n			\n				Share on Pinterest (Opens in new window)\n				Pinterest\n			More\n				Share on Reddit (Opens in new window)\n				Reddit\n			\n				Share on Tumblr (Opens in new window)\n				Tumblr\n			\n				Email a link to a friend (Opens in new window)\n				Email\n			\n				Print (Opens in new window)\n				Print
URL:https://halletoakgallery.com/event/hallet-oak-gallery-doors-are-open/2020-02-29/
LOCATION:Hallet Oak Gallery
CATEGORIES:Architecture,art,Art Center with Exhibit
ATTACH;FMTTYPE=image/jpeg:https://halletoakgallery.com/wp-content/uploads/2020/01/web_opening_IMG_1378.jpg
ORGANIZER;CN="Hallet Oak Gallery":MAILTO:venue@halletoakgallery.com
END:VEVENT
END:VCALENDAR