BEGIN:VCALENDAR
VERSION:2.0
PRODID:-//Hallet Oak Foundation Inc - ECPv6.15.20//NONSGML v1.0//EN
CALSCALE:GREGORIAN
METHOD:PUBLISH
X-WR-CALNAME:Hallet Oak Foundation Inc
X-ORIGINAL-URL:https://halletoakgallery.com
X-WR-CALDESC:Events for Hallet Oak Foundation Inc
REFRESH-INTERVAL;VALUE=DURATION:PT1H
X-Robots-Tag:noindex
X-PUBLISHED-TTL:PT1H
BEGIN:VTIMEZONE
TZID:America/Chicago
BEGIN:DAYLIGHT
TZOFFSETFROM:-0600
TZOFFSETTO:-0500
TZNAME:CDT
DTSTART:20220313T080000
END:DAYLIGHT
BEGIN:STANDARD
TZOFFSETFROM:-0500
TZOFFSETTO:-0600
TZNAME:CST
DTSTART:20221106T070000
END:STANDARD
BEGIN:DAYLIGHT
TZOFFSETFROM:-0600
TZOFFSETTO:-0500
TZNAME:CDT
DTSTART:20230312T080000
END:DAYLIGHT
BEGIN:STANDARD
TZOFFSETFROM:-0500
TZOFFSETTO:-0600
TZNAME:CST
DTSTART:20231105T070000
END:STANDARD
BEGIN:DAYLIGHT
TZOFFSETFROM:-0600
TZOFFSETTO:-0500
TZNAME:CDT
DTSTART:20240310T080000
END:DAYLIGHT
BEGIN:STANDARD
TZOFFSETFROM:-0500
TZOFFSETTO:-0600
TZNAME:CST
DTSTART:20241103T070000
END:STANDARD
BEGIN:DAYLIGHT
TZOFFSETFROM:-0600
TZOFFSETTO:-0500
TZNAME:CDT
DTSTART:20250309T080000
END:DAYLIGHT
BEGIN:STANDARD
TZOFFSETFROM:-0500
TZOFFSETTO:-0600
TZNAME:CST
DTSTART:20251102T070000
END:STANDARD
BEGIN:DAYLIGHT
TZOFFSETFROM:-0600
TZOFFSETTO:-0500
TZNAME:CDT
DTSTART:20260308T080000
END:DAYLIGHT
BEGIN:STANDARD
TZOFFSETFROM:-0500
TZOFFSETTO:-0600
TZNAME:CST
DTSTART:20261101T070000
END:STANDARD
END:VTIMEZONE
BEGIN:VTIMEZONE
TZID:UTC
BEGIN:STANDARD
TZOFFSETFROM:+0000
TZOFFSETTO:+0000
TZNAME:UTC
DTSTART:20160101T000000
END:STANDARD
END:VTIMEZONE
BEGIN:VEVENT
DTSTART;TZID=America/Chicago:20250111T140000
DTEND;TZID=America/Chicago:20250111T180000
DTSTAMP:20260423T192032
CREATED:20240220T135447Z
LAST-MODIFIED:20240220T135728Z
UID:10003814-1736604000-1736618400@halletoakgallery.com
SUMMARY:Annual Art Auction Fundraiser - A Special Soiree!
DESCRIPTION:Annual Art Auction Fundraiser Soiree. Saturday\, January 11\, 2025 2 pm – 6 pm \n$55 per ticket or $100 per couple. RSVP Required. Leave voice message at 361-217-7030. \nSilent Auction & Live Auction Items may be dropped the day before Soiree from 4 pm to 7 pm – A docent will be there on Friday\, January 10\, 2025 to receive donation items\, such as desired artworks\,  beautiful gift baskets\, and/or unique travel experiences. \nShare this:\n				Share on Facebook (Opens in new window)\n				Facebook\n			\n				Share on X (Opens in new window)\n				X\n			\n				Share on LinkedIn (Opens in new window)\n				LinkedIn\n			\n				Share on Pinterest (Opens in new window)\n				Pinterest\n			More\n				Share on Reddit (Opens in new window)\n				Reddit\n			\n				Share on Tumblr (Opens in new window)\n				Tumblr\n			\n				Email a link to a friend (Opens in new window)\n				Email\n			\n				Print (Opens in new window)\n				Print
URL:https://halletoakgallery.com/event/annual-art-auction-fundraiser-a-special-soiree/
LOCATION:Hallet Oak Gallery
CATEGORIES:Annual Event with Nominal fee
ATTACH;FMTTYPE=image/jpeg:https://halletoakgallery.com/wp-content/uploads/2024/02/4x4_gala_magejpeg_1.jpg
END:VEVENT
BEGIN:VEVENT
DTSTART;TZID=America/Chicago:20231209T110000
DTEND;TZID=America/Chicago:20231209T150000
DTSTAMP:20260423T192032
CREATED:20230101T224542Z
LAST-MODIFIED:20231121T220503Z
UID:10000721-1702119600-1702134000@halletoakgallery.com
SUMMARY:See the Christmas Lights and Artworks on Display. The Gallery will be open today and then remain closed until February's New Spring/Summer Exhibit Opening!
DESCRIPTION:Saturday\, December 9\, 2023 \n11 AM to 3 pm \nSee the Christmas lights and Artworks on Display.  \nHallet Oak Gallery\, 115 N Main St.\, Hallettsville\, TX 77964 \n  \nSip a cup of coco or coffee at  your hometown gallery.  Special small gift items created by our artists\, starting at $12\, are available\, along with their larger works.  Beautiful paintings\, photographs\, gourds\, and wood sculptures are perfect for that unique gift for someone special\, a gift that reflects Lavaca County\, Texas! Have the satisfaction of displaying an original artwork in your home or office as you support your small town community of award-winning artists!   \n  \n  \n  \nShare this:\n				Share on Facebook (Opens in new window)\n				Facebook\n			\n				Share on X (Opens in new window)\n				X\n			\n				Share on LinkedIn (Opens in new window)\n				LinkedIn\n			\n				Share on Pinterest (Opens in new window)\n				Pinterest\n			More\n				Share on Reddit (Opens in new window)\n				Reddit\n			\n				Share on Tumblr (Opens in new window)\n				Tumblr\n			\n				Email a link to a friend (Opens in new window)\n				Email\n			\n				Print (Opens in new window)\n				Print
URL:https://halletoakgallery.com/event/7th-annual-christmas-in-a-small-town-wine-walk-a-chamber-city-event/
LOCATION:Hallet Oak Gallery
CATEGORIES:Annual Event with Nominal fee,Small Town Wine Walk
ATTACH;FMTTYPE=image/jpeg:https://halletoakgallery.com/wp-content/uploads/2023/01/web_christmas_lights_building_MG_7987.jpg
END:VEVENT
BEGIN:VEVENT
DTSTART;TZID=UTC:20180106T183000
DTEND;TZID=UTC:20180106T213000
DTSTAMP:20260423T192032
CREATED:20171031T004104Z
LAST-MODIFIED:20171031T182121Z
UID:10000192-1515263400-1515274200@halletoakgallery.com
SUMMARY:Hallet Oak Gallery Fundraiser Gala 6:30 pm to 9:30 pm R.S.V.P. Docents: Mieko\, Alice\, Aaron\, Linda\, and Shirley.
DESCRIPTION:R.S.V.P. by Jan 3rd. Tickets are advanced purchase at $50 each. Auction items are needed anytime before event during regular open hours. \nJan.6\, 2018 –  Hallet Oak Gallery Fundraiser Gala featuring Live  Accordion Cowboy Music\, Dinner\, Dance & Silent Auction – \nSpotlight on the Arts artist is Tim Sadler\, wildlife photographer! \nDancing for the Arts in 2018! \nFeaturing Chris Rybak Live Cowboy Music\, Dinner & Silent Auction \nLocated at the Hallet Oak Gallery Downtown Hallettsville Courthouse Square \nThe Hallet Oak Gallery is extending an invitation for the public to RSVP to the Hallet Oak Gallery Fundraising Gala that will help continue the type of programs being offered since 2015. Ongoing events are: “Spotlight on the Arts” receptions\, “2nd Monday Night Music at the HOG”\, “and Hallet Oak Gallery Lunch and Learns”. Annual special events include the Art in Architecture contest\, Juneteenth Celebration\, Halloween Pumpkin Contest\, and Christkindlmarkt. \nThe 2018 Hallet Oak Gallery Fundraiser Gala is set for Saturday\, January 6\, 2018. Doors open at 6:30 p.m. and continues through the evening until 9:30 p.m. Experience a casual\, yet beautiful dinner\, dancing\, and silent auction in the historic Kahn & Stanzel building. Chris Rybak will be performing accordion cowboy music. $25 per couple; $15 per individual. The dress code is Cowboy Chic for this event. RSVP: 361-217-7030. Hallet Oak Foundation is a 501 ( c ) 3 non-profit organization which is the parent company to Hallet Oak Gallery and Friends of Hallettsville Downtown Revitalization. \nFounders\, Mieko Mahi\, Alice Vickers\, and Claire Scoggin explain\, “We are inspiring and exercising minds! We are seeing more happenings in downtown Hallettsville and our goal is to continue offering more exposure to art and culture within our community\, as well\, as preserving the history of Hallettsville. For more information about the organization visit www.halletoakgallery.com and www.halletoakfoundation.com. \n  \nShare this:\n				Share on Facebook (Opens in new window)\n				Facebook\n			\n				Share on X (Opens in new window)\n				X\n			\n				Share on LinkedIn (Opens in new window)\n				LinkedIn\n			\n				Share on Pinterest (Opens in new window)\n				Pinterest\n			More\n				Share on Reddit (Opens in new window)\n				Reddit\n			\n				Share on Tumblr (Opens in new window)\n				Tumblr\n			\n				Email a link to a friend (Opens in new window)\n				Email\n			\n				Print (Opens in new window)\n				Print
URL:https://halletoakgallery.com/event/hallet-oak-gallery-fundraiser-gala-630-pm-to-930-pm-rsvp-50-mieko-alice-aaron-linda-shirley/
CATEGORIES:Annual Event with Nominal fee,Fundraising
ATTACH;FMTTYPE=image/jpeg:https://halletoakgallery.com/wp-content/uploads/2017/01/foundation_seal_small.jpg
ORGANIZER;CN="Hallet Oak Gallery":MAILTO:venue@halletoakgallery.com
END:VEVENT
BEGIN:VEVENT
DTSTART;TZID=UTC:20180105T160000
DTEND;TZID=UTC:20180105T190000
DTSTAMP:20260423T192032
CREATED:20171031T003617Z
LAST-MODIFIED:20171031T003737Z
UID:10000191-1515168000-1515178800@halletoakgallery.com
SUMMARY:Auction Item drop-off 4 pm to 7 pm
DESCRIPTION:Share this:\n				Share on Facebook (Opens in new window)\n				Facebook\n			\n				Share on X (Opens in new window)\n				X\n			\n				Share on LinkedIn (Opens in new window)\n				LinkedIn\n			\n				Share on Pinterest (Opens in new window)\n				Pinterest\n			More\n				Share on Reddit (Opens in new window)\n				Reddit\n			\n				Share on Tumblr (Opens in new window)\n				Tumblr\n			\n				Email a link to a friend (Opens in new window)\n				Email\n			\n				Print (Opens in new window)\n				Print
URL:https://halletoakgallery.com/event/auction-item-drop-off-4-pm-to-7-pm/
CATEGORIES:Annual Event with Nominal fee,Fundraising
ATTACH;FMTTYPE=image/jpeg:https://halletoakgallery.com/wp-content/uploads/2015/04/smhallet_oak_foundation_logo-e1509392216252.jpg
END:VEVENT
BEGIN:VEVENT
DTSTART;TZID=UTC:20170610T113000
DTEND;TZID=UTC:20170610T130000
DTSTAMP:20260423T192032
CREATED:20161226T214926Z
LAST-MODIFIED:20170602T012100Z
UID:10000303-1497094200-1497099600@halletoakgallery.com
SUMMARY:Lunch and Learn: Doug Kubicek\, Author\, “Grand\, Complete\, and Perfect: The Lavaca County Courthouse”\,
DESCRIPTION:  \n Photo of Lavaca County Courthouse by Richard Payne\, FAIA \nFor Immediate Release: \nJune 1\, 2017 \n  \nHallet Oak Gallery \n115 N Main St\, \nHallettsville\, Texas \nContact: Mieko Mahi \nmieko@halletoakgallery.com \n361-217-7030 \n  \nJUNE 9-10\, 2017: Hallet Oak Gallery to partner with Texas Society of Architects — “Celebrating –through art—the Life and Work of Eugene T. Heiner” \nThere will a reception open to the public on June 10\, 2017 3:00 PM – 4:30 P.M. \nPhoto of Lavaca County Courthouse by Richard Payne\, FAIA \n  \nThe Hallet Oak Gallery in Hallettsville invites artists to participate in a statewide contest to celebrate the work of renowned architect Eugene T. Heiner (1852-1901). Heiner designed numerous courthouses\, county jails and other public buildings in Texas. He was born in New York City\, apprenticed in Chicago\, and studied in Germany. A number of his works are listed on the U.S. National Register of Historic Places\, including the Lavaca County Courthouse. \n  \nThe Texas Society of Architects will provide jurors and assist in awarding prizes. Entries in the contest may be in any medium (painting\, sculpture\, photography\, or other) but must illustrate some aspect of Heiner’s life or work. They will be judged according to age group: adults\, teens\, and children. Entry fee is $20 per artwork submitted\, $15 for students. Two entries include one pass to conference. Winners will receive certificates and subscriptions to the Texas Society of Architects magazine\, and there is a $200 prize for “Best of Show.” \n  \nA two-day celebration on Eugene T. Heiner and historical architecture\, $25 per ticket or $15 for teachers\, seniors and students\, will begin Friday late afternoon\, June 9\, 2017 with Courthouse tours at 4 p.m. to 5 p.m. led by James A. Jakubek from 4 p.m. to 5 p.m. Live music will start at 7:00 PM to 9 PM on June 9\, 2017\, featuring Sheryl Fabrygel\, Country/Gospel singer\, $10 suggested donation door fee. Saturday’s events will begin with coffee and doughnuts at 8 AM with book signings\, followed by a box lunch with speakers. The highlight of the conference will be the main presentation by Doug Kubicek\, Author\, “Grand\, Complete\, and Perfect: The Lavaca County Courthouse”. The Texas Society of Architects contest judges will be Sharon Fleming\, Architecture Director for the Texas Historical Commission and Al York\, Principal at McKinney York Architects\, both from Austin and will speak from 1:30 to 2:30 on Texas Society of Architects\, The Voice of Architecture. The awards will be at an open-house free reception to the public will begin at 3:00 PM – 4:30 P.M. to introduce the winners. \n  \nThe Texas Society of Architects is a state component of the American Institute of Architects. Founded in 1939\, TSA is one of the nation’s largest organizations for the architectural profession\, with 17 regional chapters and more than 6\,500 members. The TSA provided the following statement for this event: \n  \nThe Texas Society of Architects’ mission statement is to be “the voice for Texas architecture\, supporting the creation of safe\, beautiful\, sustainable environments.”  As such\, we are advocates for architecture.  We promote good design and the benefits that good design can bring to our communities. \n  \nTexas’ courthouses are a cherished part of our state’s history\, and Eugene Heiner was instrumental in the creation of many of these beautiful buildings. What better way to celebrate the impact that architecture can bring to our communities than to gather in Hallettsville beneath a beautiful Texas courthouse and honor the work of a great Texas architect. \n  \n  \nAdditional support for the event comes from Dr. Betty Edwards\, owner of the Kahn & Stanzel Building; the City of Hallettsville; and Friends of Hallettsville Downtown Revitalization. Committee persons for the event include Gayle Bludau\, Mieko Mahi\, Cindy Renken\, Tammy Sheffield Woytek and Alice Vickers. \n  \n  \n  \n  \n  \n  \n  \n  \n  \n  \n  \n“Celebrating –through art—the Life and Work of Eugene T. Heiner” \nSecond Annual Hallet Oak Gallery Art Contest & Conference \nPartnering with Texas Society of Architects – June 9–10 2017\nP R O G R A M \n\n\nWednesday\, June 7 \n  \n4:00 – 7:00 PM       Deadline to drop off art works with $20 application fee. $15 for students. \n  \nThursday\, June 8   Preregister for free box lunch $25. Seniors\, students\, teachers $15. \nWalk-ins are welcome and will need to bring own lunch. \n  \nFriday\, June 9 \n  \n4:00 –5:00 PM        Courthouse Tours\, James A. Jakubek. \n  \n  \n7:00 – 9:00 PM       Country/Gospel Music by Sheryl Fabrygel\, $10 door suggested donation. \nSaturday\, June 10 \n  \n8:00 AM — Noon      Donuts and Coffee. Book-Signings. \n  \n9:00 AM – 10 AM     Courthouse tours\, James A. Jakubek. \n12:00 – 1:00 PM       Doug Kubicek\, Author \n“Grand\, Complete\, and Perfect: The Lavaca County Courthouse”. \n  \n1:00 – 1:30 PM         Coffee and Dessert Break. \n  \n  \n1:30 – 2:30 PM       Texas Society of Architects Judges: Al York\, McKinney York Architects and Sharon Fleming\, Architecture Division Director for the Texas Historical Commission. \n  \n3:00 – 4:30 PM       Awards Presentation and Free to the public reception\nConference participants must preregister by June 8 to receive a boxed lunch on Saturday. \n  \n“Celebrating –through art—the Life and Work of Eugene T. Heiner” \nSecond Annual Hallet Oak Gallery Art Contest & Conference \nPartnering with Texas Society of Architects – June 9 –10\, 2017 \nHistoric KAHN & STANZEL BUILDING – HallettsvILLE\, TX  \n  \n  \nR E G I S T R A T I O N   F O R M \n  \n  \n  \nNAME(s):                                                                                                                                                                                                      \n  \n  \n                                                                                                                                                                                                                         \n  \n  \n                                                                                                                                                                                                                         \n  \n  \n                                                                                                                                                                                                                         \n  \n  \n  \n  \nCONTACT ADDRESS:                                                                                                                                                                              \n  \nCITY\, STATE\, ZIP:                                                                                                                                                                                       \n  \n  \nPHONE NUMBER:                                                         EMAIL ADDRESS:                                                                                          \n  \n  \nREGISTRATION INCLUDES LUNCH \n  \n  \nMake checks to Hallet Oak Gallery. $25 per person. $15 for Student\, Teacher\, or Senior Citizen. Walk-ins are welcome but will not receive lunch. \n  \n  \nPRE-REGISTRATON FEE(S) ENCLOSED: $                                   NUMBER OF PERSONS:          \n  \nMAIL TO: \n  \nHallet Oak Gallery \nHistorical Kahn & Stanzel Bldg. \n115 N. Main Street or PO BOX 968  \nHallettsville\, TX 77964 \n  \n  \n  \nRules for “Euguene T. Heiner Historical Art Contest” \n  \n  \n  \n  \nAwards:                           Adults\, ages 20 and up\, First and Second Place for Excellence \nTeens\, ages 12-19\, First and Second Place for Excellence \nChildren\, ages 6-11\, First and Second Place for Excellence \nBest of Show “Judges Choice” $200 cash prize \n  \nEntry Fee:                       $20 per entry ($15 for students)\, two entry fees includes 1 pass to conference \n  \nEntry Drop Off               Wednesday\, June 7\, 2017\, 4:00 — 7:00 PM \n  \nRules:                                 Must be present to win\, all entries except winners must be picked up after \nthe event. \n  \n“Celebrating –through art—the Life and Work of Eugene T. Heiner” \nSecond Annual Hallet Oak Gallery Art Contest & Conference \nPartnering with Texas Society of Architects – June 9–10 2017 \n  \nA distinguished panel of Texas Society of Architects will begin voting on contest entries when the doors open at 9:00 AM Saturday\, June 10\, 2017. Winners will be announced at 3:00 PM. It will be a good time!\nPlease fill out entry form below: \n  \n  \n  \nName:                                                   Street Address:                                                            \n  \nCity:                                                     State and Zip Code:                                                      \n  \nEmail address:                                                               \n  \n  \nTitle of Entry:                                                                 Medium:                                              \n  \nDescription and Location of Inspiration:                                                                                         \n  \n                                                                                                                                                 \n  \nEntry Fee Paid:                                                                          \n  \n  \n  \n  \n  \n  \n  \n  \n \n  \nDoug Kubicek\, Author \nDoug Kubicek\, author of Grand\, Complete\, and Perfect: The Lavaca County Courthouse\, has had a life-long love of Texas history\, especially that of Lavaca County. As a child he explored fields\, bridges\, and graveyards\, bringing home arrowheads\, broken glass and other artifacts. Kubicek has taught history for 27 years\, primarily in Hallettsville. He received the Linden Heck Howell Outstanding Teaching of Texas History Award in 2011. Kubicek\, current president of the Lavaca Historical Commission\, has said\, “As a historian\, it is my belief that the past is endlessly fascinating and worth knowing. Everything and everyone has a history. It is one aspect of life that binds all humanity together\, especially as Texans.” \n \nSharon Fleming\, AIA \n  \nSharon Fleming\, AIA is the director of the Division of Architecture at the Texas Historical Commission (THC) and serves as the Deputy State Historic Preservation Officer. With the Commission since 1995\, Ms. Fleming first served as the architectural reviewer for South Texas. In 2000\, she became courthouse reviewer for central Texas and assumed Assistant Directorship for the nationally acclaimed Texas Historic Courthouse Preservation Program (THCPP) for which she was instrumental in developing the administrative procedures for the program. The THCPP has been recognized by the Texas Society of Architects and the National Trust for Historic Preservation with honor awards. \nSince 2012\, Ms. Fleming has served as Director of this program and has overseen grants in excess of $44 million to plan\, restore and repair historic Texas courthouses. Ms. Fleming also directs Texas Courthouse Stewardship Program created in 2005 to support completed courthouse restoration projects. This program provides technical assistance and training to county staff on how to maintain their newly restored courthouses. The goal is to prevent the facilities from returning to a state of deferred maintenance and disrepair. In addition to annual Texas Courthouse Stewardship workshops held in Austin since 2007\, the program now offers training and networking opportunities on a regional basis. Other programs administered by her staff currently include the federal and state rehabilitation tax credits\, the National Historic Preservation Act and the Antiquities Code of Texas. \nMs. Fleming is a preservation architect and member of the American Institute of Architects. She earned a professional degree in Architecture from Auburn University in Alabama in 1988 and a master’s degree in Architecture with an emphasis in Historic Preservation from Texas Tech University in 1997. With Al York\, FAIA they currently parent 3 teenage boys in Austin. \n  \n \nAl York\, FAIA \n  \nMr. York is a fellow of the American Institute of Architects. He graduated magna cum laude with a Bachelor of Architecture (BArch) from Auburn University and\, after a brief internship in Baltimore\, continued his education at Cornell University (MArch) where he studied with many of the legendary Texas Rangers. He arrived in Texas in 1992 to teach architecture design and theory on the faculty of Texas Tech University. In 1995 he moved to Austin and joined Heather McKinney’s office\, becoming a partner in 1998. \n  \nMr. York’s work consistently explores the poetic potential in the dialogue between the ‘new’ and the ‘old’.  His designs for the Buddy Holly Center in Lubbock\, the Chilling Station #6 in the heart the UT campus\, the McGarrah Jessee Building at 6th and Colorado in downtown Austin\, and the African American Cultural and Heritage Facility in east Austin all perpetuate a sincere\, respectful yet lively conversation between the past and present. \n  \nMcKinney York Architects is a twenty-five-person\, design-driven practice committed to creating beautiful\, responsible architecture in a culture of curiosity and collaboration.  Now celebrating their 34th anniversary they were recently named Texas Society of Architect’s Firm of the Year. Over the past few years their work has received awards from AIA’s Architect Magazine\, the Brick Industry Association\, Texas Society of Architects\, Texas Chapter of the American Society of Landscape Architecture\, Austin AIA\, Preservation Austin\, and Preservation Texas. \n  \n  \n  \n  \n  \n  \n  \n  \n  \n  \n  \n  \n  \n  \n  \n  \n  \n  \n  \n  \n  \n  \nShare this:\n				Share on Facebook (Opens in new window)\n				Facebook\n			\n				Share on X (Opens in new window)\n				X\n			\n				Share on LinkedIn (Opens in new window)\n				LinkedIn\n			\n				Share on Pinterest (Opens in new window)\n				Pinterest\n			More\n				Share on Reddit (Opens in new window)\n				Reddit\n			\n				Share on Tumblr (Opens in new window)\n				Tumblr\n			\n				Email a link to a friend (Opens in new window)\n				Email\n			\n				Print (Opens in new window)\n				Print
URL:https://halletoakgallery.com/event/lunch-and-learn-doug-kubicek-author-grand-complete-and-perfect-the-lavaca-county-courthouse/
LOCATION:Hallet Oak Gallery
CATEGORIES:Annual Event with Nominal fee
ATTACH;FMTTYPE=image/jpeg:https://halletoakgallery.com/wp-content/uploads/2016/12/sm5x5MG_6073.jpg
ORGANIZER;CN="Hallet Oak Gallery":MAILTO:venue@halletoakgallery.com
END:VEVENT
END:VCALENDAR