BEGIN:VCALENDAR
VERSION:2.0
PRODID:-//Hallet Oak Foundation Inc - ECPv6.15.20//NONSGML v1.0//EN
CALSCALE:GREGORIAN
METHOD:PUBLISH
X-ORIGINAL-URL:https://halletoakgallery.com
X-WR-CALDESC:Events for Hallet Oak Foundation Inc
REFRESH-INTERVAL;VALUE=DURATION:PT1H
X-Robots-Tag:noindex
X-PUBLISHED-TTL:PT1H
BEGIN:VTIMEZONE
TZID:UTC
BEGIN:STANDARD
TZOFFSETFROM:+0000
TZOFFSETTO:+0000
TZNAME:UTC
DTSTART:20160101T000000
END:STANDARD
END:VTIMEZONE
BEGIN:VEVENT
DTSTART;TZID=UTC:20180320T140000
DTEND;TZID=UTC:20180320T180000
DTSTAMP:20260423T225547
CREATED:20171031T172540Z
LAST-MODIFIED:20180315T005528Z
UID:10000359-1521554400-1521568800@halletoakgallery.com
SUMMARY:First Day of Spring Chalk Art Show with participating schools. Docents: Linda Cejka\, Georgia Pohl\, M. Mahi\, A. Riske.
DESCRIPTION:  \nGeorgia Pohl\, art instructor\, is offering suggestion on the street drawing and design. \nFirst day of spring celebration at Hallet Oak Gallery on March 20\, 2017. Featuring chalk art with Sacred Heart Catholic School visiting and special performer\, Chis Rybak\, country polka singer.\n  \n  \n  \n  \n  \n  \n  \n  \n  \nFirst Day of Spring Downtown Hallettsville Chalk Art Celebration\, \nArt Sale and Membership Drive  \nOutdoor Guest Performance by Chris Rybak \nDowntown – Free \n  \nOn the first day of Spring\, Tuesday\, March 20\, 2018\, the Hallet Oak Gallery is hosting a 2018 Spring Chalk Art Celebration and Membership Drive inviting schools and families to chalk the parking space in front of Hallet Oak Gallery from 2 pm to 6 pm. Chris Rybak will provide an outdoor guest performance with polka/country live music from 5p-6p. Refreshments will be served inside the Gallery. Admission is free and open to the public. \n  \nWe are excited about this event and need the schools to contact the Gallery\, so we know how much chalk and refreshments to provide. Chris Rybak fans can sign-up for a “flash dance” performance on the street\, which will include the “Country Line Dance\, Chicken Dance” and the The Wave. \n  \nThe faded yellow driveway space in front of the Gallery\, located in the famed Kahn & Stanzel building\, will be transformed into a pastel colored pathway. Elementary\, middle\, and High School students\, as well as families and professional artists are invited to join together to create a temporary masterpiece. \n  \nAs a non-profit\, our motivation is to support the artist and serve the community. But of course we still have expenses to maintain the building and hold events so we have to charge nominal fees sometimes\, and we want to do more marketing to support the artists so they can keep doing their work. For this Spring Celebration we’d like to keep it as a free admission to enjoy the live music and see the artworks. Membership to the Gallery helps with some of the operation costs\, and it shows support to our volunteers\, as does buying the artworks shows support to the artist”\, explains Mieko Mahi\, Executive Director of Hallet Oak Gallery. \nSchools and large groups please RSVP: 361-217-7030. Hallet Oak Foundation is a 501 c 3\, the parent company of Hallet Oak Gallery and Friends of Hallettsville Downtown Revitalization. Hallet Oak Gallery is a fine art\, performance\, and learning center. See www.halletoakgallery.com and www.halletoakfoundation to learn more about the mission of the non-profit. \nShare this:\n				Share on Facebook (Opens in new window)\n				Facebook\n			\n				Share on X (Opens in new window)\n				X\n			\n				Share on LinkedIn (Opens in new window)\n				LinkedIn\n			\n				Share on Pinterest (Opens in new window)\n				Pinterest\n			More\n				Share on Reddit (Opens in new window)\n				Reddit\n			\n				Share on Tumblr (Opens in new window)\n				Tumblr\n			\n				Email a link to a friend (Opens in new window)\n				Email\n			\n				Print (Opens in new window)\n				Print
URL:https://halletoakgallery.com/event/first-day-of-spring-chalk-art-show-with-participating-schools-docents-georgia-pohl-m-mahi-a-riske/
CATEGORIES:Annual Event - Free,Art Exhibit & Reception,Art Lessons,Chalk Art,Live Music
ATTACH;FMTTYPE=image/jpeg:https://halletoakgallery.com/wp-content/uploads/2017/10/web_MG_8250.jpg
ORGANIZER;CN="Hallet Oak Gallery":MAILTO:venue@halletoakgallery.com
END:VEVENT
BEGIN:VEVENT
DTSTART;TZID=UTC:20171209T090000
DTEND;TZID=UTC:20171209T210000
DTSTAMP:20260423T225547
CREATED:20171030T232617Z
LAST-MODIFIED:20180818T100120Z
UID:10000189-1512810000-1512853200@halletoakgallery.com
SUMMARY:Christkindlmarkt Celebration. Docents: AnnaMarie Burroughs\, Arin Caballero\, Gwen Bundy\, Mieko Mahi\, Alice Vickers\, & Aaron Riske. Baking: Colette Burroughs & Gwen Bundy.
DESCRIPTION:Christkindlmart\, Downtown Hallettsville – Sponsored by Dr. Betty J. Edwards and City of Hallettsville. – \nThe Art Tree of Hallettsville High School will be on display: Students received clear glass ornaments with the goal to be creative with a design that expressed their feelings about the season or about something important to them at this time in their lives. Students were encouraged to use items from nature like pinecones\, dried flowers\, small rocks\, branches\, or to feature local animals and flowers in their design.  \nA Tree featuring Moulton ISD will be on display. \n  \n  \nShare this:\n				Share on Facebook (Opens in new window)\n				Facebook\n			\n				Share on X (Opens in new window)\n				X\n			\n				Share on LinkedIn (Opens in new window)\n				LinkedIn\n			\n				Share on Pinterest (Opens in new window)\n				Pinterest\n			More\n				Share on Reddit (Opens in new window)\n				Reddit\n			\n				Share on Tumblr (Opens in new window)\n				Tumblr\n			\n				Email a link to a friend (Opens in new window)\n				Email\n			\n				Print (Opens in new window)\n				Print
URL:https://halletoakgallery.com/event/christkindlmart-downtown-hallettsville-featuring-lindsay-ruppert-original-music-1-to-5-docents-annamarie-arin-gwen-mieko-alice-aaron-baking-colette-burroughs-gwen-bundy/
CATEGORIES:Annual Event - Free,Christkindlmarkt,Live Music
ATTACH;FMTTYPE=image/jpeg:https://halletoakgallery.com/wp-content/uploads/2015/04/IMG_2477.jpg
ORGANIZER;CN="Hallet Oak Gallery":MAILTO:venue@halletoakgallery.com
END:VEVENT
BEGIN:VEVENT
DTSTART;TZID=UTC:20171125T130000
DTEND;TZID=UTC:20171125T170000
DTSTAMP:20260423T225547
CREATED:20161226T102553Z
LAST-MODIFIED:20171125T205707Z
UID:10000298-1511614800-1511629200@halletoakgallery.com
SUMMARY:Christkindlmarkt: The TubaMeisters\, Docents: Linda Cejka\, Betty Jean Metzler\, Gwen Bundy\, Bob Morgenroth\, Alice Vickers\, Mieko Mahi  & Aaron Riske. Baking: Linda Cejka\, Gwen Bundy\, Rita Wachel\, & Mary Jo Christ.
DESCRIPTION:3rd Annual Christkindlmarkt Downtown Hallettsville: Sponsored by Dr. Betty J. Edwards and City of Hallettville\nLive Music 1 m to 5 p.m\, Doors Open 9:00 a.m. to 9:00 p.m \nNov 25: The TubaMeisters\, Traditional German Christmas Music\nTree of Life on display decorated by Hallettsville High School art students!\nSouth Central Texas Art League Art Display\nMeet Blanche & Roy Cavarretta this evening – award-winning gourd artist!!\n\nShare this:\n				Share on Facebook (Opens in new window)\n				Facebook\n			\n				Share on X (Opens in new window)\n				X\n			\n				Share on LinkedIn (Opens in new window)\n				LinkedIn\n			\n				Share on Pinterest (Opens in new window)\n				Pinterest\n			More\n				Share on Reddit (Opens in new window)\n				Reddit\n			\n				Share on Tumblr (Opens in new window)\n				Tumblr\n			\n				Email a link to a friend (Opens in new window)\n				Email\n			\n				Print (Opens in new window)\n				Print
URL:https://halletoakgallery.com/event/christkindlmarkt-downtown-hallettsville-the-tubameisters-traditional-german-christmas-music/
LOCATION:Hallet Oak Gallery
CATEGORIES:Annual Event - Free,Live Music
ATTACH;FMTTYPE=image/jpeg:https://halletoakgallery.com/wp-content/uploads/2016/12/smtubameisters_MG_6034.jpg
ORGANIZER;CN="Hallet Oak Gallery":MAILTO:venue@halletoakgallery.com
END:VEVENT
BEGIN:VEVENT
DTSTART;TZID=UTC:20171021T163000
DTEND;TZID=UTC:20171021T180000
DTSTAMP:20260423T225547
CREATED:20161226T001715Z
LAST-MODIFIED:20171006T075637Z
UID:10000294-1508603400-1508608800@halletoakgallery.com
SUMMARY:Spooktacular Afternoon Party and Pumpkin Contest
DESCRIPTION:Spooktacular Afternoon Party and Pumpkin Contest \nHallet Oak Gallery Pumpkin Contest and Open House:  \n “Spooktacular Afternoon Party” \n Saturday\, October 21\, 2017\, 4:30 pm – 6 pm. \n  \nPlease join in on the family Pumpkin Contest by dropping off decorated\, painted or carved pumpkins at the Hallet Oak Gallery on Friday\, October 20\, 2017 between 4:30 and 6 p.m.  Winners will be announced on Saturday\, October 21\, 2017 at 5:30 pm.   All ages are welcome. There will be prizes! \nJoin the artists for thrills and chills at the Hallet Oak Gallery “Spooktacular Afternoon Party.”   Door prizes! Eat Screaming Hotdogs\, Dress up in your silliest costume and come trick or treat with us at 7 different candy stations.  Take a photo with some special guests with your smart phone\, take a crawl through the haunted tunnel decorated by Sacred Heart Catholic School art students\, visit an artist or two\, and more. Bob Weiss\, a Gallery supporter and volunteer\, constructs the tunnel using large-sized boxes from Ehler’s Furniture store. Designs by Donna donates the creative hand-made prizes. Sweets are prepared and donated by Gwen Bundy and Linda Cejka. \n  \nVoting will begin when the doors open at 9:00 a.m. the day of the party and winners will be announced at 5:30 p.m.  It will be a hauntingly good time! \n  \nKid Monsters  Ages 6 yrs – 11 yrs –3 places – scariest\, cutest\, most creative pumpkin \n  \nTeen Monsters Ages 12 to 14–3 places – scariest\, cutest\, most creative pumpkin \n  \nAdult Monsters 15 & up–3 places – scariest\, cutest\, most creative pumpkin \n  \nAll Around Favorite Pumpkin –People’s choice \n  \nAll divisions will receive gag prizes except All Around Favorite – which will receive a $50 cash prize. \n  \nRules for carved pumpkins: Opening must be on the bottom.  Only battery-operated lights may be used. No candles allowed! \n  \nPumpkins will be voted by the public.  The pumpkins will be numbered and votes cast. The Hallet Oak Halloween Haunted Tunnel will be open during the party\, as well as on Halloween night\, October 31\, from 5 to 9 p.m.\, both days are open free to the public. \n  \nDon’t forget to drop off your pumpkins at the Gallery between 4:30 pm and 6:00pm on Friday\, Oct. 20 2017. Voting will begin at 9:00 a.m. on Saturday\, October 21\, 2017 when HOG opens and continue until 5:20 p.m.   Prizes will be given out at 5:30 p.m. Costumes are encouraged! All pumpkins will be on display. \n  \nShare this:\n				Share on Facebook (Opens in new window)\n				Facebook\n			\n				Share on X (Opens in new window)\n				X\n			\n				Share on LinkedIn (Opens in new window)\n				LinkedIn\n			\n				Share on Pinterest (Opens in new window)\n				Pinterest\n			More\n				Share on Reddit (Opens in new window)\n				Reddit\n			\n				Share on Tumblr (Opens in new window)\n				Tumblr\n			\n				Email a link to a friend (Opens in new window)\n				Email\n			\n				Print (Opens in new window)\n				Print
URL:https://halletoakgallery.com/event/spooktacular-afternoon-party-and-pumpkin-contest/
LOCATION:Hallet Oak Gallery
CATEGORIES:Annual Event - Free
ATTACH;FMTTYPE=image/jpeg:https://halletoakgallery.com/wp-content/uploads/2015/04/IMG_1937.jpg
ORGANIZER;CN="Hallet Oak Gallery":MAILTO:venue@halletoakgallery.com
END:VEVENT
BEGIN:VEVENT
DTSTART;TZID=UTC:20170619T190000
DTEND;TZID=UTC:20170619T210000
DTSTAMP:20260423T225547
CREATED:20161226T202150Z
LAST-MODIFIED:20170616T053813Z
UID:10000162-1497898800-1497906000@halletoakgallery.com
SUMMARY:Juneteenth Celebration Evening Reception featuring Gene Grant
DESCRIPTION:  \nFree Open to the Public Juneteenth Celebration Reception featuring Gene Grant\, Artist 7p.m. to 9 p.m \nOpen House Juneteenth Celebration – Free to the Public \nJUNETEENTH EVENING ARTIST RECEPTION \nGene Grant\, Self-taught Sketch Artist: Retrospect of Freedom and Slaver \nPhotos of Gene Grant by Mieko Mahi \n The Hallet Oak Gallery is hosting an evening reception and Juneteenth celebration for Gene Grant\, a self-taught African-American sketch artist who will be presenting the Retrospect of Freedom and Slavery on June 19\, 2017\, from 7:00 PM till 9 PM. Residing in Hallettsville\, Gene Grant is fourth generation of Hallettsville. His Grandfather helped build the famed Lavaca County Courthouse downtown Hallettsville. Grant has a passion for sketching portraits. Gene just recently has been awarded one month of training classes at the Hallet Oak Gallery through the Steve Beckman Scholarship. The Gallery invites everyone to join in celebrating Black History and honoring this Hallettsville native. Yoakum H-E-B is sponsoring the refreshments for this Juneteenth Celebration. The Hallet Oak Gallery\, a 501 c 3 non-profit fine art\, performance and learning center\, is located at 115 N. Main St\, Hallettsville\, TX\, 77964. For more information\, visit the calendar-of-events at www.halletoakgallery.com. \nShare this:\n				Share on Facebook (Opens in new window)\n				Facebook\n			\n				Share on X (Opens in new window)\n				X\n			\n				Share on LinkedIn (Opens in new window)\n				LinkedIn\n			\n				Share on Pinterest (Opens in new window)\n				Pinterest\n			More\n				Share on Reddit (Opens in new window)\n				Reddit\n			\n				Share on Tumblr (Opens in new window)\n				Tumblr\n			\n				Email a link to a friend (Opens in new window)\n				Email\n			\n				Print (Opens in new window)\n				Print
URL:https://halletoakgallery.com/event/juneteenth-celebration-evening-reception-featuring-gene-grant/
CATEGORIES:Annual Event - Free
ATTACH;FMTTYPE=image/jpeg:https://halletoakgallery.com/wp-content/uploads/2016/12/3x4sm_gene_grant_MG_4074.jpg
ORGANIZER;CN="Hallet Oak Gallery":MAILTO:venue@halletoakgallery.com
END:VEVENT
BEGIN:VEVENT
DTSTART;TZID=UTC:20170610T080000
DTEND;TZID=UTC:20170610T170000
DTSTAMP:20260423T225547
CREATED:20161226T215259Z
LAST-MODIFIED:20170608T171816Z
UID:10000304-1497081600-1497114000@halletoakgallery.com
SUMMARY:Lavaca County Courthouse Tours 9 a.m. to 10 a.m.
DESCRIPTION:20170602_Eugene T. Heiner Release \n  \n2nd Annual Historical Conference and Art Contest Partnering with Texas Society of Architects Celebrating Eugene T. Heiner \n  \n \nShare this:\n				Share on Facebook (Opens in new window)\n				Facebook\n			\n				Share on X (Opens in new window)\n				X\n			\n				Share on LinkedIn (Opens in new window)\n				LinkedIn\n			\n				Share on Pinterest (Opens in new window)\n				Pinterest\n			More\n				Share on Reddit (Opens in new window)\n				Reddit\n			\n				Share on Tumblr (Opens in new window)\n				Tumblr\n			\n				Email a link to a friend (Opens in new window)\n				Email\n			\n				Print (Opens in new window)\n				Print
URL:https://halletoakgallery.com/event/lavaca-county-courthouse-tours-9-a-m-to-10-a-m/
LOCATION:Hallet Oak Gallery
CATEGORIES:Annual Event - Free
ATTACH;FMTTYPE=image/jpeg:https://halletoakgallery.com/wp-content/uploads/2016/12/photo_byTim_Sadler_sm4x5Hallettsville-Court-House-20160811-0026-Edit-2-WEB.jpg
ORGANIZER;CN="Hallet Oak Gallery":MAILTO:venue@halletoakgallery.com
END:VEVENT
BEGIN:VEVENT
DTSTART;TZID=UTC:20170320T140000
DTEND;TZID=UTC:20170320T180000
DTSTAMP:20260423T225547
CREATED:20170303T035647Z
LAST-MODIFIED:20170319T065842Z
UID:10000314-1490018400-1490032800@halletoakgallery.com
SUMMARY:First Day of Spring Downtown Hallettsville Chalk Art Celebration
DESCRIPTION:First Day of Spring Downtown Hallettsville Chalk Art Celebration\, \nArt Sale and Membership Drive  \nOutdoor Guest Performance by Chris Rybak \nDowntown – Free \nOn the first day of Spring\, Monday\, March 20\, 2017\, the Hallet Oak Gallery is hosting a 2017 Spring Chalk Art Celebration and Membership Drive inviting schools and families to chalk the parking space in front of Hallet Oak Gallery from 2 pm to 6 pm. Chris Rybak will provide an outdoor guest performance with polka/country live music. Refreshments will be served inside the Gallery. Admission is free and open to the public. \n“We are excited about this event and need the schools to contact the Gallery\, so we know how much chalk and refreshments to provide. Chris Rybak fans can sign-up for a “flash dance” performance on the street\, which will include the “Country Line Dance\, Chicken Dance” and the “The Wave”\, says Aaron Riske\, Hallet Oak Foundation Assistant Treasurer. \nThe faded yellow driveway space in front of the Gallery\, located in the famed Kahn & Stanzel building\, will be transformed into a pastel colored pathway. Elementary\, middle\, and High School students\, as well as families and professional artists are invited to join together to create a temporary masterpiece. \n“Starting the month of March\, all art in the Gallery will be 10 percent off\, with an additional 15 percent off for members\, making the sale 25 percent off all artworks through the end of the month. Since we are non-profit\, our motivation is different; for example\, we are here to support the artist and serve the community. But of course we still have expenses to maintain the building and hold events so we have to charge nominal fees sometimes\, and we want to do more marketing to support the artists so they can keep doing their work. For this Spring Celebration we’d like to keep it as a free admission to enjoy the live music and see the artworks. Membership to the Gallery helps with some of the operation costs\, and it shows support to our volunteers\, as does buying the artworks shows support to the artist”\, explains Mieko Mahi\, Executive Director of Hallet Oak Gallery. \nSchools and large groups please RSVP: 361-217-7030. Hallet Oak Foundation is a 501 c 3\, the parent company of Hallet Oak Gallery and Friends of Hallettsville Downtown Revitalization. Hallet Oak Gallery is a fine art\, performance\, and learning center. See www.halletoakgallery.com and www.halletoakfoundation.com to learn more about the mission of the non-profit. \nShare this:\n				Share on Facebook (Opens in new window)\n				Facebook\n			\n				Share on X (Opens in new window)\n				X\n			\n				Share on LinkedIn (Opens in new window)\n				LinkedIn\n			\n				Share on Pinterest (Opens in new window)\n				Pinterest\n			More\n				Share on Reddit (Opens in new window)\n				Reddit\n			\n				Share on Tumblr (Opens in new window)\n				Tumblr\n			\n				Email a link to a friend (Opens in new window)\n				Email\n			\n				Print (Opens in new window)\n				Print
URL:https://halletoakgallery.com/event/first-day-of-spring-downtown-hallettsville-chalk-art-celebration/
LOCATION:Hallet Oak Gallery
CATEGORIES:Annual Event - Free,Chalk Art,Historical Building,Live Music,Public Art
ATTACH;FMTTYPE=image/jpeg:https://halletoakgallery.com/wp-content/uploads/2017/02/chris_rybak_sm.jpg
ORGANIZER;CN="Hallet Oak Gallery":MAILTO:venue@halletoakgallery.com
END:VEVENT
END:VCALENDAR